Workbook

Sheet Runners
U1: Men | Y1: Ladies
A2: Men | J2: Ladies | R2: Total
B3: Runner | C3: Benyon's | D3: Wandsworth | E3: Alice Holt | F3: Chawton | G3: Bourne | H3: Fareham RC | I3: Total | K3: Runner | L3: Benyon's | M3: Wandsworth | N3: Alice Holt | O3: Chawton | P3: Bourne | Q3: Fareham RC | V3: Club Position | W3: Race Position | Z3: Club Position | AA3: Race Position
A4: 1 | B4: Adam White | I4: =COUNTIF(C4:H4,1)+COUNTIF(C4:H4,2)+COUNTIF(C4:H4,3)+COUNTIF(C4:H4,4)+COUNTIF(C4:H4,5)+COUNTIF(C4:H4,6)+COUNTIF(C4:H4,7)+COUNTIF(C4:H4,8)+COUNTIF(C4:H4,9)+COUNTIF(C4:H4,10)+COUNTIF(C4:H4,11)+COUNTIF(C4:H4,12)+COUNTIF(C4:H4,13)+COUNTIF(C4:H4,14)+COUNTIF(C4:H4,15)+COUNTIF(C4:H4,16)+COUNTIF(C4:H4,17)+COUNTIF(C4:H4,18)+COUNTIF(C4:H4,19)+COUNTIF(C4:H4,20)+COUNTIF(C4:H4,21)+COUNTIF(C4:H4,22)+COUNTIF(C4:H4,23)+COUNTIF(C4:H4,24)+COUNTIF(C4:H4,25)+COUNTIF(C4:H4,26)+COUNTIF(C4:H4,27)+COUNTIF(C4:H4,28)+COUNTIF(C4:H4,29)+COUNTIF(C4:H4,30)+COUNTIF(C4:H4,31)+COUNTIF(C4:H4,32)+COUNTIF(C4:H4,33)+COUNTIF(C4:H4,34)+COUNTIF(C4:H4,35)+COUNTIF(C4:H4,36)+COUNTIF(C4:H4,37)+COUNTIF(C4:H4,38)+COUNTIF(C4:H4,39)+COUNTIF(C4:H4,40)+COUNTIF(C4:H4,41)+COUNTIF(C4:H4,42)+COUNTIF(C4:H4,43)+COUNTIF(C4:H4,44)+COUNTIF(C4:H4,45)+COUNTIF(C4:H4,46)+COUNTIF(C4:H4,47)+COUNTIF(C4:H4,48)+COUNTIF(C4:H4,49)+COUNTIF(C4:H4,50)+COUNTIF(C4:H4,51)+COUNTIF(C4:H4,52)+COUNTIF(C4:H4,53)+COUNTIF(C4:H4,54)+COUNTIF(C4:H4,55)+COUNTIF(C4:H4,56)+COUNTIF(C4:H4,57)+COUNTIF(C4:H4,58)+COUNTIF(C4:H4,59) -> 0 | J4: 1 | K4: Angie Agate | R4: =COUNTIF(L4:Q4,1)+COUNTIF(L4:Q4,2)+COUNTIF(L4:Q4,3)+COUNTIF(L4:Q4,4)+COUNTIF(L4:Q4,5)+COUNTIF(L4:Q4,6)+COUNTIF(L4:Q4,7)+COUNTIF(L4:Q4,8)+COUNTIF(L4:Q4,9)+COUNTIF(L4:Q4,10)+COUNTIF(L4:Q4,11)+COUNTIF(L4:Q4,12)+COUNTIF(L4:Q4,13)+COUNTIF(L4:Q4,14)+COUNTIF(L4:Q4,15)+COUNTIF(L4:Q4,16)+COUNTIF(L4:Q4,17)+COUNTIF(L4:Q4,18)+COUNTIF(L4:Q4,19)+COUNTIF(L4:Q4,20)+COUNTIF(L4:Q4,21)+COUNTIF(L4:Q4,22)+COUNTIF(L4:Q4,23)+COUNTIF(L4:Q4,24)+COUNTIF(L4:Q4,25)+COUNTIF(L4:Q4,26)+COUNTIF(L4:Q4,27)+COUNTIF(L4:Q4,28)+COUNTIF(L4:Q4,29)+COUNTIF(L4:Q4,30)+COUNTIF(L4:Q4,31)+COUNTIF(L4:Q4,32)+COUNTIF(L4:Q4,33)+COUNTIF(L4:Q4,34)+COUNTIF(L4:Q4,35)+COUNTIF(L4:Q4,36)+COUNTIF(L4:Q4,37)+COUNTIF(L4:Q4,38)+COUNTIF(L4:Q4,39)+COUNTIF(L4:Q4,40)+COUNTIF(L4:Q4,41)+COUNTIF(L4:Q4,42)+COUNTIF(L4:Q4,43)+COUNTIF(L4:Q4,44)+COUNTIF(L4:Q4,45)+COUNTIF(L4:Q4,46)+COUNTIF(L4:Q4,47)+COUNTIF(L4:Q4,48)+COUNTIF(L4:Q4,49)+COUNTIF(L4:Q4,50)+COUNTIF(L4:Q4,51)+COUNTIF(L4:Q4,52)+COUNTIF(L4:Q4,53)+COUNTIF(L4:Q4,54)+COUNTIF(L4:Q4,55)+COUNTIF(L4:Q4,56)+COUNTIF(L4:Q4,57)+COUNTIF(L4:Q4,58)+COUNTIF(L4:Q4,59) -> 0 | U4: Adam White | Y4: Angie Agate
A5: 2 | B5: Alex Blake | C5: 5 | I5: =COUNTIF(C5:H5,1)+COUNTIF(C5:H5,2)+COUNTIF(C5:H5,3)+COUNTIF(C5:H5,4)+COUNTIF(C5:H5,5)+COUNTIF(C5:H5,6)+COUNTIF(C5:H5,7)+COUNTIF(C5:H5,8)+COUNTIF(C5:H5,9)+COUNTIF(C5:H5,10)+COUNTIF(C5:H5,11)+COUNTIF(C5:H5,12)+COUNTIF(C5:H5,13)+COUNTIF(C5:H5,14)+COUNTIF(C5:H5,15)+COUNTIF(C5:H5,16)+COUNTIF(C5:H5,17)+COUNTIF(C5:H5,18)+COUNTIF(C5:H5,19)+COUNTIF(C5:H5,20)+COUNTIF(C5:H5,21)+COUNTIF(C5:H5,22)+COUNTIF(C5:H5,23)+COUNTIF(C5:H5,24)+COUNTIF(C5:H5,25)+COUNTIF(C5:H5,26)+COUNTIF(C5:H5,27)+COUNTIF(C5:H5,28)+COUNTIF(C5:H5,29)+COUNTIF(C5:H5,30)+COUNTIF(C5:H5,31)+COUNTIF(C5:H5,32)+COUNTIF(C5:H5,33)+COUNTIF(C5:H5,34)+COUNTIF(C5:H5,35)+COUNTIF(C5:H5,36)+COUNTIF(C5:H5,37)+COUNTIF(C5:H5,38)+COUNTIF(C5:H5,39)+COUNTIF(C5:H5,40)+COUNTIF(C5:H5,41)+COUNTIF(C5:H5,42)+COUNTIF(C5:H5,43)+COUNTIF(C5:H5,44)+COUNTIF(C5:H5,45)+COUNTIF(C5:H5,46)+COUNTIF(C5:H5,47)+COUNTIF(C5:H5,48)+COUNTIF(C5:H5,49)+COUNTIF(C5:H5,50)+COUNTIF(C5:H5,51)+COUNTIF(C5:H5,52)+COUNTIF(C5:H5,53)+COUNTIF(C5:H5,54)+COUNTIF(C5:H5,55)+COUNTIF(C5:H5,56)+COUNTIF(C5:H5,57)+COUNTIF(C5:H5,58)+COUNTIF(C5:H5,59) -> 1 | J5: 2 | K5: Athene Ryan | R5: =COUNTIF(L5:Q5,1)+COUNTIF(L5:Q5,2)+COUNTIF(L5:Q5,3)+COUNTIF(L5:Q5,4)+COUNTIF(L5:Q5,5)+COUNTIF(L5:Q5,6)+COUNTIF(L5:Q5,7)+COUNTIF(L5:Q5,8)+COUNTIF(L5:Q5,9)+COUNTIF(L5:Q5,10)+COUNTIF(L5:Q5,11)+COUNTIF(L5:Q5,12)+COUNTIF(L5:Q5,13)+COUNTIF(L5:Q5,14)+COUNTIF(L5:Q5,15)+COUNTIF(L5:Q5,16)+COUNTIF(L5:Q5,17)+COUNTIF(L5:Q5,18)+COUNTIF(L5:Q5,19)+COUNTIF(L5:Q5,20)+COUNTIF(L5:Q5,21)+COUNTIF(L5:Q5,22)+COUNTIF(L5:Q5,23)+COUNTIF(L5:Q5,24)+COUNTIF(L5:Q5,25)+COUNTIF(L5:Q5,26)+COUNTIF(L5:Q5,27)+COUNTIF(L5:Q5,28)+COUNTIF(L5:Q5,29)+COUNTIF(L5:Q5,30)+COUNTIF(L5:Q5,31)+COUNTIF(L5:Q5,32)+COUNTIF(L5:Q5,33)+COUNTIF(L5:Q5,34)+COUNTIF(L5:Q5,35)+COUNTIF(L5:Q5,36)+COUNTIF(L5:Q5,37)+COUNTIF(L5:Q5,38)+COUNTIF(L5:Q5,39)+COUNTIF(L5:Q5,40)+COUNTIF(L5:Q5,41)+COUNTIF(L5:Q5,42)+COUNTIF(L5:Q5,43)+COUNTIF(L5:Q5,44)+COUNTIF(L5:Q5,45)+COUNTIF(L5:Q5,46)+COUNTIF(L5:Q5,47)+COUNTIF(L5:Q5,48)+COUNTIF(L5:Q5,49)+COUNTIF(L5:Q5,50)+COUNTIF(L5:Q5,51)+COUNTIF(L5:Q5,52)+COUNTIF(L5:Q5,53)+COUNTIF(L5:Q5,54)+COUNTIF(L5:Q5,55)+COUNTIF(L5:Q5,56)+COUNTIF(L5:Q5,57)+COUNTIF(L5:Q5,58)+COUNTIF(L5:Q5,59) -> 0 | U5: Alan McVitie | Y5: Anita Crawley
A6: 3 | B6: Andrew Meredith | I6: =COUNTIF(C6:H6,1)+COUNTIF(C6:H6,2)+COUNTIF(C6:H6,3)+COUNTIF(C6:H6,4)+COUNTIF(C6:H6,5)+COUNTIF(C6:H6,6)+COUNTIF(C6:H6,7)+COUNTIF(C6:H6,8)+COUNTIF(C6:H6,9)+COUNTIF(C6:H6,10)+COUNTIF(C6:H6,11)+COUNTIF(C6:H6,12)+COUNTIF(C6:H6,13)+COUNTIF(C6:H6,14)+COUNTIF(C6:H6,15)+COUNTIF(C6:H6,16)+COUNTIF(C6:H6,17)+COUNTIF(C6:H6,18)+COUNTIF(C6:H6,19)+COUNTIF(C6:H6,20)+COUNTIF(C6:H6,21)+COUNTIF(C6:H6,22)+COUNTIF(C6:H6,23)+COUNTIF(C6:H6,24)+COUNTIF(C6:H6,25)+COUNTIF(C6:H6,26)+COUNTIF(C6:H6,27)+COUNTIF(C6:H6,28)+COUNTIF(C6:H6,29)+COUNTIF(C6:H6,30)+COUNTIF(C6:H6,31)+COUNTIF(C6:H6,32)+COUNTIF(C6:H6,33)+COUNTIF(C6:H6,34)+COUNTIF(C6:H6,35)+COUNTIF(C6:H6,36)+COUNTIF(C6:H6,37)+COUNTIF(C6:H6,38)+COUNTIF(C6:H6,39)+COUNTIF(C6:H6,40)+COUNTIF(C6:H6,41)+COUNTIF(C6:H6,42)+COUNTIF(C6:H6,43)+COUNTIF(C6:H6,44)+COUNTIF(C6:H6,45)+COUNTIF(C6:H6,46)+COUNTIF(C6:H6,47)+COUNTIF(C6:H6,48)+COUNTIF(C6:H6,49)+COUNTIF(C6:H6,50)+COUNTIF(C6:H6,51)+COUNTIF(C6:H6,52)+COUNTIF(C6:H6,53)+COUNTIF(C6:H6,54)+COUNTIF(C6:H6,55)+COUNTIF(C6:H6,56)+COUNTIF(C6:H6,57)+COUNTIF(C6:H6,58)+COUNTIF(C6:H6,59) -> 0 | J6: 3 | K6: Bekki Leaves | R6: =COUNTIF(L6:Q6,1)+COUNTIF(L6:Q6,2)+COUNTIF(L6:Q6,3)+COUNTIF(L6:Q6,4)+COUNTIF(L6:Q6,5)+COUNTIF(L6:Q6,6)+COUNTIF(L6:Q6,7)+COUNTIF(L6:Q6,8)+COUNTIF(L6:Q6,9)+COUNTIF(L6:Q6,10)+COUNTIF(L6:Q6,11)+COUNTIF(L6:Q6,12)+COUNTIF(L6:Q6,13)+COUNTIF(L6:Q6,14)+COUNTIF(L6:Q6,15)+COUNTIF(L6:Q6,16)+COUNTIF(L6:Q6,17)+COUNTIF(L6:Q6,18)+COUNTIF(L6:Q6,19)+COUNTIF(L6:Q6,20)+COUNTIF(L6:Q6,21)+COUNTIF(L6:Q6,22)+COUNTIF(L6:Q6,23)+COUNTIF(L6:Q6,24)+COUNTIF(L6:Q6,25)+COUNTIF(L6:Q6,26)+COUNTIF(L6:Q6,27)+COUNTIF(L6:Q6,28)+COUNTIF(L6:Q6,29)+COUNTIF(L6:Q6,30)+COUNTIF(L6:Q6,31)+COUNTIF(L6:Q6,32)+COUNTIF(L6:Q6,33)+COUNTIF(L6:Q6,34)+COUNTIF(L6:Q6,35)+COUNTIF(L6:Q6,36)+COUNTIF(L6:Q6,37)+COUNTIF(L6:Q6,38)+COUNTIF(L6:Q6,39)+COUNTIF(L6:Q6,40)+COUNTIF(L6:Q6,41)+COUNTIF(L6:Q6,42)+COUNTIF(L6:Q6,43)+COUNTIF(L6:Q6,44)+COUNTIF(L6:Q6,45)+COUNTIF(L6:Q6,46)+COUNTIF(L6:Q6,47)+COUNTIF(L6:Q6,48)+COUNTIF(L6:Q6,49)+COUNTIF(L6:Q6,50)+COUNTIF(L6:Q6,51)+COUNTIF(L6:Q6,52)+COUNTIF(L6:Q6,53)+COUNTIF(L6:Q6,54)+COUNTIF(L6:Q6,55)+COUNTIF(L6:Q6,56)+COUNTIF(L6:Q6,57)+COUNTIF(L6:Q6,58)+COUNTIF(L6:Q6,59) -> 0 | U6: Alex Blake | Y6: Athene Ryan
A7: 4 | B7: Andy Newcome | C7: 17 | I7: =COUNTIF(C7:H7,1)+COUNTIF(C7:H7,2)+COUNTIF(C7:H7,3)+COUNTIF(C7:H7,4)+COUNTIF(C7:H7,5)+COUNTIF(C7:H7,6)+COUNTIF(C7:H7,7)+COUNTIF(C7:H7,8)+COUNTIF(C7:H7,9)+COUNTIF(C7:H7,10)+COUNTIF(C7:H7,11)+COUNTIF(C7:H7,12)+COUNTIF(C7:H7,13)+COUNTIF(C7:H7,14)+COUNTIF(C7:H7,15)+COUNTIF(C7:H7,16)+COUNTIF(C7:H7,17)+COUNTIF(C7:H7,18)+COUNTIF(C7:H7,19)+COUNTIF(C7:H7,20)+COUNTIF(C7:H7,21)+COUNTIF(C7:H7,22)+COUNTIF(C7:H7,23)+COUNTIF(C7:H7,24)+COUNTIF(C7:H7,25)+COUNTIF(C7:H7,26)+COUNTIF(C7:H7,27)+COUNTIF(C7:H7,28)+COUNTIF(C7:H7,29)+COUNTIF(C7:H7,30)+COUNTIF(C7:H7,31)+COUNTIF(C7:H7,32)+COUNTIF(C7:H7,33)+COUNTIF(C7:H7,34)+COUNTIF(C7:H7,35)+COUNTIF(C7:H7,36)+COUNTIF(C7:H7,37)+COUNTIF(C7:H7,38)+COUNTIF(C7:H7,39)+COUNTIF(C7:H7,40)+COUNTIF(C7:H7,41)+COUNTIF(C7:H7,42)+COUNTIF(C7:H7,43)+COUNTIF(C7:H7,44)+COUNTIF(C7:H7,45)+COUNTIF(C7:H7,46)+COUNTIF(C7:H7,47)+COUNTIF(C7:H7,48)+COUNTIF(C7:H7,49)+COUNTIF(C7:H7,50)+COUNTIF(C7:H7,51)+COUNTIF(C7:H7,52)+COUNTIF(C7:H7,53)+COUNTIF(C7:H7,54)+COUNTIF(C7:H7,55)+COUNTIF(C7:H7,56)+COUNTIF(C7:H7,57)+COUNTIF(C7:H7,58)+COUNTIF(C7:H7,59) -> 1 | J7: 4 | K7: Belinda Lewis-Jones | R7: =COUNTIF(L7:Q7,1)+COUNTIF(L7:Q7,2)+COUNTIF(L7:Q7,3)+COUNTIF(L7:Q7,4)+COUNTIF(L7:Q7,5)+COUNTIF(L7:Q7,6)+COUNTIF(L7:Q7,7)+COUNTIF(L7:Q7,8)+COUNTIF(L7:Q7,9)+COUNTIF(L7:Q7,10)+COUNTIF(L7:Q7,11)+COUNTIF(L7:Q7,12)+COUNTIF(L7:Q7,13)+COUNTIF(L7:Q7,14)+COUNTIF(L7:Q7,15)+COUNTIF(L7:Q7,16)+COUNTIF(L7:Q7,17)+COUNTIF(L7:Q7,18)+COUNTIF(L7:Q7,19)+COUNTIF(L7:Q7,20)+COUNTIF(L7:Q7,21)+COUNTIF(L7:Q7,22)+COUNTIF(L7:Q7,23)+COUNTIF(L7:Q7,24)+COUNTIF(L7:Q7,25)+COUNTIF(L7:Q7,26)+COUNTIF(L7:Q7,27)+COUNTIF(L7:Q7,28)+COUNTIF(L7:Q7,29)+COUNTIF(L7:Q7,30)+COUNTIF(L7:Q7,31)+COUNTIF(L7:Q7,32)+COUNTIF(L7:Q7,33)+COUNTIF(L7:Q7,34)+COUNTIF(L7:Q7,35)+COUNTIF(L7:Q7,36)+COUNTIF(L7:Q7,37)+COUNTIF(L7:Q7,38)+COUNTIF(L7:Q7,39)+COUNTIF(L7:Q7,40)+COUNTIF(L7:Q7,41)+COUNTIF(L7:Q7,42)+COUNTIF(L7:Q7,43)+COUNTIF(L7:Q7,44)+COUNTIF(L7:Q7,45)+COUNTIF(L7:Q7,46)+COUNTIF(L7:Q7,47)+COUNTIF(L7:Q7,48)+COUNTIF(L7:Q7,49)+COUNTIF(L7:Q7,50)+COUNTIF(L7:Q7,51)+COUNTIF(L7:Q7,52)+COUNTIF(L7:Q7,53)+COUNTIF(L7:Q7,54)+COUNTIF(L7:Q7,55)+COUNTIF(L7:Q7,56)+COUNTIF(L7:Q7,57)+COUNTIF(L7:Q7,58)+COUNTIF(L7:Q7,59) -> 0 | U7: Andrew Meredith | Y7: Bekki Leaves
A8: 5 | B8: Andy Taphouse | C8: 7 | I8: =COUNTIF(C8:H8,1)+COUNTIF(C8:H8,2)+COUNTIF(C8:H8,3)+COUNTIF(C8:H8,4)+COUNTIF(C8:H8,5)+COUNTIF(C8:H8,6)+COUNTIF(C8:H8,7)+COUNTIF(C8:H8,8)+COUNTIF(C8:H8,9)+COUNTIF(C8:H8,10)+COUNTIF(C8:H8,11)+COUNTIF(C8:H8,12)+COUNTIF(C8:H8,13)+COUNTIF(C8:H8,14)+COUNTIF(C8:H8,15)+COUNTIF(C8:H8,16)+COUNTIF(C8:H8,17)+COUNTIF(C8:H8,18)+COUNTIF(C8:H8,19)+COUNTIF(C8:H8,20)+COUNTIF(C8:H8,21)+COUNTIF(C8:H8,22)+COUNTIF(C8:H8,23)+COUNTIF(C8:H8,24)+COUNTIF(C8:H8,25)+COUNTIF(C8:H8,26)+COUNTIF(C8:H8,27)+COUNTIF(C8:H8,28)+COUNTIF(C8:H8,29)+COUNTIF(C8:H8,30)+COUNTIF(C8:H8,31)+COUNTIF(C8:H8,32)+COUNTIF(C8:H8,33)+COUNTIF(C8:H8,34)+COUNTIF(C8:H8,35)+COUNTIF(C8:H8,36)+COUNTIF(C8:H8,37)+COUNTIF(C8:H8,38)+COUNTIF(C8:H8,39)+COUNTIF(C8:H8,40)+COUNTIF(C8:H8,41)+COUNTIF(C8:H8,42)+COUNTIF(C8:H8,43)+COUNTIF(C8:H8,44)+COUNTIF(C8:H8,45)+COUNTIF(C8:H8,46)+COUNTIF(C8:H8,47)+COUNTIF(C8:H8,48)+COUNTIF(C8:H8,49)+COUNTIF(C8:H8,50)+COUNTIF(C8:H8,51)+COUNTIF(C8:H8,52)+COUNTIF(C8:H8,53)+COUNTIF(C8:H8,54)+COUNTIF(C8:H8,55)+COUNTIF(C8:H8,56)+COUNTIF(C8:H8,57)+COUNTIF(C8:H8,58)+COUNTIF(C8:H8,59) -> 1 | J8: 5 | K8: Bridie Rowlands | L8: 3 | R8: =COUNTIF(L8:Q8,1)+COUNTIF(L8:Q8,2)+COUNTIF(L8:Q8,3)+COUNTIF(L8:Q8,4)+COUNTIF(L8:Q8,5)+COUNTIF(L8:Q8,6)+COUNTIF(L8:Q8,7)+COUNTIF(L8:Q8,8)+COUNTIF(L8:Q8,9)+COUNTIF(L8:Q8,10)+COUNTIF(L8:Q8,11)+COUNTIF(L8:Q8,12)+COUNTIF(L8:Q8,13)+COUNTIF(L8:Q8,14)+COUNTIF(L8:Q8,15)+COUNTIF(L8:Q8,16)+COUNTIF(L8:Q8,17)+COUNTIF(L8:Q8,18)+COUNTIF(L8:Q8,19)+COUNTIF(L8:Q8,20)+COUNTIF(L8:Q8,21)+COUNTIF(L8:Q8,22)+COUNTIF(L8:Q8,23)+COUNTIF(L8:Q8,24)+COUNTIF(L8:Q8,25)+COUNTIF(L8:Q8,26)+COUNTIF(L8:Q8,27)+COUNTIF(L8:Q8,28)+COUNTIF(L8:Q8,29)+COUNTIF(L8:Q8,30)+COUNTIF(L8:Q8,31)+COUNTIF(L8:Q8,32)+COUNTIF(L8:Q8,33)+COUNTIF(L8:Q8,34)+COUNTIF(L8:Q8,35)+COUNTIF(L8:Q8,36)+COUNTIF(L8:Q8,37)+COUNTIF(L8:Q8,38)+COUNTIF(L8:Q8,39)+COUNTIF(L8:Q8,40)+COUNTIF(L8:Q8,41)+COUNTIF(L8:Q8,42)+COUNTIF(L8:Q8,43)+COUNTIF(L8:Q8,44)+COUNTIF(L8:Q8,45)+COUNTIF(L8:Q8,46)+COUNTIF(L8:Q8,47)+COUNTIF(L8:Q8,48)+COUNTIF(L8:Q8,49)+COUNTIF(L8:Q8,50)+COUNTIF(L8:Q8,51)+COUNTIF(L8:Q8,52)+COUNTIF(L8:Q8,53)+COUNTIF(L8:Q8,54)+COUNTIF(L8:Q8,55)+COUNTIF(L8:Q8,56)+COUNTIF(L8:Q8,57)+COUNTIF(L8:Q8,58)+COUNTIF(L8:Q8,59) -> 1 | U8: Andy Newcome | Y8: Belinda Lewis-Jones
A9: 6 | B9: Billy Chapman | I9: =COUNTIF(C9:H9,1)+COUNTIF(C9:H9,2)+COUNTIF(C9:H9,3)+COUNTIF(C9:H9,4)+COUNTIF(C9:H9,5)+COUNTIF(C9:H9,6)+COUNTIF(C9:H9,7)+COUNTIF(C9:H9,8)+COUNTIF(C9:H9,9)+COUNTIF(C9:H9,10)+COUNTIF(C9:H9,11)+COUNTIF(C9:H9,12)+COUNTIF(C9:H9,13)+COUNTIF(C9:H9,14)+COUNTIF(C9:H9,15)+COUNTIF(C9:H9,16)+COUNTIF(C9:H9,17)+COUNTIF(C9:H9,18)+COUNTIF(C9:H9,19)+COUNTIF(C9:H9,20)+COUNTIF(C9:H9,21)+COUNTIF(C9:H9,22)+COUNTIF(C9:H9,23)+COUNTIF(C9:H9,24)+COUNTIF(C9:H9,25)+COUNTIF(C9:H9,26)+COUNTIF(C9:H9,27)+COUNTIF(C9:H9,28)+COUNTIF(C9:H9,29)+COUNTIF(C9:H9,30)+COUNTIF(C9:H9,31)+COUNTIF(C9:H9,32)+COUNTIF(C9:H9,33)+COUNTIF(C9:H9,34)+COUNTIF(C9:H9,35)+COUNTIF(C9:H9,36)+COUNTIF(C9:H9,37)+COUNTIF(C9:H9,38)+COUNTIF(C9:H9,39)+COUNTIF(C9:H9,40)+COUNTIF(C9:H9,41)+COUNTIF(C9:H9,42)+COUNTIF(C9:H9,43)+COUNTIF(C9:H9,44)+COUNTIF(C9:H9,45)+COUNTIF(C9:H9,46)+COUNTIF(C9:H9,47)+COUNTIF(C9:H9,48)+COUNTIF(C9:H9,49)+COUNTIF(C9:H9,50)+COUNTIF(C9:H9,51)+COUNTIF(C9:H9,52)+COUNTIF(C9:H9,53)+COUNTIF(C9:H9,54)+COUNTIF(C9:H9,55)+COUNTIF(C9:H9,56)+COUNTIF(C9:H9,57)+COUNTIF(C9:H9,58)+COUNTIF(C9:H9,59) -> 0 | J9: 6 | K9: Caroline Whiting | L9: 4 | R9: =COUNTIF(L9:Q9,1)+COUNTIF(L9:Q9,2)+COUNTIF(L9:Q9,3)+COUNTIF(L9:Q9,4)+COUNTIF(L9:Q9,5)+COUNTIF(L9:Q9,6)+COUNTIF(L9:Q9,7)+COUNTIF(L9:Q9,8)+COUNTIF(L9:Q9,9)+COUNTIF(L9:Q9,10)+COUNTIF(L9:Q9,11)+COUNTIF(L9:Q9,12)+COUNTIF(L9:Q9,13)+COUNTIF(L9:Q9,14)+COUNTIF(L9:Q9,15)+COUNTIF(L9:Q9,16)+COUNTIF(L9:Q9,17)+COUNTIF(L9:Q9,18)+COUNTIF(L9:Q9,19)+COUNTIF(L9:Q9,20)+COUNTIF(L9:Q9,21)+COUNTIF(L9:Q9,22)+COUNTIF(L9:Q9,23)+COUNTIF(L9:Q9,24)+COUNTIF(L9:Q9,25)+COUNTIF(L9:Q9,26)+COUNTIF(L9:Q9,27)+COUNTIF(L9:Q9,28)+COUNTIF(L9:Q9,29)+COUNTIF(L9:Q9,30)+COUNTIF(L9:Q9,31)+COUNTIF(L9:Q9,32)+COUNTIF(L9:Q9,33)+COUNTIF(L9:Q9,34)+COUNTIF(L9:Q9,35)+COUNTIF(L9:Q9,36)+COUNTIF(L9:Q9,37)+COUNTIF(L9:Q9,38)+COUNTIF(L9:Q9,39)+COUNTIF(L9:Q9,40)+COUNTIF(L9:Q9,41)+COUNTIF(L9:Q9,42)+COUNTIF(L9:Q9,43)+COUNTIF(L9:Q9,44)+COUNTIF(L9:Q9,45)+COUNTIF(L9:Q9,46)+COUNTIF(L9:Q9,47)+COUNTIF(L9:Q9,48)+COUNTIF(L9:Q9,49)+COUNTIF(L9:Q9,50)+COUNTIF(L9:Q9,51)+COUNTIF(L9:Q9,52)+COUNTIF(L9:Q9,53)+COUNTIF(L9:Q9,54)+COUNTIF(L9:Q9,55)+COUNTIF(L9:Q9,56)+COUNTIF(L9:Q9,57)+COUNTIF(L9:Q9,58)+COUNTIF(L9:Q9,59) -> 1 | U9: Andy Taphouse | Y9: Bridie Rowlands
A10: 7 | B10: Brent Latham | C10: 18 | I10: =COUNTIF(C10:H10,1)+COUNTIF(C10:H10,2)+COUNTIF(C10:H10,3)+COUNTIF(C10:H10,4)+COUNTIF(C10:H10,5)+COUNTIF(C10:H10,6)+COUNTIF(C10:H10,7)+COUNTIF(C10:H10,8)+COUNTIF(C10:H10,9)+COUNTIF(C10:H10,10)+COUNTIF(C10:H10,11)+COUNTIF(C10:H10,12)+COUNTIF(C10:H10,13)+COUNTIF(C10:H10,14)+COUNTIF(C10:H10,15)+COUNTIF(C10:H10,16)+COUNTIF(C10:H10,17)+COUNTIF(C10:H10,18)+COUNTIF(C10:H10,19)+COUNTIF(C10:H10,20)+COUNTIF(C10:H10,21)+COUNTIF(C10:H10,22)+COUNTIF(C10:H10,23)+COUNTIF(C10:H10,24)+COUNTIF(C10:H10,25)+COUNTIF(C10:H10,26)+COUNTIF(C10:H10,27)+COUNTIF(C10:H10,28)+COUNTIF(C10:H10,29)+COUNTIF(C10:H10,30)+COUNTIF(C10:H10,31)+COUNTIF(C10:H10,32)+COUNTIF(C10:H10,33)+COUNTIF(C10:H10,34)+COUNTIF(C10:H10,35)+COUNTIF(C10:H10,36)+COUNTIF(C10:H10,37)+COUNTIF(C10:H10,38)+COUNTIF(C10:H10,39)+COUNTIF(C10:H10,40)+COUNTIF(C10:H10,41)+COUNTIF(C10:H10,42)+COUNTIF(C10:H10,43)+COUNTIF(C10:H10,44)+COUNTIF(C10:H10,45)+COUNTIF(C10:H10,46)+COUNTIF(C10:H10,47)+COUNTIF(C10:H10,48)+COUNTIF(C10:H10,49)+COUNTIF(C10:H10,50)+COUNTIF(C10:H10,51)+COUNTIF(C10:H10,52)+COUNTIF(C10:H10,53)+COUNTIF(C10:H10,54)+COUNTIF(C10:H10,55)+COUNTIF(C10:H10,56)+COUNTIF(C10:H10,57)+COUNTIF(C10:H10,58)+COUNTIF(C10:H10,59) -> 1 | J10: 7 | K10: Christina Ball | R10: =COUNTIF(L10:Q10,1)+COUNTIF(L10:Q10,2)+COUNTIF(L10:Q10,3)+COUNTIF(L10:Q10,4)+COUNTIF(L10:Q10,5)+COUNTIF(L10:Q10,6)+COUNTIF(L10:Q10,7)+COUNTIF(L10:Q10,8)+COUNTIF(L10:Q10,9)+COUNTIF(L10:Q10,10)+COUNTIF(L10:Q10,11)+COUNTIF(L10:Q10,12)+COUNTIF(L10:Q10,13)+COUNTIF(L10:Q10,14)+COUNTIF(L10:Q10,15)+COUNTIF(L10:Q10,16)+COUNTIF(L10:Q10,17)+COUNTIF(L10:Q10,18)+COUNTIF(L10:Q10,19)+COUNTIF(L10:Q10,20)+COUNTIF(L10:Q10,21)+COUNTIF(L10:Q10,22)+COUNTIF(L10:Q10,23)+COUNTIF(L10:Q10,24)+COUNTIF(L10:Q10,25)+COUNTIF(L10:Q10,26)+COUNTIF(L10:Q10,27)+COUNTIF(L10:Q10,28)+COUNTIF(L10:Q10,29)+COUNTIF(L10:Q10,30)+COUNTIF(L10:Q10,31)+COUNTIF(L10:Q10,32)+COUNTIF(L10:Q10,33)+COUNTIF(L10:Q10,34)+COUNTIF(L10:Q10,35)+COUNTIF(L10:Q10,36)+COUNTIF(L10:Q10,37)+COUNTIF(L10:Q10,38)+COUNTIF(L10:Q10,39)+COUNTIF(L10:Q10,40)+COUNTIF(L10:Q10,41)+COUNTIF(L10:Q10,42)+COUNTIF(L10:Q10,43)+COUNTIF(L10:Q10,44)+COUNTIF(L10:Q10,45)+COUNTIF(L10:Q10,46)+COUNTIF(L10:Q10,47)+COUNTIF(L10:Q10,48)+COUNTIF(L10:Q10,49)+COUNTIF(L10:Q10,50)+COUNTIF(L10:Q10,51)+COUNTIF(L10:Q10,52)+COUNTIF(L10:Q10,53)+COUNTIF(L10:Q10,54)+COUNTIF(L10:Q10,55)+COUNTIF(L10:Q10,56)+COUNTIF(L10:Q10,57)+COUNTIF(L10:Q10,58)+COUNTIF(L10:Q10,59) -> 0 | U10: Billy Chapman | Y10: Caroline Whiting
A11: 8 | B11: Brian Harris | C11: 25 | I11: =COUNTIF(C11:H11,1)+COUNTIF(C11:H11,2)+COUNTIF(C11:H11,3)+COUNTIF(C11:H11,4)+COUNTIF(C11:H11,5)+COUNTIF(C11:H11,6)+COUNTIF(C11:H11,7)+COUNTIF(C11:H11,8)+COUNTIF(C11:H11,9)+COUNTIF(C11:H11,10)+COUNTIF(C11:H11,11)+COUNTIF(C11:H11,12)+COUNTIF(C11:H11,13)+COUNTIF(C11:H11,14)+COUNTIF(C11:H11,15)+COUNTIF(C11:H11,16)+COUNTIF(C11:H11,17)+COUNTIF(C11:H11,18)+COUNTIF(C11:H11,19)+COUNTIF(C11:H11,20)+COUNTIF(C11:H11,21)+COUNTIF(C11:H11,22)+COUNTIF(C11:H11,23)+COUNTIF(C11:H11,24)+COUNTIF(C11:H11,25)+COUNTIF(C11:H11,26)+COUNTIF(C11:H11,27)+COUNTIF(C11:H11,28)+COUNTIF(C11:H11,29)+COUNTIF(C11:H11,30)+COUNTIF(C11:H11,31)+COUNTIF(C11:H11,32)+COUNTIF(C11:H11,33)+COUNTIF(C11:H11,34)+COUNTIF(C11:H11,35)+COUNTIF(C11:H11,36)+COUNTIF(C11:H11,37)+COUNTIF(C11:H11,38)+COUNTIF(C11:H11,39)+COUNTIF(C11:H11,40)+COUNTIF(C11:H11,41)+COUNTIF(C11:H11,42)+COUNTIF(C11:H11,43)+COUNTIF(C11:H11,44)+COUNTIF(C11:H11,45)+COUNTIF(C11:H11,46)+COUNTIF(C11:H11,47)+COUNTIF(C11:H11,48)+COUNTIF(C11:H11,49)+COUNTIF(C11:H11,50)+COUNTIF(C11:H11,51)+COUNTIF(C11:H11,52)+COUNTIF(C11:H11,53)+COUNTIF(C11:H11,54)+COUNTIF(C11:H11,55)+COUNTIF(C11:H11,56)+COUNTIF(C11:H11,57)+COUNTIF(C11:H11,58)+COUNTIF(C11:H11,59) -> 1 | J11: 8 | K11: Clare Ryan | R11: =COUNTIF(L11:Q11,1)+COUNTIF(L11:Q11,2)+COUNTIF(L11:Q11,3)+COUNTIF(L11:Q11,4)+COUNTIF(L11:Q11,5)+COUNTIF(L11:Q11,6)+COUNTIF(L11:Q11,7)+COUNTIF(L11:Q11,8)+COUNTIF(L11:Q11,9)+COUNTIF(L11:Q11,10)+COUNTIF(L11:Q11,11)+COUNTIF(L11:Q11,12)+COUNTIF(L11:Q11,13)+COUNTIF(L11:Q11,14)+COUNTIF(L11:Q11,15)+COUNTIF(L11:Q11,16)+COUNTIF(L11:Q11,17)+COUNTIF(L11:Q11,18)+COUNTIF(L11:Q11,19)+COUNTIF(L11:Q11,20)+COUNTIF(L11:Q11,21)+COUNTIF(L11:Q11,22)+COUNTIF(L11:Q11,23)+COUNTIF(L11:Q11,24)+COUNTIF(L11:Q11,25)+COUNTIF(L11:Q11,26)+COUNTIF(L11:Q11,27)+COUNTIF(L11:Q11,28)+COUNTIF(L11:Q11,29)+COUNTIF(L11:Q11,30)+COUNTIF(L11:Q11,31)+COUNTIF(L11:Q11,32)+COUNTIF(L11:Q11,33)+COUNTIF(L11:Q11,34)+COUNTIF(L11:Q11,35)+COUNTIF(L11:Q11,36)+COUNTIF(L11:Q11,37)+COUNTIF(L11:Q11,38)+COUNTIF(L11:Q11,39)+COUNTIF(L11:Q11,40)+COUNTIF(L11:Q11,41)+COUNTIF(L11:Q11,42)+COUNTIF(L11:Q11,43)+COUNTIF(L11:Q11,44)+COUNTIF(L11:Q11,45)+COUNTIF(L11:Q11,46)+COUNTIF(L11:Q11,47)+COUNTIF(L11:Q11,48)+COUNTIF(L11:Q11,49)+COUNTIF(L11:Q11,50)+COUNTIF(L11:Q11,51)+COUNTIF(L11:Q11,52)+COUNTIF(L11:Q11,53)+COUNTIF(L11:Q11,54)+COUNTIF(L11:Q11,55)+COUNTIF(L11:Q11,56)+COUNTIF(L11:Q11,57)+COUNTIF(L11:Q11,58)+COUNTIF(L11:Q11,59) -> 0 | U11: Brent Latham | Y11: Cathy Price
A12: 9 | B12: Chris Penfold | I12: =COUNTIF(C12:H12,1)+COUNTIF(C12:H12,2)+COUNTIF(C12:H12,3)+COUNTIF(C12:H12,4)+COUNTIF(C12:H12,5)+COUNTIF(C12:H12,6)+COUNTIF(C12:H12,7)+COUNTIF(C12:H12,8)+COUNTIF(C12:H12,9)+COUNTIF(C12:H12,10)+COUNTIF(C12:H12,11)+COUNTIF(C12:H12,12)+COUNTIF(C12:H12,13)+COUNTIF(C12:H12,14)+COUNTIF(C12:H12,15)+COUNTIF(C12:H12,16)+COUNTIF(C12:H12,17)+COUNTIF(C12:H12,18)+COUNTIF(C12:H12,19)+COUNTIF(C12:H12,20)+COUNTIF(C12:H12,21)+COUNTIF(C12:H12,22)+COUNTIF(C12:H12,23)+COUNTIF(C12:H12,24)+COUNTIF(C12:H12,25)+COUNTIF(C12:H12,26)+COUNTIF(C12:H12,27)+COUNTIF(C12:H12,28)+COUNTIF(C12:H12,29)+COUNTIF(C12:H12,30)+COUNTIF(C12:H12,31)+COUNTIF(C12:H12,32)+COUNTIF(C12:H12,33)+COUNTIF(C12:H12,34)+COUNTIF(C12:H12,35)+COUNTIF(C12:H12,36)+COUNTIF(C12:H12,37)+COUNTIF(C12:H12,38)+COUNTIF(C12:H12,39)+COUNTIF(C12:H12,40)+COUNTIF(C12:H12,41)+COUNTIF(C12:H12,42)+COUNTIF(C12:H12,43)+COUNTIF(C12:H12,44)+COUNTIF(C12:H12,45)+COUNTIF(C12:H12,46)+COUNTIF(C12:H12,47)+COUNTIF(C12:H12,48)+COUNTIF(C12:H12,49)+COUNTIF(C12:H12,50)+COUNTIF(C12:H12,51)+COUNTIF(C12:H12,52)+COUNTIF(C12:H12,53)+COUNTIF(C12:H12,54)+COUNTIF(C12:H12,55)+COUNTIF(C12:H12,56)+COUNTIF(C12:H12,57)+COUNTIF(C12:H12,58)+COUNTIF(C12:H12,59) -> 0 | J12: 9 | K12: Clare Taylor | L12: 6 | R12: =COUNTIF(L12:Q12,1)+COUNTIF(L12:Q12,2)+COUNTIF(L12:Q12,3)+COUNTIF(L12:Q12,4)+COUNTIF(L12:Q12,5)+COUNTIF(L12:Q12,6)+COUNTIF(L12:Q12,7)+COUNTIF(L12:Q12,8)+COUNTIF(L12:Q12,9)+COUNTIF(L12:Q12,10)+COUNTIF(L12:Q12,11)+COUNTIF(L12:Q12,12)+COUNTIF(L12:Q12,13)+COUNTIF(L12:Q12,14)+COUNTIF(L12:Q12,15)+COUNTIF(L12:Q12,16)+COUNTIF(L12:Q12,17)+COUNTIF(L12:Q12,18)+COUNTIF(L12:Q12,19)+COUNTIF(L12:Q12,20)+COUNTIF(L12:Q12,21)+COUNTIF(L12:Q12,22)+COUNTIF(L12:Q12,23)+COUNTIF(L12:Q12,24)+COUNTIF(L12:Q12,25)+COUNTIF(L12:Q12,26)+COUNTIF(L12:Q12,27)+COUNTIF(L12:Q12,28)+COUNTIF(L12:Q12,29)+COUNTIF(L12:Q12,30)+COUNTIF(L12:Q12,31)+COUNTIF(L12:Q12,32)+COUNTIF(L12:Q12,33)+COUNTIF(L12:Q12,34)+COUNTIF(L12:Q12,35)+COUNTIF(L12:Q12,36)+COUNTIF(L12:Q12,37)+COUNTIF(L12:Q12,38)+COUNTIF(L12:Q12,39)+COUNTIF(L12:Q12,40)+COUNTIF(L12:Q12,41)+COUNTIF(L12:Q12,42)+COUNTIF(L12:Q12,43)+COUNTIF(L12:Q12,44)+COUNTIF(L12:Q12,45)+COUNTIF(L12:Q12,46)+COUNTIF(L12:Q12,47)+COUNTIF(L12:Q12,48)+COUNTIF(L12:Q12,49)+COUNTIF(L12:Q12,50)+COUNTIF(L12:Q12,51)+COUNTIF(L12:Q12,52)+COUNTIF(L12:Q12,53)+COUNTIF(L12:Q12,54)+COUNTIF(L12:Q12,55)+COUNTIF(L12:Q12,56)+COUNTIF(L12:Q12,57)+COUNTIF(L12:Q12,58)+COUNTIF(L12:Q12,59) -> 1 | U12: Brian Harris | Y12: Christina Ball
A13: 10 | B13: Charlie Mitchell | C13: 13 | I13: =COUNTIF(C13:H13,1)+COUNTIF(C13:H13,2)+COUNTIF(C13:H13,3)+COUNTIF(C13:H13,4)+COUNTIF(C13:H13,5)+COUNTIF(C13:H13,6)+COUNTIF(C13:H13,7)+COUNTIF(C13:H13,8)+COUNTIF(C13:H13,9)+COUNTIF(C13:H13,10)+COUNTIF(C13:H13,11)+COUNTIF(C13:H13,12)+COUNTIF(C13:H13,13)+COUNTIF(C13:H13,14)+COUNTIF(C13:H13,15)+COUNTIF(C13:H13,16)+COUNTIF(C13:H13,17)+COUNTIF(C13:H13,18)+COUNTIF(C13:H13,19)+COUNTIF(C13:H13,20)+COUNTIF(C13:H13,21)+COUNTIF(C13:H13,22)+COUNTIF(C13:H13,23)+COUNTIF(C13:H13,24)+COUNTIF(C13:H13,25)+COUNTIF(C13:H13,26)+COUNTIF(C13:H13,27)+COUNTIF(C13:H13,28)+COUNTIF(C13:H13,29)+COUNTIF(C13:H13,30)+COUNTIF(C13:H13,31)+COUNTIF(C13:H13,32)+COUNTIF(C13:H13,33)+COUNTIF(C13:H13,34)+COUNTIF(C13:H13,35)+COUNTIF(C13:H13,36)+COUNTIF(C13:H13,37)+COUNTIF(C13:H13,38)+COUNTIF(C13:H13,39)+COUNTIF(C13:H13,40)+COUNTIF(C13:H13,41)+COUNTIF(C13:H13,42)+COUNTIF(C13:H13,43)+COUNTIF(C13:H13,44)+COUNTIF(C13:H13,45)+COUNTIF(C13:H13,46)+COUNTIF(C13:H13,47)+COUNTIF(C13:H13,48)+COUNTIF(C13:H13,49)+COUNTIF(C13:H13,50)+COUNTIF(C13:H13,51)+COUNTIF(C13:H13,52)+COUNTIF(C13:H13,53)+COUNTIF(C13:H13,54)+COUNTIF(C13:H13,55)+COUNTIF(C13:H13,56)+COUNTIF(C13:H13,57)+COUNTIF(C13:H13,58)+COUNTIF(C13:H13,59) -> 1 | J13: 10 | K13: Clare Welch | L13: 7 | R13: =COUNTIF(L13:Q13,1)+COUNTIF(L13:Q13,2)+COUNTIF(L13:Q13,3)+COUNTIF(L13:Q13,4)+COUNTIF(L13:Q13,5)+COUNTIF(L13:Q13,6)+COUNTIF(L13:Q13,7)+COUNTIF(L13:Q13,8)+COUNTIF(L13:Q13,9)+COUNTIF(L13:Q13,10)+COUNTIF(L13:Q13,11)+COUNTIF(L13:Q13,12)+COUNTIF(L13:Q13,13)+COUNTIF(L13:Q13,14)+COUNTIF(L13:Q13,15)+COUNTIF(L13:Q13,16)+COUNTIF(L13:Q13,17)+COUNTIF(L13:Q13,18)+COUNTIF(L13:Q13,19)+COUNTIF(L13:Q13,20)+COUNTIF(L13:Q13,21)+COUNTIF(L13:Q13,22)+COUNTIF(L13:Q13,23)+COUNTIF(L13:Q13,24)+COUNTIF(L13:Q13,25)+COUNTIF(L13:Q13,26)+COUNTIF(L13:Q13,27)+COUNTIF(L13:Q13,28)+COUNTIF(L13:Q13,29)+COUNTIF(L13:Q13,30)+COUNTIF(L13:Q13,31)+COUNTIF(L13:Q13,32)+COUNTIF(L13:Q13,33)+COUNTIF(L13:Q13,34)+COUNTIF(L13:Q13,35)+COUNTIF(L13:Q13,36)+COUNTIF(L13:Q13,37)+COUNTIF(L13:Q13,38)+COUNTIF(L13:Q13,39)+COUNTIF(L13:Q13,40)+COUNTIF(L13:Q13,41)+COUNTIF(L13:Q13,42)+COUNTIF(L13:Q13,43)+COUNTIF(L13:Q13,44)+COUNTIF(L13:Q13,45)+COUNTIF(L13:Q13,46)+COUNTIF(L13:Q13,47)+COUNTIF(L13:Q13,48)+COUNTIF(L13:Q13,49)+COUNTIF(L13:Q13,50)+COUNTIF(L13:Q13,51)+COUNTIF(L13:Q13,52)+COUNTIF(L13:Q13,53)+COUNTIF(L13:Q13,54)+COUNTIF(L13:Q13,55)+COUNTIF(L13:Q13,56)+COUNTIF(L13:Q13,57)+COUNTIF(L13:Q13,58)+COUNTIF(L13:Q13,59) -> 1 | U13: Chris Cornwell | Y13: Christine Perrier
A14: 11 | B14: Chris Penfold | C14: 16 | I14: =COUNTIF(C14:H14,1)+COUNTIF(C14:H14,2)+COUNTIF(C14:H14,3)+COUNTIF(C14:H14,4)+COUNTIF(C14:H14,5)+COUNTIF(C14:H14,6)+COUNTIF(C14:H14,7)+COUNTIF(C14:H14,8)+COUNTIF(C14:H14,9)+COUNTIF(C14:H14,10)+COUNTIF(C14:H14,11)+COUNTIF(C14:H14,12)+COUNTIF(C14:H14,13)+COUNTIF(C14:H14,14)+COUNTIF(C14:H14,15)+COUNTIF(C14:H14,16)+COUNTIF(C14:H14,17)+COUNTIF(C14:H14,18)+COUNTIF(C14:H14,19)+COUNTIF(C14:H14,20)+COUNTIF(C14:H14,21)+COUNTIF(C14:H14,22)+COUNTIF(C14:H14,23)+COUNTIF(C14:H14,24)+COUNTIF(C14:H14,25)+COUNTIF(C14:H14,26)+COUNTIF(C14:H14,27)+COUNTIF(C14:H14,28)+COUNTIF(C14:H14,29)+COUNTIF(C14:H14,30)+COUNTIF(C14:H14,31)+COUNTIF(C14:H14,32)+COUNTIF(C14:H14,33)+COUNTIF(C14:H14,34)+COUNTIF(C14:H14,35)+COUNTIF(C14:H14,36)+COUNTIF(C14:H14,37)+COUNTIF(C14:H14,38)+COUNTIF(C14:H14,39)+COUNTIF(C14:H14,40)+COUNTIF(C14:H14,41)+COUNTIF(C14:H14,42)+COUNTIF(C14:H14,43)+COUNTIF(C14:H14,44)+COUNTIF(C14:H14,45)+COUNTIF(C14:H14,46)+COUNTIF(C14:H14,47)+COUNTIF(C14:H14,48)+COUNTIF(C14:H14,49)+COUNTIF(C14:H14,50)+COUNTIF(C14:H14,51)+COUNTIF(C14:H14,52)+COUNTIF(C14:H14,53)+COUNTIF(C14:H14,54)+COUNTIF(C14:H14,55)+COUNTIF(C14:H14,56)+COUNTIF(C14:H14,57)+COUNTIF(C14:H14,58)+COUNTIF(C14:H14,59) -> 1 | J14: 11 | K14: Denise Williams | R14: =COUNTIF(L14:Q14,1)+COUNTIF(L14:Q14,2)+COUNTIF(L14:Q14,3)+COUNTIF(L14:Q14,4)+COUNTIF(L14:Q14,5)+COUNTIF(L14:Q14,6)+COUNTIF(L14:Q14,7)+COUNTIF(L14:Q14,8)+COUNTIF(L14:Q14,9)+COUNTIF(L14:Q14,10)+COUNTIF(L14:Q14,11)+COUNTIF(L14:Q14,12)+COUNTIF(L14:Q14,13)+COUNTIF(L14:Q14,14)+COUNTIF(L14:Q14,15)+COUNTIF(L14:Q14,16)+COUNTIF(L14:Q14,17)+COUNTIF(L14:Q14,18)+COUNTIF(L14:Q14,19)+COUNTIF(L14:Q14,20)+COUNTIF(L14:Q14,21)+COUNTIF(L14:Q14,22)+COUNTIF(L14:Q14,23)+COUNTIF(L14:Q14,24)+COUNTIF(L14:Q14,25)+COUNTIF(L14:Q14,26)+COUNTIF(L14:Q14,27)+COUNTIF(L14:Q14,28)+COUNTIF(L14:Q14,29)+COUNTIF(L14:Q14,30)+COUNTIF(L14:Q14,31)+COUNTIF(L14:Q14,32)+COUNTIF(L14:Q14,33)+COUNTIF(L14:Q14,34)+COUNTIF(L14:Q14,35)+COUNTIF(L14:Q14,36)+COUNTIF(L14:Q14,37)+COUNTIF(L14:Q14,38)+COUNTIF(L14:Q14,39)+COUNTIF(L14:Q14,40)+COUNTIF(L14:Q14,41)+COUNTIF(L14:Q14,42)+COUNTIF(L14:Q14,43)+COUNTIF(L14:Q14,44)+COUNTIF(L14:Q14,45)+COUNTIF(L14:Q14,46)+COUNTIF(L14:Q14,47)+COUNTIF(L14:Q14,48)+COUNTIF(L14:Q14,49)+COUNTIF(L14:Q14,50)+COUNTIF(L14:Q14,51)+COUNTIF(L14:Q14,52)+COUNTIF(L14:Q14,53)+COUNTIF(L14:Q14,54)+COUNTIF(L14:Q14,55)+COUNTIF(L14:Q14,56)+COUNTIF(L14:Q14,57)+COUNTIF(L14:Q14,58)+COUNTIF(L14:Q14,59) -> 0 | U14: Charlie Mitchell | Y14: Clare Ryan
A15: 12 | B15: David Pearson | C15: 2 | I15: =COUNTIF(C15:H15,1)+COUNTIF(C15:H15,2)+COUNTIF(C15:H15,3)+COUNTIF(C15:H15,4)+COUNTIF(C15:H15,5)+COUNTIF(C15:H15,6)+COUNTIF(C15:H15,7)+COUNTIF(C15:H15,8)+COUNTIF(C15:H15,9)+COUNTIF(C15:H15,10)+COUNTIF(C15:H15,11)+COUNTIF(C15:H15,12)+COUNTIF(C15:H15,13)+COUNTIF(C15:H15,14)+COUNTIF(C15:H15,15)+COUNTIF(C15:H15,16)+COUNTIF(C15:H15,17)+COUNTIF(C15:H15,18)+COUNTIF(C15:H15,19)+COUNTIF(C15:H15,20)+COUNTIF(C15:H15,21)+COUNTIF(C15:H15,22)+COUNTIF(C15:H15,23)+COUNTIF(C15:H15,24)+COUNTIF(C15:H15,25)+COUNTIF(C15:H15,26)+COUNTIF(C15:H15,27)+COUNTIF(C15:H15,28)+COUNTIF(C15:H15,29)+COUNTIF(C15:H15,30)+COUNTIF(C15:H15,31)+COUNTIF(C15:H15,32)+COUNTIF(C15:H15,33)+COUNTIF(C15:H15,34)+COUNTIF(C15:H15,35)+COUNTIF(C15:H15,36)+COUNTIF(C15:H15,37)+COUNTIF(C15:H15,38)+COUNTIF(C15:H15,39)+COUNTIF(C15:H15,40)+COUNTIF(C15:H15,41)+COUNTIF(C15:H15,42)+COUNTIF(C15:H15,43)+COUNTIF(C15:H15,44)+COUNTIF(C15:H15,45)+COUNTIF(C15:H15,46)+COUNTIF(C15:H15,47)+COUNTIF(C15:H15,48)+COUNTIF(C15:H15,49)+COUNTIF(C15:H15,50)+COUNTIF(C15:H15,51)+COUNTIF(C15:H15,52)+COUNTIF(C15:H15,53)+COUNTIF(C15:H15,54)+COUNTIF(C15:H15,55)+COUNTIF(C15:H15,56)+COUNTIF(C15:H15,57)+COUNTIF(C15:H15,58)+COUNTIF(C15:H15,59) -> 1 | J15: 12 | K15: Hannah Curtis | R15: =COUNTIF(L15:Q15,1)+COUNTIF(L15:Q15,2)+COUNTIF(L15:Q15,3)+COUNTIF(L15:Q15,4)+COUNTIF(L15:Q15,5)+COUNTIF(L15:Q15,6)+COUNTIF(L15:Q15,7)+COUNTIF(L15:Q15,8)+COUNTIF(L15:Q15,9)+COUNTIF(L15:Q15,10)+COUNTIF(L15:Q15,11)+COUNTIF(L15:Q15,12)+COUNTIF(L15:Q15,13)+COUNTIF(L15:Q15,14)+COUNTIF(L15:Q15,15)+COUNTIF(L15:Q15,16)+COUNTIF(L15:Q15,17)+COUNTIF(L15:Q15,18)+COUNTIF(L15:Q15,19)+COUNTIF(L15:Q15,20)+COUNTIF(L15:Q15,21)+COUNTIF(L15:Q15,22)+COUNTIF(L15:Q15,23)+COUNTIF(L15:Q15,24)+COUNTIF(L15:Q15,25)+COUNTIF(L15:Q15,26)+COUNTIF(L15:Q15,27)+COUNTIF(L15:Q15,28)+COUNTIF(L15:Q15,29)+COUNTIF(L15:Q15,30)+COUNTIF(L15:Q15,31)+COUNTIF(L15:Q15,32)+COUNTIF(L15:Q15,33)+COUNTIF(L15:Q15,34)+COUNTIF(L15:Q15,35)+COUNTIF(L15:Q15,36)+COUNTIF(L15:Q15,37)+COUNTIF(L15:Q15,38)+COUNTIF(L15:Q15,39)+COUNTIF(L15:Q15,40)+COUNTIF(L15:Q15,41)+COUNTIF(L15:Q15,42)+COUNTIF(L15:Q15,43)+COUNTIF(L15:Q15,44)+COUNTIF(L15:Q15,45)+COUNTIF(L15:Q15,46)+COUNTIF(L15:Q15,47)+COUNTIF(L15:Q15,48)+COUNTIF(L15:Q15,49)+COUNTIF(L15:Q15,50)+COUNTIF(L15:Q15,51)+COUNTIF(L15:Q15,52)+COUNTIF(L15:Q15,53)+COUNTIF(L15:Q15,54)+COUNTIF(L15:Q15,55)+COUNTIF(L15:Q15,56)+COUNTIF(L15:Q15,57)+COUNTIF(L15:Q15,58)+COUNTIF(L15:Q15,59) -> 0 | U15: Dan Shawyer | Y15: Clare Taylor
A16: 13 | B16: Dyfan Rowlands | I16: =COUNTIF(C16:H16,1)+COUNTIF(C16:H16,2)+COUNTIF(C16:H16,3)+COUNTIF(C16:H16,4)+COUNTIF(C16:H16,5)+COUNTIF(C16:H16,6)+COUNTIF(C16:H16,7)+COUNTIF(C16:H16,8)+COUNTIF(C16:H16,9)+COUNTIF(C16:H16,10)+COUNTIF(C16:H16,11)+COUNTIF(C16:H16,12)+COUNTIF(C16:H16,13)+COUNTIF(C16:H16,14)+COUNTIF(C16:H16,15)+COUNTIF(C16:H16,16)+COUNTIF(C16:H16,17)+COUNTIF(C16:H16,18)+COUNTIF(C16:H16,19)+COUNTIF(C16:H16,20)+COUNTIF(C16:H16,21)+COUNTIF(C16:H16,22)+COUNTIF(C16:H16,23)+COUNTIF(C16:H16,24)+COUNTIF(C16:H16,25)+COUNTIF(C16:H16,26)+COUNTIF(C16:H16,27)+COUNTIF(C16:H16,28)+COUNTIF(C16:H16,29)+COUNTIF(C16:H16,30)+COUNTIF(C16:H16,31)+COUNTIF(C16:H16,32)+COUNTIF(C16:H16,33)+COUNTIF(C16:H16,34)+COUNTIF(C16:H16,35)+COUNTIF(C16:H16,36)+COUNTIF(C16:H16,37)+COUNTIF(C16:H16,38)+COUNTIF(C16:H16,39)+COUNTIF(C16:H16,40)+COUNTIF(C16:H16,41)+COUNTIF(C16:H16,42)+COUNTIF(C16:H16,43)+COUNTIF(C16:H16,44)+COUNTIF(C16:H16,45)+COUNTIF(C16:H16,46)+COUNTIF(C16:H16,47)+COUNTIF(C16:H16,48)+COUNTIF(C16:H16,49)+COUNTIF(C16:H16,50)+COUNTIF(C16:H16,51)+COUNTIF(C16:H16,52)+COUNTIF(C16:H16,53)+COUNTIF(C16:H16,54)+COUNTIF(C16:H16,55)+COUNTIF(C16:H16,56)+COUNTIF(C16:H16,57)+COUNTIF(C16:H16,58)+COUNTIF(C16:H16,59) -> 0 | J16: 13 | K16: Jane Woodroof | R16: =COUNTIF(L16:Q16,1)+COUNTIF(L16:Q16,2)+COUNTIF(L16:Q16,3)+COUNTIF(L16:Q16,4)+COUNTIF(L16:Q16,5)+COUNTIF(L16:Q16,6)+COUNTIF(L16:Q16,7)+COUNTIF(L16:Q16,8)+COUNTIF(L16:Q16,9)+COUNTIF(L16:Q16,10)+COUNTIF(L16:Q16,11)+COUNTIF(L16:Q16,12)+COUNTIF(L16:Q16,13)+COUNTIF(L16:Q16,14)+COUNTIF(L16:Q16,15)+COUNTIF(L16:Q16,16)+COUNTIF(L16:Q16,17)+COUNTIF(L16:Q16,18)+COUNTIF(L16:Q16,19)+COUNTIF(L16:Q16,20)+COUNTIF(L16:Q16,21)+COUNTIF(L16:Q16,22)+COUNTIF(L16:Q16,23)+COUNTIF(L16:Q16,24)+COUNTIF(L16:Q16,25)+COUNTIF(L16:Q16,26)+COUNTIF(L16:Q16,27)+COUNTIF(L16:Q16,28)+COUNTIF(L16:Q16,29)+COUNTIF(L16:Q16,30)+COUNTIF(L16:Q16,31)+COUNTIF(L16:Q16,32)+COUNTIF(L16:Q16,33)+COUNTIF(L16:Q16,34)+COUNTIF(L16:Q16,35)+COUNTIF(L16:Q16,36)+COUNTIF(L16:Q16,37)+COUNTIF(L16:Q16,38)+COUNTIF(L16:Q16,39)+COUNTIF(L16:Q16,40)+COUNTIF(L16:Q16,41)+COUNTIF(L16:Q16,42)+COUNTIF(L16:Q16,43)+COUNTIF(L16:Q16,44)+COUNTIF(L16:Q16,45)+COUNTIF(L16:Q16,46)+COUNTIF(L16:Q16,47)+COUNTIF(L16:Q16,48)+COUNTIF(L16:Q16,49)+COUNTIF(L16:Q16,50)+COUNTIF(L16:Q16,51)+COUNTIF(L16:Q16,52)+COUNTIF(L16:Q16,53)+COUNTIF(L16:Q16,54)+COUNTIF(L16:Q16,55)+COUNTIF(L16:Q16,56)+COUNTIF(L16:Q16,57)+COUNTIF(L16:Q16,58)+COUNTIF(L16:Q16,59) -> 0 | U16: Dan Starkey | Y16: Clare Welch
A17: 14 | B17: Gavin Roberts | I17: =COUNTIF(C17:H17,1)+COUNTIF(C17:H17,2)+COUNTIF(C17:H17,3)+COUNTIF(C17:H17,4)+COUNTIF(C17:H17,5)+COUNTIF(C17:H17,6)+COUNTIF(C17:H17,7)+COUNTIF(C17:H17,8)+COUNTIF(C17:H17,9)+COUNTIF(C17:H17,10)+COUNTIF(C17:H17,11)+COUNTIF(C17:H17,12)+COUNTIF(C17:H17,13)+COUNTIF(C17:H17,14)+COUNTIF(C17:H17,15)+COUNTIF(C17:H17,16)+COUNTIF(C17:H17,17)+COUNTIF(C17:H17,18)+COUNTIF(C17:H17,19)+COUNTIF(C17:H17,20)+COUNTIF(C17:H17,21)+COUNTIF(C17:H17,22)+COUNTIF(C17:H17,23)+COUNTIF(C17:H17,24)+COUNTIF(C17:H17,25)+COUNTIF(C17:H17,26)+COUNTIF(C17:H17,27)+COUNTIF(C17:H17,28)+COUNTIF(C17:H17,29)+COUNTIF(C17:H17,30)+COUNTIF(C17:H17,31)+COUNTIF(C17:H17,32)+COUNTIF(C17:H17,33)+COUNTIF(C17:H17,34)+COUNTIF(C17:H17,35)+COUNTIF(C17:H17,36)+COUNTIF(C17:H17,37)+COUNTIF(C17:H17,38)+COUNTIF(C17:H17,39)+COUNTIF(C17:H17,40)+COUNTIF(C17:H17,41)+COUNTIF(C17:H17,42)+COUNTIF(C17:H17,43)+COUNTIF(C17:H17,44)+COUNTIF(C17:H17,45)+COUNTIF(C17:H17,46)+COUNTIF(C17:H17,47)+COUNTIF(C17:H17,48)+COUNTIF(C17:H17,49)+COUNTIF(C17:H17,50)+COUNTIF(C17:H17,51)+COUNTIF(C17:H17,52)+COUNTIF(C17:H17,53)+COUNTIF(C17:H17,54)+COUNTIF(C17:H17,55)+COUNTIF(C17:H17,56)+COUNTIF(C17:H17,57)+COUNTIF(C17:H17,58)+COUNTIF(C17:H17,59) -> 0 | J17: 14 | K17: Jenny Parks | L17: 5 | R17: =COUNTIF(L17:Q17,1)+COUNTIF(L17:Q17,2)+COUNTIF(L17:Q17,3)+COUNTIF(L17:Q17,4)+COUNTIF(L17:Q17,5)+COUNTIF(L17:Q17,6)+COUNTIF(L17:Q17,7)+COUNTIF(L17:Q17,8)+COUNTIF(L17:Q17,9)+COUNTIF(L17:Q17,10)+COUNTIF(L17:Q17,11)+COUNTIF(L17:Q17,12)+COUNTIF(L17:Q17,13)+COUNTIF(L17:Q17,14)+COUNTIF(L17:Q17,15)+COUNTIF(L17:Q17,16)+COUNTIF(L17:Q17,17)+COUNTIF(L17:Q17,18)+COUNTIF(L17:Q17,19)+COUNTIF(L17:Q17,20)+COUNTIF(L17:Q17,21)+COUNTIF(L17:Q17,22)+COUNTIF(L17:Q17,23)+COUNTIF(L17:Q17,24)+COUNTIF(L17:Q17,25)+COUNTIF(L17:Q17,26)+COUNTIF(L17:Q17,27)+COUNTIF(L17:Q17,28)+COUNTIF(L17:Q17,29)+COUNTIF(L17:Q17,30)+COUNTIF(L17:Q17,31)+COUNTIF(L17:Q17,32)+COUNTIF(L17:Q17,33)+COUNTIF(L17:Q17,34)+COUNTIF(L17:Q17,35)+COUNTIF(L17:Q17,36)+COUNTIF(L17:Q17,37)+COUNTIF(L17:Q17,38)+COUNTIF(L17:Q17,39)+COUNTIF(L17:Q17,40)+COUNTIF(L17:Q17,41)+COUNTIF(L17:Q17,42)+COUNTIF(L17:Q17,43)+COUNTIF(L17:Q17,44)+COUNTIF(L17:Q17,45)+COUNTIF(L17:Q17,46)+COUNTIF(L17:Q17,47)+COUNTIF(L17:Q17,48)+COUNTIF(L17:Q17,49)+COUNTIF(L17:Q17,50)+COUNTIF(L17:Q17,51)+COUNTIF(L17:Q17,52)+COUNTIF(L17:Q17,53)+COUNTIF(L17:Q17,54)+COUNTIF(L17:Q17,55)+COUNTIF(L17:Q17,56)+COUNTIF(L17:Q17,57)+COUNTIF(L17:Q17,58)+COUNTIF(L17:Q17,59) -> 1 | U17: David Pearson | Y17: Denise Williams
A18: 15 | B18: Gavino Valdez | I18: =COUNTIF(C18:H18,1)+COUNTIF(C18:H18,2)+COUNTIF(C18:H18,3)+COUNTIF(C18:H18,4)+COUNTIF(C18:H18,5)+COUNTIF(C18:H18,6)+COUNTIF(C18:H18,7)+COUNTIF(C18:H18,8)+COUNTIF(C18:H18,9)+COUNTIF(C18:H18,10)+COUNTIF(C18:H18,11)+COUNTIF(C18:H18,12)+COUNTIF(C18:H18,13)+COUNTIF(C18:H18,14)+COUNTIF(C18:H18,15)+COUNTIF(C18:H18,16)+COUNTIF(C18:H18,17)+COUNTIF(C18:H18,18)+COUNTIF(C18:H18,19)+COUNTIF(C18:H18,20)+COUNTIF(C18:H18,21)+COUNTIF(C18:H18,22)+COUNTIF(C18:H18,23)+COUNTIF(C18:H18,24)+COUNTIF(C18:H18,25)+COUNTIF(C18:H18,26)+COUNTIF(C18:H18,27)+COUNTIF(C18:H18,28)+COUNTIF(C18:H18,29)+COUNTIF(C18:H18,30)+COUNTIF(C18:H18,31)+COUNTIF(C18:H18,32)+COUNTIF(C18:H18,33)+COUNTIF(C18:H18,34)+COUNTIF(C18:H18,35)+COUNTIF(C18:H18,36)+COUNTIF(C18:H18,37)+COUNTIF(C18:H18,38)+COUNTIF(C18:H18,39)+COUNTIF(C18:H18,40)+COUNTIF(C18:H18,41)+COUNTIF(C18:H18,42)+COUNTIF(C18:H18,43)+COUNTIF(C18:H18,44)+COUNTIF(C18:H18,45)+COUNTIF(C18:H18,46)+COUNTIF(C18:H18,47)+COUNTIF(C18:H18,48)+COUNTIF(C18:H18,49)+COUNTIF(C18:H18,50)+COUNTIF(C18:H18,51)+COUNTIF(C18:H18,52)+COUNTIF(C18:H18,53)+COUNTIF(C18:H18,54)+COUNTIF(C18:H18,55)+COUNTIF(C18:H18,56)+COUNTIF(C18:H18,57)+COUNTIF(C18:H18,58)+COUNTIF(C18:H18,59) -> 0 | J18: 15 | K18: Julia Revill | L18: 8 | R18: =COUNTIF(L18:Q18,1)+COUNTIF(L18:Q18,2)+COUNTIF(L18:Q18,3)+COUNTIF(L18:Q18,4)+COUNTIF(L18:Q18,5)+COUNTIF(L18:Q18,6)+COUNTIF(L18:Q18,7)+COUNTIF(L18:Q18,8)+COUNTIF(L18:Q18,9)+COUNTIF(L18:Q18,10)+COUNTIF(L18:Q18,11)+COUNTIF(L18:Q18,12)+COUNTIF(L18:Q18,13)+COUNTIF(L18:Q18,14)+COUNTIF(L18:Q18,15)+COUNTIF(L18:Q18,16)+COUNTIF(L18:Q18,17)+COUNTIF(L18:Q18,18)+COUNTIF(L18:Q18,19)+COUNTIF(L18:Q18,20)+COUNTIF(L18:Q18,21)+COUNTIF(L18:Q18,22)+COUNTIF(L18:Q18,23)+COUNTIF(L18:Q18,24)+COUNTIF(L18:Q18,25)+COUNTIF(L18:Q18,26)+COUNTIF(L18:Q18,27)+COUNTIF(L18:Q18,28)+COUNTIF(L18:Q18,29)+COUNTIF(L18:Q18,30)+COUNTIF(L18:Q18,31)+COUNTIF(L18:Q18,32)+COUNTIF(L18:Q18,33)+COUNTIF(L18:Q18,34)+COUNTIF(L18:Q18,35)+COUNTIF(L18:Q18,36)+COUNTIF(L18:Q18,37)+COUNTIF(L18:Q18,38)+COUNTIF(L18:Q18,39)+COUNTIF(L18:Q18,40)+COUNTIF(L18:Q18,41)+COUNTIF(L18:Q18,42)+COUNTIF(L18:Q18,43)+COUNTIF(L18:Q18,44)+COUNTIF(L18:Q18,45)+COUNTIF(L18:Q18,46)+COUNTIF(L18:Q18,47)+COUNTIF(L18:Q18,48)+COUNTIF(L18:Q18,49)+COUNTIF(L18:Q18,50)+COUNTIF(L18:Q18,51)+COUNTIF(L18:Q18,52)+COUNTIF(L18:Q18,53)+COUNTIF(L18:Q18,54)+COUNTIF(L18:Q18,55)+COUNTIF(L18:Q18,56)+COUNTIF(L18:Q18,57)+COUNTIF(L18:Q18,58)+COUNTIF(L18:Q18,59) -> 1 | U18: Del King | Y18: Gemma Heggs
A19: 16 | B19: Gary Armstrong | C19: 11 | I19: =COUNTIF(C19:H19,1)+COUNTIF(C19:H19,2)+COUNTIF(C19:H19,3)+COUNTIF(C19:H19,4)+COUNTIF(C19:H19,5)+COUNTIF(C19:H19,6)+COUNTIF(C19:H19,7)+COUNTIF(C19:H19,8)+COUNTIF(C19:H19,9)+COUNTIF(C19:H19,10)+COUNTIF(C19:H19,11)+COUNTIF(C19:H19,12)+COUNTIF(C19:H19,13)+COUNTIF(C19:H19,14)+COUNTIF(C19:H19,15)+COUNTIF(C19:H19,16)+COUNTIF(C19:H19,17)+COUNTIF(C19:H19,18)+COUNTIF(C19:H19,19)+COUNTIF(C19:H19,20)+COUNTIF(C19:H19,21)+COUNTIF(C19:H19,22)+COUNTIF(C19:H19,23)+COUNTIF(C19:H19,24)+COUNTIF(C19:H19,25)+COUNTIF(C19:H19,26)+COUNTIF(C19:H19,27)+COUNTIF(C19:H19,28)+COUNTIF(C19:H19,29)+COUNTIF(C19:H19,30)+COUNTIF(C19:H19,31)+COUNTIF(C19:H19,32)+COUNTIF(C19:H19,33)+COUNTIF(C19:H19,34)+COUNTIF(C19:H19,35)+COUNTIF(C19:H19,36)+COUNTIF(C19:H19,37)+COUNTIF(C19:H19,38)+COUNTIF(C19:H19,39)+COUNTIF(C19:H19,40)+COUNTIF(C19:H19,41)+COUNTIF(C19:H19,42)+COUNTIF(C19:H19,43)+COUNTIF(C19:H19,44)+COUNTIF(C19:H19,45)+COUNTIF(C19:H19,46)+COUNTIF(C19:H19,47)+COUNTIF(C19:H19,48)+COUNTIF(C19:H19,49)+COUNTIF(C19:H19,50)+COUNTIF(C19:H19,51)+COUNTIF(C19:H19,52)+COUNTIF(C19:H19,53)+COUNTIF(C19:H19,54)+COUNTIF(C19:H19,55)+COUNTIF(C19:H19,56)+COUNTIF(C19:H19,57)+COUNTIF(C19:H19,58)+COUNTIF(C19:H19,59) -> 1 | J19: 16 | K19: Karis Yates | R19: =COUNTIF(L19:Q19,1)+COUNTIF(L19:Q19,2)+COUNTIF(L19:Q19,3)+COUNTIF(L19:Q19,4)+COUNTIF(L19:Q19,5)+COUNTIF(L19:Q19,6)+COUNTIF(L19:Q19,7)+COUNTIF(L19:Q19,8)+COUNTIF(L19:Q19,9)+COUNTIF(L19:Q19,10)+COUNTIF(L19:Q19,11)+COUNTIF(L19:Q19,12)+COUNTIF(L19:Q19,13)+COUNTIF(L19:Q19,14)+COUNTIF(L19:Q19,15)+COUNTIF(L19:Q19,16)+COUNTIF(L19:Q19,17)+COUNTIF(L19:Q19,18)+COUNTIF(L19:Q19,19)+COUNTIF(L19:Q19,20)+COUNTIF(L19:Q19,21)+COUNTIF(L19:Q19,22)+COUNTIF(L19:Q19,23)+COUNTIF(L19:Q19,24)+COUNTIF(L19:Q19,25)+COUNTIF(L19:Q19,26)+COUNTIF(L19:Q19,27)+COUNTIF(L19:Q19,28)+COUNTIF(L19:Q19,29)+COUNTIF(L19:Q19,30)+COUNTIF(L19:Q19,31)+COUNTIF(L19:Q19,32)+COUNTIF(L19:Q19,33)+COUNTIF(L19:Q19,34)+COUNTIF(L19:Q19,35)+COUNTIF(L19:Q19,36)+COUNTIF(L19:Q19,37)+COUNTIF(L19:Q19,38)+COUNTIF(L19:Q19,39)+COUNTIF(L19:Q19,40)+COUNTIF(L19:Q19,41)+COUNTIF(L19:Q19,42)+COUNTIF(L19:Q19,43)+COUNTIF(L19:Q19,44)+COUNTIF(L19:Q19,45)+COUNTIF(L19:Q19,46)+COUNTIF(L19:Q19,47)+COUNTIF(L19:Q19,48)+COUNTIF(L19:Q19,49)+COUNTIF(L19:Q19,50)+COUNTIF(L19:Q19,51)+COUNTIF(L19:Q19,52)+COUNTIF(L19:Q19,53)+COUNTIF(L19:Q19,54)+COUNTIF(L19:Q19,55)+COUNTIF(L19:Q19,56)+COUNTIF(L19:Q19,57)+COUNTIF(L19:Q19,58)+COUNTIF(L19:Q19,59) -> 0 | U19: Dyfan Rowlands | Y19: Hannah Curtis
A20: 17 | B20: Gary Edmonds | C20: 23 | I20: =COUNTIF(C20:H20,1)+COUNTIF(C20:H20,2)+COUNTIF(C20:H20,3)+COUNTIF(C20:H20,4)+COUNTIF(C20:H20,5)+COUNTIF(C20:H20,6)+COUNTIF(C20:H20,7)+COUNTIF(C20:H20,8)+COUNTIF(C20:H20,9)+COUNTIF(C20:H20,10)+COUNTIF(C20:H20,11)+COUNTIF(C20:H20,12)+COUNTIF(C20:H20,13)+COUNTIF(C20:H20,14)+COUNTIF(C20:H20,15)+COUNTIF(C20:H20,16)+COUNTIF(C20:H20,17)+COUNTIF(C20:H20,18)+COUNTIF(C20:H20,19)+COUNTIF(C20:H20,20)+COUNTIF(C20:H20,21)+COUNTIF(C20:H20,22)+COUNTIF(C20:H20,23)+COUNTIF(C20:H20,24)+COUNTIF(C20:H20,25)+COUNTIF(C20:H20,26)+COUNTIF(C20:H20,27)+COUNTIF(C20:H20,28)+COUNTIF(C20:H20,29)+COUNTIF(C20:H20,30)+COUNTIF(C20:H20,31)+COUNTIF(C20:H20,32)+COUNTIF(C20:H20,33)+COUNTIF(C20:H20,34)+COUNTIF(C20:H20,35)+COUNTIF(C20:H20,36)+COUNTIF(C20:H20,37)+COUNTIF(C20:H20,38)+COUNTIF(C20:H20,39)+COUNTIF(C20:H20,40)+COUNTIF(C20:H20,41)+COUNTIF(C20:H20,42)+COUNTIF(C20:H20,43)+COUNTIF(C20:H20,44)+COUNTIF(C20:H20,45)+COUNTIF(C20:H20,46)+COUNTIF(C20:H20,47)+COUNTIF(C20:H20,48)+COUNTIF(C20:H20,49)+COUNTIF(C20:H20,50)+COUNTIF(C20:H20,51)+COUNTIF(C20:H20,52)+COUNTIF(C20:H20,53)+COUNTIF(C20:H20,54)+COUNTIF(C20:H20,55)+COUNTIF(C20:H20,56)+COUNTIF(C20:H20,57)+COUNTIF(C20:H20,58)+COUNTIF(C20:H20,59) -> 1 | J20: 17 | K20: Katie Edmonds | R20: =COUNTIF(L20:Q20,1)+COUNTIF(L20:Q20,2)+COUNTIF(L20:Q20,3)+COUNTIF(L20:Q20,4)+COUNTIF(L20:Q20,5)+COUNTIF(L20:Q20,6)+COUNTIF(L20:Q20,7)+COUNTIF(L20:Q20,8)+COUNTIF(L20:Q20,9)+COUNTIF(L20:Q20,10)+COUNTIF(L20:Q20,11)+COUNTIF(L20:Q20,12)+COUNTIF(L20:Q20,13)+COUNTIF(L20:Q20,14)+COUNTIF(L20:Q20,15)+COUNTIF(L20:Q20,16)+COUNTIF(L20:Q20,17)+COUNTIF(L20:Q20,18)+COUNTIF(L20:Q20,19)+COUNTIF(L20:Q20,20)+COUNTIF(L20:Q20,21)+COUNTIF(L20:Q20,22)+COUNTIF(L20:Q20,23)+COUNTIF(L20:Q20,24)+COUNTIF(L20:Q20,25)+COUNTIF(L20:Q20,26)+COUNTIF(L20:Q20,27)+COUNTIF(L20:Q20,28)+COUNTIF(L20:Q20,29)+COUNTIF(L20:Q20,30)+COUNTIF(L20:Q20,31)+COUNTIF(L20:Q20,32)+COUNTIF(L20:Q20,33)+COUNTIF(L20:Q20,34)+COUNTIF(L20:Q20,35)+COUNTIF(L20:Q20,36)+COUNTIF(L20:Q20,37)+COUNTIF(L20:Q20,38)+COUNTIF(L20:Q20,39)+COUNTIF(L20:Q20,40)+COUNTIF(L20:Q20,41)+COUNTIF(L20:Q20,42)+COUNTIF(L20:Q20,43)+COUNTIF(L20:Q20,44)+COUNTIF(L20:Q20,45)+COUNTIF(L20:Q20,46)+COUNTIF(L20:Q20,47)+COUNTIF(L20:Q20,48)+COUNTIF(L20:Q20,49)+COUNTIF(L20:Q20,50)+COUNTIF(L20:Q20,51)+COUNTIF(L20:Q20,52)+COUNTIF(L20:Q20,53)+COUNTIF(L20:Q20,54)+COUNTIF(L20:Q20,55)+COUNTIF(L20:Q20,56)+COUNTIF(L20:Q20,57)+COUNTIF(L20:Q20,58)+COUNTIF(L20:Q20,59) -> 0 | U20: Gavin Roberts | Y20: Jane Woodroof
A21: 18 | B21: Gary McCawley | C21: 24 | I21: =COUNTIF(C21:H21,1)+COUNTIF(C21:H21,2)+COUNTIF(C21:H21,3)+COUNTIF(C21:H21,4)+COUNTIF(C21:H21,5)+COUNTIF(C21:H21,6)+COUNTIF(C21:H21,7)+COUNTIF(C21:H21,8)+COUNTIF(C21:H21,9)+COUNTIF(C21:H21,10)+COUNTIF(C21:H21,11)+COUNTIF(C21:H21,12)+COUNTIF(C21:H21,13)+COUNTIF(C21:H21,14)+COUNTIF(C21:H21,15)+COUNTIF(C21:H21,16)+COUNTIF(C21:H21,17)+COUNTIF(C21:H21,18)+COUNTIF(C21:H21,19)+COUNTIF(C21:H21,20)+COUNTIF(C21:H21,21)+COUNTIF(C21:H21,22)+COUNTIF(C21:H21,23)+COUNTIF(C21:H21,24)+COUNTIF(C21:H21,25)+COUNTIF(C21:H21,26)+COUNTIF(C21:H21,27)+COUNTIF(C21:H21,28)+COUNTIF(C21:H21,29)+COUNTIF(C21:H21,30)+COUNTIF(C21:H21,31)+COUNTIF(C21:H21,32)+COUNTIF(C21:H21,33)+COUNTIF(C21:H21,34)+COUNTIF(C21:H21,35)+COUNTIF(C21:H21,36)+COUNTIF(C21:H21,37)+COUNTIF(C21:H21,38)+COUNTIF(C21:H21,39)+COUNTIF(C21:H21,40)+COUNTIF(C21:H21,41)+COUNTIF(C21:H21,42)+COUNTIF(C21:H21,43)+COUNTIF(C21:H21,44)+COUNTIF(C21:H21,45)+COUNTIF(C21:H21,46)+COUNTIF(C21:H21,47)+COUNTIF(C21:H21,48)+COUNTIF(C21:H21,49)+COUNTIF(C21:H21,50)+COUNTIF(C21:H21,51)+COUNTIF(C21:H21,52)+COUNTIF(C21:H21,53)+COUNTIF(C21:H21,54)+COUNTIF(C21:H21,55)+COUNTIF(C21:H21,56)+COUNTIF(C21:H21,57)+COUNTIF(C21:H21,58)+COUNTIF(C21:H21,59) -> 1 | J21: 18 | K21: Kayleigh Gyles | R21: =COUNTIF(L21:Q21,1)+COUNTIF(L21:Q21,2)+COUNTIF(L21:Q21,3)+COUNTIF(L21:Q21,4)+COUNTIF(L21:Q21,5)+COUNTIF(L21:Q21,6)+COUNTIF(L21:Q21,7)+COUNTIF(L21:Q21,8)+COUNTIF(L21:Q21,9)+COUNTIF(L21:Q21,10)+COUNTIF(L21:Q21,11)+COUNTIF(L21:Q21,12)+COUNTIF(L21:Q21,13)+COUNTIF(L21:Q21,14)+COUNTIF(L21:Q21,15)+COUNTIF(L21:Q21,16)+COUNTIF(L21:Q21,17)+COUNTIF(L21:Q21,18)+COUNTIF(L21:Q21,19)+COUNTIF(L21:Q21,20)+COUNTIF(L21:Q21,21)+COUNTIF(L21:Q21,22)+COUNTIF(L21:Q21,23)+COUNTIF(L21:Q21,24)+COUNTIF(L21:Q21,25)+COUNTIF(L21:Q21,26)+COUNTIF(L21:Q21,27)+COUNTIF(L21:Q21,28)+COUNTIF(L21:Q21,29)+COUNTIF(L21:Q21,30)+COUNTIF(L21:Q21,31)+COUNTIF(L21:Q21,32)+COUNTIF(L21:Q21,33)+COUNTIF(L21:Q21,34)+COUNTIF(L21:Q21,35)+COUNTIF(L21:Q21,36)+COUNTIF(L21:Q21,37)+COUNTIF(L21:Q21,38)+COUNTIF(L21:Q21,39)+COUNTIF(L21:Q21,40)+COUNTIF(L21:Q21,41)+COUNTIF(L21:Q21,42)+COUNTIF(L21:Q21,43)+COUNTIF(L21:Q21,44)+COUNTIF(L21:Q21,45)+COUNTIF(L21:Q21,46)+COUNTIF(L21:Q21,47)+COUNTIF(L21:Q21,48)+COUNTIF(L21:Q21,49)+COUNTIF(L21:Q21,50)+COUNTIF(L21:Q21,51)+COUNTIF(L21:Q21,52)+COUNTIF(L21:Q21,53)+COUNTIF(L21:Q21,54)+COUNTIF(L21:Q21,55)+COUNTIF(L21:Q21,56)+COUNTIF(L21:Q21,57)+COUNTIF(L21:Q21,58)+COUNTIF(L21:Q21,59) -> 0 | U21: Gavino Valdez | Y21: Jess Brimecome
A22: 19 | B22: George Sutherland | I22: =COUNTIF(C22:H22,1)+COUNTIF(C22:H22,2)+COUNTIF(C22:H22,3)+COUNTIF(C22:H22,4)+COUNTIF(C22:H22,5)+COUNTIF(C22:H22,6)+COUNTIF(C22:H22,7)+COUNTIF(C22:H22,8)+COUNTIF(C22:H22,9)+COUNTIF(C22:H22,10)+COUNTIF(C22:H22,11)+COUNTIF(C22:H22,12)+COUNTIF(C22:H22,13)+COUNTIF(C22:H22,14)+COUNTIF(C22:H22,15)+COUNTIF(C22:H22,16)+COUNTIF(C22:H22,17)+COUNTIF(C22:H22,18)+COUNTIF(C22:H22,19)+COUNTIF(C22:H22,20)+COUNTIF(C22:H22,21)+COUNTIF(C22:H22,22)+COUNTIF(C22:H22,23)+COUNTIF(C22:H22,24)+COUNTIF(C22:H22,25)+COUNTIF(C22:H22,26)+COUNTIF(C22:H22,27)+COUNTIF(C22:H22,28)+COUNTIF(C22:H22,29)+COUNTIF(C22:H22,30)+COUNTIF(C22:H22,31)+COUNTIF(C22:H22,32)+COUNTIF(C22:H22,33)+COUNTIF(C22:H22,34)+COUNTIF(C22:H22,35)+COUNTIF(C22:H22,36)+COUNTIF(C22:H22,37)+COUNTIF(C22:H22,38)+COUNTIF(C22:H22,39)+COUNTIF(C22:H22,40)+COUNTIF(C22:H22,41)+COUNTIF(C22:H22,42)+COUNTIF(C22:H22,43)+COUNTIF(C22:H22,44)+COUNTIF(C22:H22,45)+COUNTIF(C22:H22,46)+COUNTIF(C22:H22,47)+COUNTIF(C22:H22,48)+COUNTIF(C22:H22,49)+COUNTIF(C22:H22,50)+COUNTIF(C22:H22,51)+COUNTIF(C22:H22,52)+COUNTIF(C22:H22,53)+COUNTIF(C22:H22,54)+COUNTIF(C22:H22,55)+COUNTIF(C22:H22,56)+COUNTIF(C22:H22,57)+COUNTIF(C22:H22,58)+COUNTIF(C22:H22,59) -> 0 | J22: 19 | K22: Kimberley Churchill | R22: =COUNTIF(L22:Q22,1)+COUNTIF(L22:Q22,2)+COUNTIF(L22:Q22,3)+COUNTIF(L22:Q22,4)+COUNTIF(L22:Q22,5)+COUNTIF(L22:Q22,6)+COUNTIF(L22:Q22,7)+COUNTIF(L22:Q22,8)+COUNTIF(L22:Q22,9)+COUNTIF(L22:Q22,10)+COUNTIF(L22:Q22,11)+COUNTIF(L22:Q22,12)+COUNTIF(L22:Q22,13)+COUNTIF(L22:Q22,14)+COUNTIF(L22:Q22,15)+COUNTIF(L22:Q22,16)+COUNTIF(L22:Q22,17)+COUNTIF(L22:Q22,18)+COUNTIF(L22:Q22,19)+COUNTIF(L22:Q22,20)+COUNTIF(L22:Q22,21)+COUNTIF(L22:Q22,22)+COUNTIF(L22:Q22,23)+COUNTIF(L22:Q22,24)+COUNTIF(L22:Q22,25)+COUNTIF(L22:Q22,26)+COUNTIF(L22:Q22,27)+COUNTIF(L22:Q22,28)+COUNTIF(L22:Q22,29)+COUNTIF(L22:Q22,30)+COUNTIF(L22:Q22,31)+COUNTIF(L22:Q22,32)+COUNTIF(L22:Q22,33)+COUNTIF(L22:Q22,34)+COUNTIF(L22:Q22,35)+COUNTIF(L22:Q22,36)+COUNTIF(L22:Q22,37)+COUNTIF(L22:Q22,38)+COUNTIF(L22:Q22,39)+COUNTIF(L22:Q22,40)+COUNTIF(L22:Q22,41)+COUNTIF(L22:Q22,42)+COUNTIF(L22:Q22,43)+COUNTIF(L22:Q22,44)+COUNTIF(L22:Q22,45)+COUNTIF(L22:Q22,46)+COUNTIF(L22:Q22,47)+COUNTIF(L22:Q22,48)+COUNTIF(L22:Q22,49)+COUNTIF(L22:Q22,50)+COUNTIF(L22:Q22,51)+COUNTIF(L22:Q22,52)+COUNTIF(L22:Q22,53)+COUNTIF(L22:Q22,54)+COUNTIF(L22:Q22,55)+COUNTIF(L22:Q22,56)+COUNTIF(L22:Q22,57)+COUNTIF(L22:Q22,58)+COUNTIF(L22:Q22,59) -> 0 | U22: Gary Armstrong | Y22: Jenny Parks
A23: 20 | B23: Graham Clarke | I23: =COUNTIF(C23:H23,1)+COUNTIF(C23:H23,2)+COUNTIF(C23:H23,3)+COUNTIF(C23:H23,4)+COUNTIF(C23:H23,5)+COUNTIF(C23:H23,6)+COUNTIF(C23:H23,7)+COUNTIF(C23:H23,8)+COUNTIF(C23:H23,9)+COUNTIF(C23:H23,10)+COUNTIF(C23:H23,11)+COUNTIF(C23:H23,12)+COUNTIF(C23:H23,13)+COUNTIF(C23:H23,14)+COUNTIF(C23:H23,15)+COUNTIF(C23:H23,16)+COUNTIF(C23:H23,17)+COUNTIF(C23:H23,18)+COUNTIF(C23:H23,19)+COUNTIF(C23:H23,20)+COUNTIF(C23:H23,21)+COUNTIF(C23:H23,22)+COUNTIF(C23:H23,23)+COUNTIF(C23:H23,24)+COUNTIF(C23:H23,25)+COUNTIF(C23:H23,26)+COUNTIF(C23:H23,27)+COUNTIF(C23:H23,28)+COUNTIF(C23:H23,29)+COUNTIF(C23:H23,30)+COUNTIF(C23:H23,31)+COUNTIF(C23:H23,32)+COUNTIF(C23:H23,33)+COUNTIF(C23:H23,34)+COUNTIF(C23:H23,35)+COUNTIF(C23:H23,36)+COUNTIF(C23:H23,37)+COUNTIF(C23:H23,38)+COUNTIF(C23:H23,39)+COUNTIF(C23:H23,40)+COUNTIF(C23:H23,41)+COUNTIF(C23:H23,42)+COUNTIF(C23:H23,43)+COUNTIF(C23:H23,44)+COUNTIF(C23:H23,45)+COUNTIF(C23:H23,46)+COUNTIF(C23:H23,47)+COUNTIF(C23:H23,48)+COUNTIF(C23:H23,49)+COUNTIF(C23:H23,50)+COUNTIF(C23:H23,51)+COUNTIF(C23:H23,52)+COUNTIF(C23:H23,53)+COUNTIF(C23:H23,54)+COUNTIF(C23:H23,55)+COUNTIF(C23:H23,56)+COUNTIF(C23:H23,57)+COUNTIF(C23:H23,58)+COUNTIF(C23:H23,59) -> 0 | J23: 20 | K23: Kirsty Aked | R23: =COUNTIF(L23:Q23,1)+COUNTIF(L23:Q23,2)+COUNTIF(L23:Q23,3)+COUNTIF(L23:Q23,4)+COUNTIF(L23:Q23,5)+COUNTIF(L23:Q23,6)+COUNTIF(L23:Q23,7)+COUNTIF(L23:Q23,8)+COUNTIF(L23:Q23,9)+COUNTIF(L23:Q23,10)+COUNTIF(L23:Q23,11)+COUNTIF(L23:Q23,12)+COUNTIF(L23:Q23,13)+COUNTIF(L23:Q23,14)+COUNTIF(L23:Q23,15)+COUNTIF(L23:Q23,16)+COUNTIF(L23:Q23,17)+COUNTIF(L23:Q23,18)+COUNTIF(L23:Q23,19)+COUNTIF(L23:Q23,20)+COUNTIF(L23:Q23,21)+COUNTIF(L23:Q23,22)+COUNTIF(L23:Q23,23)+COUNTIF(L23:Q23,24)+COUNTIF(L23:Q23,25)+COUNTIF(L23:Q23,26)+COUNTIF(L23:Q23,27)+COUNTIF(L23:Q23,28)+COUNTIF(L23:Q23,29)+COUNTIF(L23:Q23,30)+COUNTIF(L23:Q23,31)+COUNTIF(L23:Q23,32)+COUNTIF(L23:Q23,33)+COUNTIF(L23:Q23,34)+COUNTIF(L23:Q23,35)+COUNTIF(L23:Q23,36)+COUNTIF(L23:Q23,37)+COUNTIF(L23:Q23,38)+COUNTIF(L23:Q23,39)+COUNTIF(L23:Q23,40)+COUNTIF(L23:Q23,41)+COUNTIF(L23:Q23,42)+COUNTIF(L23:Q23,43)+COUNTIF(L23:Q23,44)+COUNTIF(L23:Q23,45)+COUNTIF(L23:Q23,46)+COUNTIF(L23:Q23,47)+COUNTIF(L23:Q23,48)+COUNTIF(L23:Q23,49)+COUNTIF(L23:Q23,50)+COUNTIF(L23:Q23,51)+COUNTIF(L23:Q23,52)+COUNTIF(L23:Q23,53)+COUNTIF(L23:Q23,54)+COUNTIF(L23:Q23,55)+COUNTIF(L23:Q23,56)+COUNTIF(L23:Q23,57)+COUNTIF(L23:Q23,58)+COUNTIF(L23:Q23,59) -> 0 | U23: Gary Edmonds | Y23: Julia Revill
A24: 21 | B24: Henry Piper | I24: =COUNTIF(C24:H24,1)+COUNTIF(C24:H24,2)+COUNTIF(C24:H24,3)+COUNTIF(C24:H24,4)+COUNTIF(C24:H24,5)+COUNTIF(C24:H24,6)+COUNTIF(C24:H24,7)+COUNTIF(C24:H24,8)+COUNTIF(C24:H24,9)+COUNTIF(C24:H24,10)+COUNTIF(C24:H24,11)+COUNTIF(C24:H24,12)+COUNTIF(C24:H24,13)+COUNTIF(C24:H24,14)+COUNTIF(C24:H24,15)+COUNTIF(C24:H24,16)+COUNTIF(C24:H24,17)+COUNTIF(C24:H24,18)+COUNTIF(C24:H24,19)+COUNTIF(C24:H24,20)+COUNTIF(C24:H24,21)+COUNTIF(C24:H24,22)+COUNTIF(C24:H24,23)+COUNTIF(C24:H24,24)+COUNTIF(C24:H24,25)+COUNTIF(C24:H24,26)+COUNTIF(C24:H24,27)+COUNTIF(C24:H24,28)+COUNTIF(C24:H24,29)+COUNTIF(C24:H24,30)+COUNTIF(C24:H24,31)+COUNTIF(C24:H24,32)+COUNTIF(C24:H24,33)+COUNTIF(C24:H24,34)+COUNTIF(C24:H24,35)+COUNTIF(C24:H24,36)+COUNTIF(C24:H24,37)+COUNTIF(C24:H24,38)+COUNTIF(C24:H24,39)+COUNTIF(C24:H24,40)+COUNTIF(C24:H24,41)+COUNTIF(C24:H24,42)+COUNTIF(C24:H24,43)+COUNTIF(C24:H24,44)+COUNTIF(C24:H24,45)+COUNTIF(C24:H24,46)+COUNTIF(C24:H24,47)+COUNTIF(C24:H24,48)+COUNTIF(C24:H24,49)+COUNTIF(C24:H24,50)+COUNTIF(C24:H24,51)+COUNTIF(C24:H24,52)+COUNTIF(C24:H24,53)+COUNTIF(C24:H24,54)+COUNTIF(C24:H24,55)+COUNTIF(C24:H24,56)+COUNTIF(C24:H24,57)+COUNTIF(C24:H24,58)+COUNTIF(C24:H24,59) -> 0 | J24: 21 | K24: Lauren Field | R24: =COUNTIF(L24:Q24,1)+COUNTIF(L24:Q24,2)+COUNTIF(L24:Q24,3)+COUNTIF(L24:Q24,4)+COUNTIF(L24:Q24,5)+COUNTIF(L24:Q24,6)+COUNTIF(L24:Q24,7)+COUNTIF(L24:Q24,8)+COUNTIF(L24:Q24,9)+COUNTIF(L24:Q24,10)+COUNTIF(L24:Q24,11)+COUNTIF(L24:Q24,12)+COUNTIF(L24:Q24,13)+COUNTIF(L24:Q24,14)+COUNTIF(L24:Q24,15)+COUNTIF(L24:Q24,16)+COUNTIF(L24:Q24,17)+COUNTIF(L24:Q24,18)+COUNTIF(L24:Q24,19)+COUNTIF(L24:Q24,20)+COUNTIF(L24:Q24,21)+COUNTIF(L24:Q24,22)+COUNTIF(L24:Q24,23)+COUNTIF(L24:Q24,24)+COUNTIF(L24:Q24,25)+COUNTIF(L24:Q24,26)+COUNTIF(L24:Q24,27)+COUNTIF(L24:Q24,28)+COUNTIF(L24:Q24,29)+COUNTIF(L24:Q24,30)+COUNTIF(L24:Q24,31)+COUNTIF(L24:Q24,32)+COUNTIF(L24:Q24,33)+COUNTIF(L24:Q24,34)+COUNTIF(L24:Q24,35)+COUNTIF(L24:Q24,36)+COUNTIF(L24:Q24,37)+COUNTIF(L24:Q24,38)+COUNTIF(L24:Q24,39)+COUNTIF(L24:Q24,40)+COUNTIF(L24:Q24,41)+COUNTIF(L24:Q24,42)+COUNTIF(L24:Q24,43)+COUNTIF(L24:Q24,44)+COUNTIF(L24:Q24,45)+COUNTIF(L24:Q24,46)+COUNTIF(L24:Q24,47)+COUNTIF(L24:Q24,48)+COUNTIF(L24:Q24,49)+COUNTIF(L24:Q24,50)+COUNTIF(L24:Q24,51)+COUNTIF(L24:Q24,52)+COUNTIF(L24:Q24,53)+COUNTIF(L24:Q24,54)+COUNTIF(L24:Q24,55)+COUNTIF(L24:Q24,56)+COUNTIF(L24:Q24,57)+COUNTIF(L24:Q24,58)+COUNTIF(L24:Q24,59) -> 0 | U24: Gary McCawley | Y24: Karis Yates
A25: 22 | B25: Jeffrey Streeter | I25: =COUNTIF(C25:H25,1)+COUNTIF(C25:H25,2)+COUNTIF(C25:H25,3)+COUNTIF(C25:H25,4)+COUNTIF(C25:H25,5)+COUNTIF(C25:H25,6)+COUNTIF(C25:H25,7)+COUNTIF(C25:H25,8)+COUNTIF(C25:H25,9)+COUNTIF(C25:H25,10)+COUNTIF(C25:H25,11)+COUNTIF(C25:H25,12)+COUNTIF(C25:H25,13)+COUNTIF(C25:H25,14)+COUNTIF(C25:H25,15)+COUNTIF(C25:H25,16)+COUNTIF(C25:H25,17)+COUNTIF(C25:H25,18)+COUNTIF(C25:H25,19)+COUNTIF(C25:H25,20)+COUNTIF(C25:H25,21)+COUNTIF(C25:H25,22)+COUNTIF(C25:H25,23)+COUNTIF(C25:H25,24)+COUNTIF(C25:H25,25)+COUNTIF(C25:H25,26)+COUNTIF(C25:H25,27)+COUNTIF(C25:H25,28)+COUNTIF(C25:H25,29)+COUNTIF(C25:H25,30)+COUNTIF(C25:H25,31)+COUNTIF(C25:H25,32)+COUNTIF(C25:H25,33)+COUNTIF(C25:H25,34)+COUNTIF(C25:H25,35)+COUNTIF(C25:H25,36)+COUNTIF(C25:H25,37)+COUNTIF(C25:H25,38)+COUNTIF(C25:H25,39)+COUNTIF(C25:H25,40)+COUNTIF(C25:H25,41)+COUNTIF(C25:H25,42)+COUNTIF(C25:H25,43)+COUNTIF(C25:H25,44)+COUNTIF(C25:H25,45)+COUNTIF(C25:H25,46)+COUNTIF(C25:H25,47)+COUNTIF(C25:H25,48)+COUNTIF(C25:H25,49)+COUNTIF(C25:H25,50)+COUNTIF(C25:H25,51)+COUNTIF(C25:H25,52)+COUNTIF(C25:H25,53)+COUNTIF(C25:H25,54)+COUNTIF(C25:H25,55)+COUNTIF(C25:H25,56)+COUNTIF(C25:H25,57)+COUNTIF(C25:H25,58)+COUNTIF(C25:H25,59) -> 0 | J25: 22 | K25: Linda Taylor | R25: =COUNTIF(L25:Q25,1)+COUNTIF(L25:Q25,2)+COUNTIF(L25:Q25,3)+COUNTIF(L25:Q25,4)+COUNTIF(L25:Q25,5)+COUNTIF(L25:Q25,6)+COUNTIF(L25:Q25,7)+COUNTIF(L25:Q25,8)+COUNTIF(L25:Q25,9)+COUNTIF(L25:Q25,10)+COUNTIF(L25:Q25,11)+COUNTIF(L25:Q25,12)+COUNTIF(L25:Q25,13)+COUNTIF(L25:Q25,14)+COUNTIF(L25:Q25,15)+COUNTIF(L25:Q25,16)+COUNTIF(L25:Q25,17)+COUNTIF(L25:Q25,18)+COUNTIF(L25:Q25,19)+COUNTIF(L25:Q25,20)+COUNTIF(L25:Q25,21)+COUNTIF(L25:Q25,22)+COUNTIF(L25:Q25,23)+COUNTIF(L25:Q25,24)+COUNTIF(L25:Q25,25)+COUNTIF(L25:Q25,26)+COUNTIF(L25:Q25,27)+COUNTIF(L25:Q25,28)+COUNTIF(L25:Q25,29)+COUNTIF(L25:Q25,30)+COUNTIF(L25:Q25,31)+COUNTIF(L25:Q25,32)+COUNTIF(L25:Q25,33)+COUNTIF(L25:Q25,34)+COUNTIF(L25:Q25,35)+COUNTIF(L25:Q25,36)+COUNTIF(L25:Q25,37)+COUNTIF(L25:Q25,38)+COUNTIF(L25:Q25,39)+COUNTIF(L25:Q25,40)+COUNTIF(L25:Q25,41)+COUNTIF(L25:Q25,42)+COUNTIF(L25:Q25,43)+COUNTIF(L25:Q25,44)+COUNTIF(L25:Q25,45)+COUNTIF(L25:Q25,46)+COUNTIF(L25:Q25,47)+COUNTIF(L25:Q25,48)+COUNTIF(L25:Q25,49)+COUNTIF(L25:Q25,50)+COUNTIF(L25:Q25,51)+COUNTIF(L25:Q25,52)+COUNTIF(L25:Q25,53)+COUNTIF(L25:Q25,54)+COUNTIF(L25:Q25,55)+COUNTIF(L25:Q25,56)+COUNTIF(L25:Q25,57)+COUNTIF(L25:Q25,58)+COUNTIF(L25:Q25,59) -> 0 | U25: George Sutherland | Y25: Katie Edmonds
A26: 23 | B26: John Aldwinkle | I26: =COUNTIF(C26:H26,1)+COUNTIF(C26:H26,2)+COUNTIF(C26:H26,3)+COUNTIF(C26:H26,4)+COUNTIF(C26:H26,5)+COUNTIF(C26:H26,6)+COUNTIF(C26:H26,7)+COUNTIF(C26:H26,8)+COUNTIF(C26:H26,9)+COUNTIF(C26:H26,10)+COUNTIF(C26:H26,11)+COUNTIF(C26:H26,12)+COUNTIF(C26:H26,13)+COUNTIF(C26:H26,14)+COUNTIF(C26:H26,15)+COUNTIF(C26:H26,16)+COUNTIF(C26:H26,17)+COUNTIF(C26:H26,18)+COUNTIF(C26:H26,19)+COUNTIF(C26:H26,20)+COUNTIF(C26:H26,21)+COUNTIF(C26:H26,22)+COUNTIF(C26:H26,23)+COUNTIF(C26:H26,24)+COUNTIF(C26:H26,25)+COUNTIF(C26:H26,26)+COUNTIF(C26:H26,27)+COUNTIF(C26:H26,28)+COUNTIF(C26:H26,29)+COUNTIF(C26:H26,30)+COUNTIF(C26:H26,31)+COUNTIF(C26:H26,32)+COUNTIF(C26:H26,33)+COUNTIF(C26:H26,34)+COUNTIF(C26:H26,35)+COUNTIF(C26:H26,36)+COUNTIF(C26:H26,37)+COUNTIF(C26:H26,38)+COUNTIF(C26:H26,39)+COUNTIF(C26:H26,40)+COUNTIF(C26:H26,41)+COUNTIF(C26:H26,42)+COUNTIF(C26:H26,43)+COUNTIF(C26:H26,44)+COUNTIF(C26:H26,45)+COUNTIF(C26:H26,46)+COUNTIF(C26:H26,47)+COUNTIF(C26:H26,48)+COUNTIF(C26:H26,49)+COUNTIF(C26:H26,50)+COUNTIF(C26:H26,51)+COUNTIF(C26:H26,52)+COUNTIF(C26:H26,53)+COUNTIF(C26:H26,54)+COUNTIF(C26:H26,55)+COUNTIF(C26:H26,56)+COUNTIF(C26:H26,57)+COUNTIF(C26:H26,58)+COUNTIF(C26:H26,59) -> 0 | J26: 23 | K26: Lisa Peckover | L26: 2 | R26: =COUNTIF(L26:Q26,1)+COUNTIF(L26:Q26,2)+COUNTIF(L26:Q26,3)+COUNTIF(L26:Q26,4)+COUNTIF(L26:Q26,5)+COUNTIF(L26:Q26,6)+COUNTIF(L26:Q26,7)+COUNTIF(L26:Q26,8)+COUNTIF(L26:Q26,9)+COUNTIF(L26:Q26,10)+COUNTIF(L26:Q26,11)+COUNTIF(L26:Q26,12)+COUNTIF(L26:Q26,13)+COUNTIF(L26:Q26,14)+COUNTIF(L26:Q26,15)+COUNTIF(L26:Q26,16)+COUNTIF(L26:Q26,17)+COUNTIF(L26:Q26,18)+COUNTIF(L26:Q26,19)+COUNTIF(L26:Q26,20)+COUNTIF(L26:Q26,21)+COUNTIF(L26:Q26,22)+COUNTIF(L26:Q26,23)+COUNTIF(L26:Q26,24)+COUNTIF(L26:Q26,25)+COUNTIF(L26:Q26,26)+COUNTIF(L26:Q26,27)+COUNTIF(L26:Q26,28)+COUNTIF(L26:Q26,29)+COUNTIF(L26:Q26,30)+COUNTIF(L26:Q26,31)+COUNTIF(L26:Q26,32)+COUNTIF(L26:Q26,33)+COUNTIF(L26:Q26,34)+COUNTIF(L26:Q26,35)+COUNTIF(L26:Q26,36)+COUNTIF(L26:Q26,37)+COUNTIF(L26:Q26,38)+COUNTIF(L26:Q26,39)+COUNTIF(L26:Q26,40)+COUNTIF(L26:Q26,41)+COUNTIF(L26:Q26,42)+COUNTIF(L26:Q26,43)+COUNTIF(L26:Q26,44)+COUNTIF(L26:Q26,45)+COUNTIF(L26:Q26,46)+COUNTIF(L26:Q26,47)+COUNTIF(L26:Q26,48)+COUNTIF(L26:Q26,49)+COUNTIF(L26:Q26,50)+COUNTIF(L26:Q26,51)+COUNTIF(L26:Q26,52)+COUNTIF(L26:Q26,53)+COUNTIF(L26:Q26,54)+COUNTIF(L26:Q26,55)+COUNTIF(L26:Q26,56)+COUNTIF(L26:Q26,57)+COUNTIF(L26:Q26,58)+COUNTIF(L26:Q26,59) -> 1 | U26: Graham Clarke | Y26: Kayleigh Gyles
A27: 24 | B27: John Motershead | C27: 21 | I27: =COUNTIF(C27:H27,1)+COUNTIF(C27:H27,2)+COUNTIF(C27:H27,3)+COUNTIF(C27:H27,4)+COUNTIF(C27:H27,5)+COUNTIF(C27:H27,6)+COUNTIF(C27:H27,7)+COUNTIF(C27:H27,8)+COUNTIF(C27:H27,9)+COUNTIF(C27:H27,10)+COUNTIF(C27:H27,11)+COUNTIF(C27:H27,12)+COUNTIF(C27:H27,13)+COUNTIF(C27:H27,14)+COUNTIF(C27:H27,15)+COUNTIF(C27:H27,16)+COUNTIF(C27:H27,17)+COUNTIF(C27:H27,18)+COUNTIF(C27:H27,19)+COUNTIF(C27:H27,20)+COUNTIF(C27:H27,21)+COUNTIF(C27:H27,22)+COUNTIF(C27:H27,23)+COUNTIF(C27:H27,24)+COUNTIF(C27:H27,25)+COUNTIF(C27:H27,26)+COUNTIF(C27:H27,27)+COUNTIF(C27:H27,28)+COUNTIF(C27:H27,29)+COUNTIF(C27:H27,30)+COUNTIF(C27:H27,31)+COUNTIF(C27:H27,32)+COUNTIF(C27:H27,33)+COUNTIF(C27:H27,34)+COUNTIF(C27:H27,35)+COUNTIF(C27:H27,36)+COUNTIF(C27:H27,37)+COUNTIF(C27:H27,38)+COUNTIF(C27:H27,39)+COUNTIF(C27:H27,40)+COUNTIF(C27:H27,41)+COUNTIF(C27:H27,42)+COUNTIF(C27:H27,43)+COUNTIF(C27:H27,44)+COUNTIF(C27:H27,45)+COUNTIF(C27:H27,46)+COUNTIF(C27:H27,47)+COUNTIF(C27:H27,48)+COUNTIF(C27:H27,49)+COUNTIF(C27:H27,50)+COUNTIF(C27:H27,51)+COUNTIF(C27:H27,52)+COUNTIF(C27:H27,53)+COUNTIF(C27:H27,54)+COUNTIF(C27:H27,55)+COUNTIF(C27:H27,56)+COUNTIF(C27:H27,57)+COUNTIF(C27:H27,58)+COUNTIF(C27:H27,59) -> 1 | J27: 24 | K27: Nikki Thomas | R27: =COUNTIF(L27:Q27,1)+COUNTIF(L27:Q27,2)+COUNTIF(L27:Q27,3)+COUNTIF(L27:Q27,4)+COUNTIF(L27:Q27,5)+COUNTIF(L27:Q27,6)+COUNTIF(L27:Q27,7)+COUNTIF(L27:Q27,8)+COUNTIF(L27:Q27,9)+COUNTIF(L27:Q27,10)+COUNTIF(L27:Q27,11)+COUNTIF(L27:Q27,12)+COUNTIF(L27:Q27,13)+COUNTIF(L27:Q27,14)+COUNTIF(L27:Q27,15)+COUNTIF(L27:Q27,16)+COUNTIF(L27:Q27,17)+COUNTIF(L27:Q27,18)+COUNTIF(L27:Q27,19)+COUNTIF(L27:Q27,20)+COUNTIF(L27:Q27,21)+COUNTIF(L27:Q27,22)+COUNTIF(L27:Q27,23)+COUNTIF(L27:Q27,24)+COUNTIF(L27:Q27,25)+COUNTIF(L27:Q27,26)+COUNTIF(L27:Q27,27)+COUNTIF(L27:Q27,28)+COUNTIF(L27:Q27,29)+COUNTIF(L27:Q27,30)+COUNTIF(L27:Q27,31)+COUNTIF(L27:Q27,32)+COUNTIF(L27:Q27,33)+COUNTIF(L27:Q27,34)+COUNTIF(L27:Q27,35)+COUNTIF(L27:Q27,36)+COUNTIF(L27:Q27,37)+COUNTIF(L27:Q27,38)+COUNTIF(L27:Q27,39)+COUNTIF(L27:Q27,40)+COUNTIF(L27:Q27,41)+COUNTIF(L27:Q27,42)+COUNTIF(L27:Q27,43)+COUNTIF(L27:Q27,44)+COUNTIF(L27:Q27,45)+COUNTIF(L27:Q27,46)+COUNTIF(L27:Q27,47)+COUNTIF(L27:Q27,48)+COUNTIF(L27:Q27,49)+COUNTIF(L27:Q27,50)+COUNTIF(L27:Q27,51)+COUNTIF(L27:Q27,52)+COUNTIF(L27:Q27,53)+COUNTIF(L27:Q27,54)+COUNTIF(L27:Q27,55)+COUNTIF(L27:Q27,56)+COUNTIF(L27:Q27,57)+COUNTIF(L27:Q27,58)+COUNTIF(L27:Q27,59) -> 0 | U27: Harry Woodroof | Y27: Kimberley Churchill
A28: 25 | B28: John Malthouse | I28: =COUNTIF(C28:H28,1)+COUNTIF(C28:H28,2)+COUNTIF(C28:H28,3)+COUNTIF(C28:H28,4)+COUNTIF(C28:H28,5)+COUNTIF(C28:H28,6)+COUNTIF(C28:H28,7)+COUNTIF(C28:H28,8)+COUNTIF(C28:H28,9)+COUNTIF(C28:H28,10)+COUNTIF(C28:H28,11)+COUNTIF(C28:H28,12)+COUNTIF(C28:H28,13)+COUNTIF(C28:H28,14)+COUNTIF(C28:H28,15)+COUNTIF(C28:H28,16)+COUNTIF(C28:H28,17)+COUNTIF(C28:H28,18)+COUNTIF(C28:H28,19)+COUNTIF(C28:H28,20)+COUNTIF(C28:H28,21)+COUNTIF(C28:H28,22)+COUNTIF(C28:H28,23)+COUNTIF(C28:H28,24)+COUNTIF(C28:H28,25)+COUNTIF(C28:H28,26)+COUNTIF(C28:H28,27)+COUNTIF(C28:H28,28)+COUNTIF(C28:H28,29)+COUNTIF(C28:H28,30)+COUNTIF(C28:H28,31)+COUNTIF(C28:H28,32)+COUNTIF(C28:H28,33)+COUNTIF(C28:H28,34)+COUNTIF(C28:H28,35)+COUNTIF(C28:H28,36)+COUNTIF(C28:H28,37)+COUNTIF(C28:H28,38)+COUNTIF(C28:H28,39)+COUNTIF(C28:H28,40)+COUNTIF(C28:H28,41)+COUNTIF(C28:H28,42)+COUNTIF(C28:H28,43)+COUNTIF(C28:H28,44)+COUNTIF(C28:H28,45)+COUNTIF(C28:H28,46)+COUNTIF(C28:H28,47)+COUNTIF(C28:H28,48)+COUNTIF(C28:H28,49)+COUNTIF(C28:H28,50)+COUNTIF(C28:H28,51)+COUNTIF(C28:H28,52)+COUNTIF(C28:H28,53)+COUNTIF(C28:H28,54)+COUNTIF(C28:H28,55)+COUNTIF(C28:H28,56)+COUNTIF(C28:H28,57)+COUNTIF(C28:H28,58)+COUNTIF(C28:H28,59) -> 0 | J28: 25 | K28: Rachael Harrison | R28: =COUNTIF(L28:Q28,1)+COUNTIF(L28:Q28,2)+COUNTIF(L28:Q28,3)+COUNTIF(L28:Q28,4)+COUNTIF(L28:Q28,5)+COUNTIF(L28:Q28,6)+COUNTIF(L28:Q28,7)+COUNTIF(L28:Q28,8)+COUNTIF(L28:Q28,9)+COUNTIF(L28:Q28,10)+COUNTIF(L28:Q28,11)+COUNTIF(L28:Q28,12)+COUNTIF(L28:Q28,13)+COUNTIF(L28:Q28,14)+COUNTIF(L28:Q28,15)+COUNTIF(L28:Q28,16)+COUNTIF(L28:Q28,17)+COUNTIF(L28:Q28,18)+COUNTIF(L28:Q28,19)+COUNTIF(L28:Q28,20)+COUNTIF(L28:Q28,21)+COUNTIF(L28:Q28,22)+COUNTIF(L28:Q28,23)+COUNTIF(L28:Q28,24)+COUNTIF(L28:Q28,25)+COUNTIF(L28:Q28,26)+COUNTIF(L28:Q28,27)+COUNTIF(L28:Q28,28)+COUNTIF(L28:Q28,29)+COUNTIF(L28:Q28,30)+COUNTIF(L28:Q28,31)+COUNTIF(L28:Q28,32)+COUNTIF(L28:Q28,33)+COUNTIF(L28:Q28,34)+COUNTIF(L28:Q28,35)+COUNTIF(L28:Q28,36)+COUNTIF(L28:Q28,37)+COUNTIF(L28:Q28,38)+COUNTIF(L28:Q28,39)+COUNTIF(L28:Q28,40)+COUNTIF(L28:Q28,41)+COUNTIF(L28:Q28,42)+COUNTIF(L28:Q28,43)+COUNTIF(L28:Q28,44)+COUNTIF(L28:Q28,45)+COUNTIF(L28:Q28,46)+COUNTIF(L28:Q28,47)+COUNTIF(L28:Q28,48)+COUNTIF(L28:Q28,49)+COUNTIF(L28:Q28,50)+COUNTIF(L28:Q28,51)+COUNTIF(L28:Q28,52)+COUNTIF(L28:Q28,53)+COUNTIF(L28:Q28,54)+COUNTIF(L28:Q28,55)+COUNTIF(L28:Q28,56)+COUNTIF(L28:Q28,57)+COUNTIF(L28:Q28,58)+COUNTIF(L28:Q28,59) -> 0 | U28: Henry Piper | Y28: Kirsty Aked
A29: 26 | B29: Julian Manning | C29: 6 | I29: =COUNTIF(C29:H29,1)+COUNTIF(C29:H29,2)+COUNTIF(C29:H29,3)+COUNTIF(C29:H29,4)+COUNTIF(C29:H29,5)+COUNTIF(C29:H29,6)+COUNTIF(C29:H29,7)+COUNTIF(C29:H29,8)+COUNTIF(C29:H29,9)+COUNTIF(C29:H29,10)+COUNTIF(C29:H29,11)+COUNTIF(C29:H29,12)+COUNTIF(C29:H29,13)+COUNTIF(C29:H29,14)+COUNTIF(C29:H29,15)+COUNTIF(C29:H29,16)+COUNTIF(C29:H29,17)+COUNTIF(C29:H29,18)+COUNTIF(C29:H29,19)+COUNTIF(C29:H29,20)+COUNTIF(C29:H29,21)+COUNTIF(C29:H29,22)+COUNTIF(C29:H29,23)+COUNTIF(C29:H29,24)+COUNTIF(C29:H29,25)+COUNTIF(C29:H29,26)+COUNTIF(C29:H29,27)+COUNTIF(C29:H29,28)+COUNTIF(C29:H29,29)+COUNTIF(C29:H29,30)+COUNTIF(C29:H29,31)+COUNTIF(C29:H29,32)+COUNTIF(C29:H29,33)+COUNTIF(C29:H29,34)+COUNTIF(C29:H29,35)+COUNTIF(C29:H29,36)+COUNTIF(C29:H29,37)+COUNTIF(C29:H29,38)+COUNTIF(C29:H29,39)+COUNTIF(C29:H29,40)+COUNTIF(C29:H29,41)+COUNTIF(C29:H29,42)+COUNTIF(C29:H29,43)+COUNTIF(C29:H29,44)+COUNTIF(C29:H29,45)+COUNTIF(C29:H29,46)+COUNTIF(C29:H29,47)+COUNTIF(C29:H29,48)+COUNTIF(C29:H29,49)+COUNTIF(C29:H29,50)+COUNTIF(C29:H29,51)+COUNTIF(C29:H29,52)+COUNTIF(C29:H29,53)+COUNTIF(C29:H29,54)+COUNTIF(C29:H29,55)+COUNTIF(C29:H29,56)+COUNTIF(C29:H29,57)+COUNTIF(C29:H29,58)+COUNTIF(C29:H29,59) -> 1 | J29: 26 | K29: Sam Morris | L29: 1 | R29: =COUNTIF(L29:Q29,1)+COUNTIF(L29:Q29,2)+COUNTIF(L29:Q29,3)+COUNTIF(L29:Q29,4)+COUNTIF(L29:Q29,5)+COUNTIF(L29:Q29,6)+COUNTIF(L29:Q29,7)+COUNTIF(L29:Q29,8)+COUNTIF(L29:Q29,9)+COUNTIF(L29:Q29,10)+COUNTIF(L29:Q29,11)+COUNTIF(L29:Q29,12)+COUNTIF(L29:Q29,13)+COUNTIF(L29:Q29,14)+COUNTIF(L29:Q29,15)+COUNTIF(L29:Q29,16)+COUNTIF(L29:Q29,17)+COUNTIF(L29:Q29,18)+COUNTIF(L29:Q29,19)+COUNTIF(L29:Q29,20)+COUNTIF(L29:Q29,21)+COUNTIF(L29:Q29,22)+COUNTIF(L29:Q29,23)+COUNTIF(L29:Q29,24)+COUNTIF(L29:Q29,25)+COUNTIF(L29:Q29,26)+COUNTIF(L29:Q29,27)+COUNTIF(L29:Q29,28)+COUNTIF(L29:Q29,29)+COUNTIF(L29:Q29,30)+COUNTIF(L29:Q29,31)+COUNTIF(L29:Q29,32)+COUNTIF(L29:Q29,33)+COUNTIF(L29:Q29,34)+COUNTIF(L29:Q29,35)+COUNTIF(L29:Q29,36)+COUNTIF(L29:Q29,37)+COUNTIF(L29:Q29,38)+COUNTIF(L29:Q29,39)+COUNTIF(L29:Q29,40)+COUNTIF(L29:Q29,41)+COUNTIF(L29:Q29,42)+COUNTIF(L29:Q29,43)+COUNTIF(L29:Q29,44)+COUNTIF(L29:Q29,45)+COUNTIF(L29:Q29,46)+COUNTIF(L29:Q29,47)+COUNTIF(L29:Q29,48)+COUNTIF(L29:Q29,49)+COUNTIF(L29:Q29,50)+COUNTIF(L29:Q29,51)+COUNTIF(L29:Q29,52)+COUNTIF(L29:Q29,53)+COUNTIF(L29:Q29,54)+COUNTIF(L29:Q29,55)+COUNTIF(L29:Q29,56)+COUNTIF(L29:Q29,57)+COUNTIF(L29:Q29,58)+COUNTIF(L29:Q29,59) -> 1 | U29: James Cocksedge | Y29: Lauren Field
A30: 27 | B30: Kev Gale | I30: =COUNTIF(C30:H30,1)+COUNTIF(C30:H30,2)+COUNTIF(C30:H30,3)+COUNTIF(C30:H30,4)+COUNTIF(C30:H30,5)+COUNTIF(C30:H30,6)+COUNTIF(C30:H30,7)+COUNTIF(C30:H30,8)+COUNTIF(C30:H30,9)+COUNTIF(C30:H30,10)+COUNTIF(C30:H30,11)+COUNTIF(C30:H30,12)+COUNTIF(C30:H30,13)+COUNTIF(C30:H30,14)+COUNTIF(C30:H30,15)+COUNTIF(C30:H30,16)+COUNTIF(C30:H30,17)+COUNTIF(C30:H30,18)+COUNTIF(C30:H30,19)+COUNTIF(C30:H30,20)+COUNTIF(C30:H30,21)+COUNTIF(C30:H30,22)+COUNTIF(C30:H30,23)+COUNTIF(C30:H30,24)+COUNTIF(C30:H30,25)+COUNTIF(C30:H30,26)+COUNTIF(C30:H30,27)+COUNTIF(C30:H30,28)+COUNTIF(C30:H30,29)+COUNTIF(C30:H30,30)+COUNTIF(C30:H30,31)+COUNTIF(C30:H30,32)+COUNTIF(C30:H30,33)+COUNTIF(C30:H30,34)+COUNTIF(C30:H30,35)+COUNTIF(C30:H30,36)+COUNTIF(C30:H30,37)+COUNTIF(C30:H30,38)+COUNTIF(C30:H30,39)+COUNTIF(C30:H30,40)+COUNTIF(C30:H30,41)+COUNTIF(C30:H30,42)+COUNTIF(C30:H30,43)+COUNTIF(C30:H30,44)+COUNTIF(C30:H30,45)+COUNTIF(C30:H30,46)+COUNTIF(C30:H30,47)+COUNTIF(C30:H30,48)+COUNTIF(C30:H30,49)+COUNTIF(C30:H30,50)+COUNTIF(C30:H30,51)+COUNTIF(C30:H30,52)+COUNTIF(C30:H30,53)+COUNTIF(C30:H30,54)+COUNTIF(C30:H30,55)+COUNTIF(C30:H30,56)+COUNTIF(C30:H30,57)+COUNTIF(C30:H30,58)+COUNTIF(C30:H30,59) -> 0 | J30: 27 | K30: Sue Colenutt | R30: =COUNTIF(L30:Q30,1)+COUNTIF(L30:Q30,2)+COUNTIF(L30:Q30,3)+COUNTIF(L30:Q30,4)+COUNTIF(L30:Q30,5)+COUNTIF(L30:Q30,6)+COUNTIF(L30:Q30,7)+COUNTIF(L30:Q30,8)+COUNTIF(L30:Q30,9)+COUNTIF(L30:Q30,10)+COUNTIF(L30:Q30,11)+COUNTIF(L30:Q30,12)+COUNTIF(L30:Q30,13)+COUNTIF(L30:Q30,14)+COUNTIF(L30:Q30,15)+COUNTIF(L30:Q30,16)+COUNTIF(L30:Q30,17)+COUNTIF(L30:Q30,18)+COUNTIF(L30:Q30,19)+COUNTIF(L30:Q30,20)+COUNTIF(L30:Q30,21)+COUNTIF(L30:Q30,22)+COUNTIF(L30:Q30,23)+COUNTIF(L30:Q30,24)+COUNTIF(L30:Q30,25)+COUNTIF(L30:Q30,26)+COUNTIF(L30:Q30,27)+COUNTIF(L30:Q30,28)+COUNTIF(L30:Q30,29)+COUNTIF(L30:Q30,30)+COUNTIF(L30:Q30,31)+COUNTIF(L30:Q30,32)+COUNTIF(L30:Q30,33)+COUNTIF(L30:Q30,34)+COUNTIF(L30:Q30,35)+COUNTIF(L30:Q30,36)+COUNTIF(L30:Q30,37)+COUNTIF(L30:Q30,38)+COUNTIF(L30:Q30,39)+COUNTIF(L30:Q30,40)+COUNTIF(L30:Q30,41)+COUNTIF(L30:Q30,42)+COUNTIF(L30:Q30,43)+COUNTIF(L30:Q30,44)+COUNTIF(L30:Q30,45)+COUNTIF(L30:Q30,46)+COUNTIF(L30:Q30,47)+COUNTIF(L30:Q30,48)+COUNTIF(L30:Q30,49)+COUNTIF(L30:Q30,50)+COUNTIF(L30:Q30,51)+COUNTIF(L30:Q30,52)+COUNTIF(L30:Q30,53)+COUNTIF(L30:Q30,54)+COUNTIF(L30:Q30,55)+COUNTIF(L30:Q30,56)+COUNTIF(L30:Q30,57)+COUNTIF(L30:Q30,58)+COUNTIF(L30:Q30,59) -> 0 | U30: Jeffrey Streeter | Y30: Lee King
A31: 28 | B31: Lee Mawson | I31: =COUNTIF(C31:H31,1)+COUNTIF(C31:H31,2)+COUNTIF(C31:H31,3)+COUNTIF(C31:H31,4)+COUNTIF(C31:H31,5)+COUNTIF(C31:H31,6)+COUNTIF(C31:H31,7)+COUNTIF(C31:H31,8)+COUNTIF(C31:H31,9)+COUNTIF(C31:H31,10)+COUNTIF(C31:H31,11)+COUNTIF(C31:H31,12)+COUNTIF(C31:H31,13)+COUNTIF(C31:H31,14)+COUNTIF(C31:H31,15)+COUNTIF(C31:H31,16)+COUNTIF(C31:H31,17)+COUNTIF(C31:H31,18)+COUNTIF(C31:H31,19)+COUNTIF(C31:H31,20)+COUNTIF(C31:H31,21)+COUNTIF(C31:H31,22)+COUNTIF(C31:H31,23)+COUNTIF(C31:H31,24)+COUNTIF(C31:H31,25)+COUNTIF(C31:H31,26)+COUNTIF(C31:H31,27)+COUNTIF(C31:H31,28)+COUNTIF(C31:H31,29)+COUNTIF(C31:H31,30)+COUNTIF(C31:H31,31)+COUNTIF(C31:H31,32)+COUNTIF(C31:H31,33)+COUNTIF(C31:H31,34)+COUNTIF(C31:H31,35)+COUNTIF(C31:H31,36)+COUNTIF(C31:H31,37)+COUNTIF(C31:H31,38)+COUNTIF(C31:H31,39)+COUNTIF(C31:H31,40)+COUNTIF(C31:H31,41)+COUNTIF(C31:H31,42)+COUNTIF(C31:H31,43)+COUNTIF(C31:H31,44)+COUNTIF(C31:H31,45)+COUNTIF(C31:H31,46)+COUNTIF(C31:H31,47)+COUNTIF(C31:H31,48)+COUNTIF(C31:H31,49)+COUNTIF(C31:H31,50)+COUNTIF(C31:H31,51)+COUNTIF(C31:H31,52)+COUNTIF(C31:H31,53)+COUNTIF(C31:H31,54)+COUNTIF(C31:H31,55)+COUNTIF(C31:H31,56)+COUNTIF(C31:H31,57)+COUNTIF(C31:H31,58)+COUNTIF(C31:H31,59) -> 0 | J31: 28 | K31: Tillie Madgwick | R31: =COUNTIF(L31:Q31,1)+COUNTIF(L31:Q31,2)+COUNTIF(L31:Q31,3)+COUNTIF(L31:Q31,4)+COUNTIF(L31:Q31,5)+COUNTIF(L31:Q31,6)+COUNTIF(L31:Q31,7)+COUNTIF(L31:Q31,8)+COUNTIF(L31:Q31,9)+COUNTIF(L31:Q31,10)+COUNTIF(L31:Q31,11)+COUNTIF(L31:Q31,12)+COUNTIF(L31:Q31,13)+COUNTIF(L31:Q31,14)+COUNTIF(L31:Q31,15)+COUNTIF(L31:Q31,16)+COUNTIF(L31:Q31,17)+COUNTIF(L31:Q31,18)+COUNTIF(L31:Q31,19)+COUNTIF(L31:Q31,20)+COUNTIF(L31:Q31,21)+COUNTIF(L31:Q31,22)+COUNTIF(L31:Q31,23)+COUNTIF(L31:Q31,24)+COUNTIF(L31:Q31,25)+COUNTIF(L31:Q31,26)+COUNTIF(L31:Q31,27)+COUNTIF(L31:Q31,28)+COUNTIF(L31:Q31,29)+COUNTIF(L31:Q31,30)+COUNTIF(L31:Q31,31)+COUNTIF(L31:Q31,32)+COUNTIF(L31:Q31,33)+COUNTIF(L31:Q31,34)+COUNTIF(L31:Q31,35)+COUNTIF(L31:Q31,36)+COUNTIF(L31:Q31,37)+COUNTIF(L31:Q31,38)+COUNTIF(L31:Q31,39)+COUNTIF(L31:Q31,40)+COUNTIF(L31:Q31,41)+COUNTIF(L31:Q31,42)+COUNTIF(L31:Q31,43)+COUNTIF(L31:Q31,44)+COUNTIF(L31:Q31,45)+COUNTIF(L31:Q31,46)+COUNTIF(L31:Q31,47)+COUNTIF(L31:Q31,48)+COUNTIF(L31:Q31,49)+COUNTIF(L31:Q31,50)+COUNTIF(L31:Q31,51)+COUNTIF(L31:Q31,52)+COUNTIF(L31:Q31,53)+COUNTIF(L31:Q31,54)+COUNTIF(L31:Q31,55)+COUNTIF(L31:Q31,56)+COUNTIF(L31:Q31,57)+COUNTIF(L31:Q31,58)+COUNTIF(L31:Q31,59) -> 0 | U31: John Aldwinkle | Y31: Linda Taylor
A32: 29 | B32: Lee Weeks | I32: =COUNTIF(C32:H32,1)+COUNTIF(C32:H32,2)+COUNTIF(C32:H32,3)+COUNTIF(C32:H32,4)+COUNTIF(C32:H32,5)+COUNTIF(C32:H32,6)+COUNTIF(C32:H32,7)+COUNTIF(C32:H32,8)+COUNTIF(C32:H32,9)+COUNTIF(C32:H32,10)+COUNTIF(C32:H32,11)+COUNTIF(C32:H32,12)+COUNTIF(C32:H32,13)+COUNTIF(C32:H32,14)+COUNTIF(C32:H32,15)+COUNTIF(C32:H32,16)+COUNTIF(C32:H32,17)+COUNTIF(C32:H32,18)+COUNTIF(C32:H32,19)+COUNTIF(C32:H32,20)+COUNTIF(C32:H32,21)+COUNTIF(C32:H32,22)+COUNTIF(C32:H32,23)+COUNTIF(C32:H32,24)+COUNTIF(C32:H32,25)+COUNTIF(C32:H32,26)+COUNTIF(C32:H32,27)+COUNTIF(C32:H32,28)+COUNTIF(C32:H32,29)+COUNTIF(C32:H32,30)+COUNTIF(C32:H32,31)+COUNTIF(C32:H32,32)+COUNTIF(C32:H32,33)+COUNTIF(C32:H32,34)+COUNTIF(C32:H32,35)+COUNTIF(C32:H32,36)+COUNTIF(C32:H32,37)+COUNTIF(C32:H32,38)+COUNTIF(C32:H32,39)+COUNTIF(C32:H32,40)+COUNTIF(C32:H32,41)+COUNTIF(C32:H32,42)+COUNTIF(C32:H32,43)+COUNTIF(C32:H32,44)+COUNTIF(C32:H32,45)+COUNTIF(C32:H32,46)+COUNTIF(C32:H32,47)+COUNTIF(C32:H32,48)+COUNTIF(C32:H32,49)+COUNTIF(C32:H32,50)+COUNTIF(C32:H32,51)+COUNTIF(C32:H32,52)+COUNTIF(C32:H32,53)+COUNTIF(C32:H32,54)+COUNTIF(C32:H32,55)+COUNTIF(C32:H32,56)+COUNTIF(C32:H32,57)+COUNTIF(C32:H32,58)+COUNTIF(C32:H32,59) -> 0 | J32: 29 | K32: Tracy Crank | R32: =COUNTIF(L32:Q32,1)+COUNTIF(L32:Q32,2)+COUNTIF(L32:Q32,3)+COUNTIF(L32:Q32,4)+COUNTIF(L32:Q32,5)+COUNTIF(L32:Q32,6)+COUNTIF(L32:Q32,7)+COUNTIF(L32:Q32,8)+COUNTIF(L32:Q32,9)+COUNTIF(L32:Q32,10)+COUNTIF(L32:Q32,11)+COUNTIF(L32:Q32,12)+COUNTIF(L32:Q32,13)+COUNTIF(L32:Q32,14)+COUNTIF(L32:Q32,15)+COUNTIF(L32:Q32,16)+COUNTIF(L32:Q32,17)+COUNTIF(L32:Q32,18)+COUNTIF(L32:Q32,19)+COUNTIF(L32:Q32,20)+COUNTIF(L32:Q32,21)+COUNTIF(L32:Q32,22)+COUNTIF(L32:Q32,23)+COUNTIF(L32:Q32,24)+COUNTIF(L32:Q32,25)+COUNTIF(L32:Q32,26)+COUNTIF(L32:Q32,27)+COUNTIF(L32:Q32,28)+COUNTIF(L32:Q32,29)+COUNTIF(L32:Q32,30)+COUNTIF(L32:Q32,31)+COUNTIF(L32:Q32,32)+COUNTIF(L32:Q32,33)+COUNTIF(L32:Q32,34)+COUNTIF(L32:Q32,35)+COUNTIF(L32:Q32,36)+COUNTIF(L32:Q32,37)+COUNTIF(L32:Q32,38)+COUNTIF(L32:Q32,39)+COUNTIF(L32:Q32,40)+COUNTIF(L32:Q32,41)+COUNTIF(L32:Q32,42)+COUNTIF(L32:Q32,43)+COUNTIF(L32:Q32,44)+COUNTIF(L32:Q32,45)+COUNTIF(L32:Q32,46)+COUNTIF(L32:Q32,47)+COUNTIF(L32:Q32,48)+COUNTIF(L32:Q32,49)+COUNTIF(L32:Q32,50)+COUNTIF(L32:Q32,51)+COUNTIF(L32:Q32,52)+COUNTIF(L32:Q32,53)+COUNTIF(L32:Q32,54)+COUNTIF(L32:Q32,55)+COUNTIF(L32:Q32,56)+COUNTIF(L32:Q32,57)+COUNTIF(L32:Q32,58)+COUNTIF(L32:Q32,59) -> 0 | U32: John Brimecome | Y32: Lisa Peckover
A33: 30 | B33: Mark Bicknell | C33: 1 | I33: =COUNTIF(C33:H33,1)+COUNTIF(C33:H33,2)+COUNTIF(C33:H33,3)+COUNTIF(C33:H33,4)+COUNTIF(C33:H33,5)+COUNTIF(C33:H33,6)+COUNTIF(C33:H33,7)+COUNTIF(C33:H33,8)+COUNTIF(C33:H33,9)+COUNTIF(C33:H33,10)+COUNTIF(C33:H33,11)+COUNTIF(C33:H33,12)+COUNTIF(C33:H33,13)+COUNTIF(C33:H33,14)+COUNTIF(C33:H33,15)+COUNTIF(C33:H33,16)+COUNTIF(C33:H33,17)+COUNTIF(C33:H33,18)+COUNTIF(C33:H33,19)+COUNTIF(C33:H33,20)+COUNTIF(C33:H33,21)+COUNTIF(C33:H33,22)+COUNTIF(C33:H33,23)+COUNTIF(C33:H33,24)+COUNTIF(C33:H33,25)+COUNTIF(C33:H33,26)+COUNTIF(C33:H33,27)+COUNTIF(C33:H33,28)+COUNTIF(C33:H33,29)+COUNTIF(C33:H33,30)+COUNTIF(C33:H33,31)+COUNTIF(C33:H33,32)+COUNTIF(C33:H33,33)+COUNTIF(C33:H33,34)+COUNTIF(C33:H33,35)+COUNTIF(C33:H33,36)+COUNTIF(C33:H33,37)+COUNTIF(C33:H33,38)+COUNTIF(C33:H33,39)+COUNTIF(C33:H33,40)+COUNTIF(C33:H33,41)+COUNTIF(C33:H33,42)+COUNTIF(C33:H33,43)+COUNTIF(C33:H33,44)+COUNTIF(C33:H33,45)+COUNTIF(C33:H33,46)+COUNTIF(C33:H33,47)+COUNTIF(C33:H33,48)+COUNTIF(C33:H33,49)+COUNTIF(C33:H33,50)+COUNTIF(C33:H33,51)+COUNTIF(C33:H33,52)+COUNTIF(C33:H33,53)+COUNTIF(C33:H33,54)+COUNTIF(C33:H33,55)+COUNTIF(C33:H33,56)+COUNTIF(C33:H33,57)+COUNTIF(C33:H33,58)+COUNTIF(C33:H33,59) -> 1 | U33: John Field | Y33: Liz Steward
A34: 31 | B34: Martin Shaw | I34: =COUNTIF(C34:H34,1)+COUNTIF(C34:H34,2)+COUNTIF(C34:H34,3)+COUNTIF(C34:H34,4)+COUNTIF(C34:H34,5)+COUNTIF(C34:H34,6)+COUNTIF(C34:H34,7)+COUNTIF(C34:H34,8)+COUNTIF(C34:H34,9)+COUNTIF(C34:H34,10)+COUNTIF(C34:H34,11)+COUNTIF(C34:H34,12)+COUNTIF(C34:H34,13)+COUNTIF(C34:H34,14)+COUNTIF(C34:H34,15)+COUNTIF(C34:H34,16)+COUNTIF(C34:H34,17)+COUNTIF(C34:H34,18)+COUNTIF(C34:H34,19)+COUNTIF(C34:H34,20)+COUNTIF(C34:H34,21)+COUNTIF(C34:H34,22)+COUNTIF(C34:H34,23)+COUNTIF(C34:H34,24)+COUNTIF(C34:H34,25)+COUNTIF(C34:H34,26)+COUNTIF(C34:H34,27)+COUNTIF(C34:H34,28)+COUNTIF(C34:H34,29)+COUNTIF(C34:H34,30)+COUNTIF(C34:H34,31)+COUNTIF(C34:H34,32)+COUNTIF(C34:H34,33)+COUNTIF(C34:H34,34)+COUNTIF(C34:H34,35)+COUNTIF(C34:H34,36)+COUNTIF(C34:H34,37)+COUNTIF(C34:H34,38)+COUNTIF(C34:H34,39)+COUNTIF(C34:H34,40)+COUNTIF(C34:H34,41)+COUNTIF(C34:H34,42)+COUNTIF(C34:H34,43)+COUNTIF(C34:H34,44)+COUNTIF(C34:H34,45)+COUNTIF(C34:H34,46)+COUNTIF(C34:H34,47)+COUNTIF(C34:H34,48)+COUNTIF(C34:H34,49)+COUNTIF(C34:H34,50)+COUNTIF(C34:H34,51)+COUNTIF(C34:H34,52)+COUNTIF(C34:H34,53)+COUNTIF(C34:H34,54)+COUNTIF(C34:H34,55)+COUNTIF(C34:H34,56)+COUNTIF(C34:H34,57)+COUNTIF(C34:H34,58)+COUNTIF(C34:H34,59) -> 0 | U34: John Malthouse | Y34: Nikki Thomas
A35: 32 | B35: Matt Russell | C35: 4 | I35: =COUNTIF(C35:H35,1)+COUNTIF(C35:H35,2)+COUNTIF(C35:H35,3)+COUNTIF(C35:H35,4)+COUNTIF(C35:H35,5)+COUNTIF(C35:H35,6)+COUNTIF(C35:H35,7)+COUNTIF(C35:H35,8)+COUNTIF(C35:H35,9)+COUNTIF(C35:H35,10)+COUNTIF(C35:H35,11)+COUNTIF(C35:H35,12)+COUNTIF(C35:H35,13)+COUNTIF(C35:H35,14)+COUNTIF(C35:H35,15)+COUNTIF(C35:H35,16)+COUNTIF(C35:H35,17)+COUNTIF(C35:H35,18)+COUNTIF(C35:H35,19)+COUNTIF(C35:H35,20)+COUNTIF(C35:H35,21)+COUNTIF(C35:H35,22)+COUNTIF(C35:H35,23)+COUNTIF(C35:H35,24)+COUNTIF(C35:H35,25)+COUNTIF(C35:H35,26)+COUNTIF(C35:H35,27)+COUNTIF(C35:H35,28)+COUNTIF(C35:H35,29)+COUNTIF(C35:H35,30)+COUNTIF(C35:H35,31)+COUNTIF(C35:H35,32)+COUNTIF(C35:H35,33)+COUNTIF(C35:H35,34)+COUNTIF(C35:H35,35)+COUNTIF(C35:H35,36)+COUNTIF(C35:H35,37)+COUNTIF(C35:H35,38)+COUNTIF(C35:H35,39)+COUNTIF(C35:H35,40)+COUNTIF(C35:H35,41)+COUNTIF(C35:H35,42)+COUNTIF(C35:H35,43)+COUNTIF(C35:H35,44)+COUNTIF(C35:H35,45)+COUNTIF(C35:H35,46)+COUNTIF(C35:H35,47)+COUNTIF(C35:H35,48)+COUNTIF(C35:H35,49)+COUNTIF(C35:H35,50)+COUNTIF(C35:H35,51)+COUNTIF(C35:H35,52)+COUNTIF(C35:H35,53)+COUNTIF(C35:H35,54)+COUNTIF(C35:H35,55)+COUNTIF(C35:H35,56)+COUNTIF(C35:H35,57)+COUNTIF(C35:H35,58)+COUNTIF(C35:H35,59) -> 1 | K35: Total runners per race | L35: =COUNTIF(L4:L32,1)+COUNTIF(L4:L32,2)+COUNTIF(L4:L32,3)+COUNTIF(L4:L32,4)+COUNTIF(L4:L32,5)+COUNTIF(L4:L32,6)+COUNTIF(L4:L32,7)+COUNTIF(L4:L32,8)+COUNTIF(L4:L32,9)+COUNTIF(L4:L32,10)+COUNTIF(L4:L32,11)+COUNTIF(L4:L32,12)+COUNTIF(L4:L32,13)+COUNTIF(L4:L32,14)+COUNTIF(L4:L32,15)+COUNTIF(L4:L32,16)+COUNTIF(L4:L32,17)+COUNTIF(L4:L32,18)+COUNTIF(L4:L32,19)+COUNTIF(L4:L32,20)+COUNTIF(L4:L32,21)+COUNTIF(L4:L32,22)+COUNTIF(L4:L32,23)+COUNTIF(L4:L32,24)+COUNTIF(L4:L32,25)+COUNTIF(L4:L32,26)+COUNTIF(L4:L32,27)+COUNTIF(L4:L32,28)+COUNTIF(L4:L32,29)+COUNTIF(L4:L32,30) -> 8 | M35: =COUNTIF(M4:M32,1)+COUNTIF(M4:M32,2)+COUNTIF(M4:M32,3)+COUNTIF(M4:M32,4)+COUNTIF(M4:M32,5)+COUNTIF(M4:M32,6)+COUNTIF(M4:M32,7)+COUNTIF(M4:M32,8)+COUNTIF(M4:M32,9)+COUNTIF(M4:M32,10)+COUNTIF(M4:M32,11)+COUNTIF(M4:M32,12)+COUNTIF(M4:M32,13)+COUNTIF(M4:M32,14)+COUNTIF(M4:M32,15)+COUNTIF(M4:M32,16)+COUNTIF(M4:M32,17)+COUNTIF(M4:M32,18)+COUNTIF(M4:M32,19)+COUNTIF(M4:M32,20)+COUNTIF(M4:M32,21)+COUNTIF(M4:M32,22)+COUNTIF(M4:M32,23)+COUNTIF(M4:M32,24)+COUNTIF(M4:M32,25)+COUNTIF(M4:M32,26)+COUNTIF(M4:M32,27)+COUNTIF(M4:M32,28)+COUNTIF(M4:M32,29)+COUNTIF(M4:M32,30) -> 0 | N35: =COUNTIF(N4:N32,1)+COUNTIF(N4:N32,2)+COUNTIF(N4:N32,3)+COUNTIF(N4:N32,4)+COUNTIF(N4:N32,5)+COUNTIF(N4:N32,6)+COUNTIF(N4:N32,7)+COUNTIF(N4:N32,8)+COUNTIF(N4:N32,9)+COUNTIF(N4:N32,10)+COUNTIF(N4:N32,11)+COUNTIF(N4:N32,12)+COUNTIF(N4:N32,13)+COUNTIF(N4:N32,14)+COUNTIF(N4:N32,15)+COUNTIF(N4:N32,16)+COUNTIF(N4:N32,17)+COUNTIF(N4:N32,18)+COUNTIF(N4:N32,19)+COUNTIF(N4:N32,20)+COUNTIF(N4:N32,21)+COUNTIF(N4:N32,22)+COUNTIF(N4:N32,23)+COUNTIF(N4:N32,24)+COUNTIF(N4:N32,25)+COUNTIF(N4:N32,26)+COUNTIF(N4:N32,27)+COUNTIF(N4:N32,28)+COUNTIF(N4:N32,29)+COUNTIF(N4:N32,30) -> 0 | O35: =COUNTIF(O4:O32,1)+COUNTIF(O4:O32,2)+COUNTIF(O4:O32,3)+COUNTIF(O4:O32,4)+COUNTIF(O4:O32,5)+COUNTIF(O4:O32,6)+COUNTIF(O4:O32,7)+COUNTIF(O4:O32,8)+COUNTIF(O4:O32,9)+COUNTIF(O4:O32,10)+COUNTIF(O4:O32,11)+COUNTIF(O4:O32,12)+COUNTIF(O4:O32,13)+COUNTIF(O4:O32,14)+COUNTIF(O4:O32,15)+COUNTIF(O4:O32,16)+COUNTIF(O4:O32,17)+COUNTIF(O4:O32,18)+COUNTIF(O4:O32,19)+COUNTIF(O4:O32,20)+COUNTIF(O4:O32,21)+COUNTIF(O4:O32,22)+COUNTIF(O4:O32,23)+COUNTIF(O4:O32,24)+COUNTIF(O4:O32,25)+COUNTIF(O4:O32,26)+COUNTIF(O4:O32,27)+COUNTIF(O4:O32,28)+COUNTIF(O4:O32,29)+COUNTIF(O4:O32,30) -> 0 | P35: =COUNTIF(P4:P32,1)+COUNTIF(P4:P32,2)+COUNTIF(P4:P32,3)+COUNTIF(P4:P32,4)+COUNTIF(P4:P32,5)+COUNTIF(P4:P32,6)+COUNTIF(P4:P32,7)+COUNTIF(P4:P32,8)+COUNTIF(P4:P32,9)+COUNTIF(P4:P32,10)+COUNTIF(P4:P32,11)+COUNTIF(P4:P32,12)+COUNTIF(P4:P32,13)+COUNTIF(P4:P32,14)+COUNTIF(P4:P32,15)+COUNTIF(P4:P32,16)+COUNTIF(P4:P32,17)+COUNTIF(P4:P32,18)+COUNTIF(P4:P32,19)+COUNTIF(P4:P32,20)+COUNTIF(P4:P32,21)+COUNTIF(P4:P32,22)+COUNTIF(P4:P32,23)+COUNTIF(P4:P32,24)+COUNTIF(P4:P32,25)+COUNTIF(P4:P32,26)+COUNTIF(P4:P32,27)+COUNTIF(P4:P32,28)+COUNTIF(P4:P32,29)+COUNTIF(P4:P32,30) -> 0 | Q35: =COUNTIF(Q4:Q32,1)+COUNTIF(Q4:Q32,2)+COUNTIF(Q4:Q32,3)+COUNTIF(Q4:Q32,4)+COUNTIF(Q4:Q32,5)+COUNTIF(Q4:Q32,6)+COUNTIF(Q4:Q32,7)+COUNTIF(Q4:Q32,8)+COUNTIF(Q4:Q32,9)+COUNTIF(Q4:Q32,10)+COUNTIF(Q4:Q32,11)+COUNTIF(Q4:Q32,12)+COUNTIF(Q4:Q32,13)+COUNTIF(Q4:Q32,14)+COUNTIF(Q4:Q32,15)+COUNTIF(Q4:Q32,16)+COUNTIF(Q4:Q32,17)+COUNTIF(Q4:Q32,18)+COUNTIF(Q4:Q32,19)+COUNTIF(Q4:Q32,20)+COUNTIF(Q4:Q32,21)+COUNTIF(Q4:Q32,22)+COUNTIF(Q4:Q32,23)+COUNTIF(Q4:Q32,24)+COUNTIF(Q4:Q32,25)+COUNTIF(Q4:Q32,26)+COUNTIF(Q4:Q32,27)+COUNTIF(Q4:Q32,28)+COUNTIF(Q4:Q32,29)+COUNTIF(Q4:Q32,30) -> 0 | R35: =COUNTIF(R4:R32,1)+COUNTIF(R4:R32,2)+COUNTIF(R4:R32,3)+COUNTIF(R4:R32,4)+COUNTIF(R4:R32,5)+COUNTIF(R4:R32,6) -> 8 | S35: Unique runners | U35: John Motershead | Y35: Rachael Harrison
A36: 33 | B36: Matt Sargent | I36: =COUNTIF(C36:H36,1)+COUNTIF(C36:H36,2)+COUNTIF(C36:H36,3)+COUNTIF(C36:H36,4)+COUNTIF(C36:H36,5)+COUNTIF(C36:H36,6)+COUNTIF(C36:H36,7)+COUNTIF(C36:H36,8)+COUNTIF(C36:H36,9)+COUNTIF(C36:H36,10)+COUNTIF(C36:H36,11)+COUNTIF(C36:H36,12)+COUNTIF(C36:H36,13)+COUNTIF(C36:H36,14)+COUNTIF(C36:H36,15)+COUNTIF(C36:H36,16)+COUNTIF(C36:H36,17)+COUNTIF(C36:H36,18)+COUNTIF(C36:H36,19)+COUNTIF(C36:H36,20)+COUNTIF(C36:H36,21)+COUNTIF(C36:H36,22)+COUNTIF(C36:H36,23)+COUNTIF(C36:H36,24)+COUNTIF(C36:H36,25)+COUNTIF(C36:H36,26)+COUNTIF(C36:H36,27)+COUNTIF(C36:H36,28)+COUNTIF(C36:H36,29)+COUNTIF(C36:H36,30)+COUNTIF(C36:H36,31)+COUNTIF(C36:H36,32)+COUNTIF(C36:H36,33)+COUNTIF(C36:H36,34)+COUNTIF(C36:H36,35)+COUNTIF(C36:H36,36)+COUNTIF(C36:H36,37)+COUNTIF(C36:H36,38)+COUNTIF(C36:H36,39)+COUNTIF(C36:H36,40)+COUNTIF(C36:H36,41)+COUNTIF(C36:H36,42)+COUNTIF(C36:H36,43)+COUNTIF(C36:H36,44)+COUNTIF(C36:H36,45)+COUNTIF(C36:H36,46)+COUNTIF(C36:H36,47)+COUNTIF(C36:H36,48)+COUNTIF(C36:H36,49)+COUNTIF(C36:H36,50)+COUNTIF(C36:H36,51)+COUNTIF(C36:H36,52)+COUNTIF(C36:H36,53)+COUNTIF(C36:H36,54)+COUNTIF(C36:H36,55)+COUNTIF(C36:H36,56)+COUNTIF(C36:H36,57)+COUNTIF(C36:H36,58)+COUNTIF(C36:H36,59) -> 0 | K36: Ladies race position | L36: 11 | U36: Julian Manning | Y36: Sally Bennett
A37: 34 | B37: Mat Sibley | C37: 10 | I37: =COUNTIF(C37:H37,1)+COUNTIF(C37:H37,2)+COUNTIF(C37:H37,3)+COUNTIF(C37:H37,4)+COUNTIF(C37:H37,5)+COUNTIF(C37:H37,6)+COUNTIF(C37:H37,7)+COUNTIF(C37:H37,8)+COUNTIF(C37:H37,9)+COUNTIF(C37:H37,10)+COUNTIF(C37:H37,11)+COUNTIF(C37:H37,12)+COUNTIF(C37:H37,13)+COUNTIF(C37:H37,14)+COUNTIF(C37:H37,15)+COUNTIF(C37:H37,16)+COUNTIF(C37:H37,17)+COUNTIF(C37:H37,18)+COUNTIF(C37:H37,19)+COUNTIF(C37:H37,20)+COUNTIF(C37:H37,21)+COUNTIF(C37:H37,22)+COUNTIF(C37:H37,23)+COUNTIF(C37:H37,24)+COUNTIF(C37:H37,25)+COUNTIF(C37:H37,26)+COUNTIF(C37:H37,27)+COUNTIF(C37:H37,28)+COUNTIF(C37:H37,29)+COUNTIF(C37:H37,30)+COUNTIF(C37:H37,31)+COUNTIF(C37:H37,32)+COUNTIF(C37:H37,33)+COUNTIF(C37:H37,34)+COUNTIF(C37:H37,35)+COUNTIF(C37:H37,36)+COUNTIF(C37:H37,37)+COUNTIF(C37:H37,38)+COUNTIF(C37:H37,39)+COUNTIF(C37:H37,40)+COUNTIF(C37:H37,41)+COUNTIF(C37:H37,42)+COUNTIF(C37:H37,43)+COUNTIF(C37:H37,44)+COUNTIF(C37:H37,45)+COUNTIF(C37:H37,46)+COUNTIF(C37:H37,47)+COUNTIF(C37:H37,48)+COUNTIF(C37:H37,49)+COUNTIF(C37:H37,50)+COUNTIF(C37:H37,51)+COUNTIF(C37:H37,52)+COUNTIF(C37:H37,53)+COUNTIF(C37:H37,54)+COUNTIF(C37:H37,55)+COUNTIF(C37:H37,56)+COUNTIF(C37:H37,57)+COUNTIF(C37:H37,58)+COUNTIF(C37:H37,59) -> 1 | U37: Kev Gale | Y37: Sam Morris
A38: 35 | B38: Mike Deller | I38: =COUNTIF(C38:H38,1)+COUNTIF(C38:H38,2)+COUNTIF(C38:H38,3)+COUNTIF(C38:H38,4)+COUNTIF(C38:H38,5)+COUNTIF(C38:H38,6)+COUNTIF(C38:H38,7)+COUNTIF(C38:H38,8)+COUNTIF(C38:H38,9)+COUNTIF(C38:H38,10)+COUNTIF(C38:H38,11)+COUNTIF(C38:H38,12)+COUNTIF(C38:H38,13)+COUNTIF(C38:H38,14)+COUNTIF(C38:H38,15)+COUNTIF(C38:H38,16)+COUNTIF(C38:H38,17)+COUNTIF(C38:H38,18)+COUNTIF(C38:H38,19)+COUNTIF(C38:H38,20)+COUNTIF(C38:H38,21)+COUNTIF(C38:H38,22)+COUNTIF(C38:H38,23)+COUNTIF(C38:H38,24)+COUNTIF(C38:H38,25)+COUNTIF(C38:H38,26)+COUNTIF(C38:H38,27)+COUNTIF(C38:H38,28)+COUNTIF(C38:H38,29)+COUNTIF(C38:H38,30)+COUNTIF(C38:H38,31)+COUNTIF(C38:H38,32)+COUNTIF(C38:H38,33)+COUNTIF(C38:H38,34)+COUNTIF(C38:H38,35)+COUNTIF(C38:H38,36)+COUNTIF(C38:H38,37)+COUNTIF(C38:H38,38)+COUNTIF(C38:H38,39)+COUNTIF(C38:H38,40)+COUNTIF(C38:H38,41)+COUNTIF(C38:H38,42)+COUNTIF(C38:H38,43)+COUNTIF(C38:H38,44)+COUNTIF(C38:H38,45)+COUNTIF(C38:H38,46)+COUNTIF(C38:H38,47)+COUNTIF(C38:H38,48)+COUNTIF(C38:H38,49)+COUNTIF(C38:H38,50)+COUNTIF(C38:H38,51)+COUNTIF(C38:H38,52)+COUNTIF(C38:H38,53)+COUNTIF(C38:H38,54)+COUNTIF(C38:H38,55)+COUNTIF(C38:H38,56)+COUNTIF(C38:H38,57)+COUNTIF(C38:H38,58)+COUNTIF(C38:H38,59) -> 0 | U38: Lee Mawson | Y38: Sarah Heard
A39: 36 | B39: Michael Harrison | C39: 3 | I39: =COUNTIF(C39:H39,1)+COUNTIF(C39:H39,2)+COUNTIF(C39:H39,3)+COUNTIF(C39:H39,4)+COUNTIF(C39:H39,5)+COUNTIF(C39:H39,6)+COUNTIF(C39:H39,7)+COUNTIF(C39:H39,8)+COUNTIF(C39:H39,9)+COUNTIF(C39:H39,10)+COUNTIF(C39:H39,11)+COUNTIF(C39:H39,12)+COUNTIF(C39:H39,13)+COUNTIF(C39:H39,14)+COUNTIF(C39:H39,15)+COUNTIF(C39:H39,16)+COUNTIF(C39:H39,17)+COUNTIF(C39:H39,18)+COUNTIF(C39:H39,19)+COUNTIF(C39:H39,20)+COUNTIF(C39:H39,21)+COUNTIF(C39:H39,22)+COUNTIF(C39:H39,23)+COUNTIF(C39:H39,24)+COUNTIF(C39:H39,25)+COUNTIF(C39:H39,26)+COUNTIF(C39:H39,27)+COUNTIF(C39:H39,28)+COUNTIF(C39:H39,29)+COUNTIF(C39:H39,30)+COUNTIF(C39:H39,31)+COUNTIF(C39:H39,32)+COUNTIF(C39:H39,33)+COUNTIF(C39:H39,34)+COUNTIF(C39:H39,35)+COUNTIF(C39:H39,36)+COUNTIF(C39:H39,37)+COUNTIF(C39:H39,38)+COUNTIF(C39:H39,39)+COUNTIF(C39:H39,40)+COUNTIF(C39:H39,41)+COUNTIF(C39:H39,42)+COUNTIF(C39:H39,43)+COUNTIF(C39:H39,44)+COUNTIF(C39:H39,45)+COUNTIF(C39:H39,46)+COUNTIF(C39:H39,47)+COUNTIF(C39:H39,48)+COUNTIF(C39:H39,49)+COUNTIF(C39:H39,50)+COUNTIF(C39:H39,51)+COUNTIF(C39:H39,52)+COUNTIF(C39:H39,53)+COUNTIF(C39:H39,54)+COUNTIF(C39:H39,55)+COUNTIF(C39:H39,56)+COUNTIF(C39:H39,57)+COUNTIF(C39:H39,58)+COUNTIF(C39:H39,59) -> 1 | U39: Lee Weeks | Y39: Sara Saunders
A40: 37 | B40: Neil Hawkey | C40: 12 | I40: =COUNTIF(C40:H40,1)+COUNTIF(C40:H40,2)+COUNTIF(C40:H40,3)+COUNTIF(C40:H40,4)+COUNTIF(C40:H40,5)+COUNTIF(C40:H40,6)+COUNTIF(C40:H40,7)+COUNTIF(C40:H40,8)+COUNTIF(C40:H40,9)+COUNTIF(C40:H40,10)+COUNTIF(C40:H40,11)+COUNTIF(C40:H40,12)+COUNTIF(C40:H40,13)+COUNTIF(C40:H40,14)+COUNTIF(C40:H40,15)+COUNTIF(C40:H40,16)+COUNTIF(C40:H40,17)+COUNTIF(C40:H40,18)+COUNTIF(C40:H40,19)+COUNTIF(C40:H40,20)+COUNTIF(C40:H40,21)+COUNTIF(C40:H40,22)+COUNTIF(C40:H40,23)+COUNTIF(C40:H40,24)+COUNTIF(C40:H40,25)+COUNTIF(C40:H40,26)+COUNTIF(C40:H40,27)+COUNTIF(C40:H40,28)+COUNTIF(C40:H40,29)+COUNTIF(C40:H40,30)+COUNTIF(C40:H40,31)+COUNTIF(C40:H40,32)+COUNTIF(C40:H40,33)+COUNTIF(C40:H40,34)+COUNTIF(C40:H40,35)+COUNTIF(C40:H40,36)+COUNTIF(C40:H40,37)+COUNTIF(C40:H40,38)+COUNTIF(C40:H40,39)+COUNTIF(C40:H40,40)+COUNTIF(C40:H40,41)+COUNTIF(C40:H40,42)+COUNTIF(C40:H40,43)+COUNTIF(C40:H40,44)+COUNTIF(C40:H40,45)+COUNTIF(C40:H40,46)+COUNTIF(C40:H40,47)+COUNTIF(C40:H40,48)+COUNTIF(C40:H40,49)+COUNTIF(C40:H40,50)+COUNTIF(C40:H40,51)+COUNTIF(C40:H40,52)+COUNTIF(C40:H40,53)+COUNTIF(C40:H40,54)+COUNTIF(C40:H40,55)+COUNTIF(C40:H40,56)+COUNTIF(C40:H40,57)+COUNTIF(C40:H40,58)+COUNTIF(C40:H40,59) -> 1 | U40: Mark Bicknell | Y40: Slavena Jensen
A41: 38 | B41: Neptune Bell | I41: =COUNTIF(C41:H41,1)+COUNTIF(C41:H41,2)+COUNTIF(C41:H41,3)+COUNTIF(C41:H41,4)+COUNTIF(C41:H41,5)+COUNTIF(C41:H41,6)+COUNTIF(C41:H41,7)+COUNTIF(C41:H41,8)+COUNTIF(C41:H41,9)+COUNTIF(C41:H41,10)+COUNTIF(C41:H41,11)+COUNTIF(C41:H41,12)+COUNTIF(C41:H41,13)+COUNTIF(C41:H41,14)+COUNTIF(C41:H41,15)+COUNTIF(C41:H41,16)+COUNTIF(C41:H41,17)+COUNTIF(C41:H41,18)+COUNTIF(C41:H41,19)+COUNTIF(C41:H41,20)+COUNTIF(C41:H41,21)+COUNTIF(C41:H41,22)+COUNTIF(C41:H41,23)+COUNTIF(C41:H41,24)+COUNTIF(C41:H41,25)+COUNTIF(C41:H41,26)+COUNTIF(C41:H41,27)+COUNTIF(C41:H41,28)+COUNTIF(C41:H41,29)+COUNTIF(C41:H41,30)+COUNTIF(C41:H41,31)+COUNTIF(C41:H41,32)+COUNTIF(C41:H41,33)+COUNTIF(C41:H41,34)+COUNTIF(C41:H41,35)+COUNTIF(C41:H41,36)+COUNTIF(C41:H41,37)+COUNTIF(C41:H41,38)+COUNTIF(C41:H41,39)+COUNTIF(C41:H41,40)+COUNTIF(C41:H41,41)+COUNTIF(C41:H41,42)+COUNTIF(C41:H41,43)+COUNTIF(C41:H41,44)+COUNTIF(C41:H41,45)+COUNTIF(C41:H41,46)+COUNTIF(C41:H41,47)+COUNTIF(C41:H41,48)+COUNTIF(C41:H41,49)+COUNTIF(C41:H41,50)+COUNTIF(C41:H41,51)+COUNTIF(C41:H41,52)+COUNTIF(C41:H41,53)+COUNTIF(C41:H41,54)+COUNTIF(C41:H41,55)+COUNTIF(C41:H41,56)+COUNTIF(C41:H41,57)+COUNTIF(C41:H41,58)+COUNTIF(C41:H41,59) -> 0 | U41: Martin Parfitt | Y41: Tillie Madgwick
A42: 39 | B42: Nick Bailey | I42: =COUNTIF(C42:H42,1)+COUNTIF(C42:H42,2)+COUNTIF(C42:H42,3)+COUNTIF(C42:H42,4)+COUNTIF(C42:H42,5)+COUNTIF(C42:H42,6)+COUNTIF(C42:H42,7)+COUNTIF(C42:H42,8)+COUNTIF(C42:H42,9)+COUNTIF(C42:H42,10)+COUNTIF(C42:H42,11)+COUNTIF(C42:H42,12)+COUNTIF(C42:H42,13)+COUNTIF(C42:H42,14)+COUNTIF(C42:H42,15)+COUNTIF(C42:H42,16)+COUNTIF(C42:H42,17)+COUNTIF(C42:H42,18)+COUNTIF(C42:H42,19)+COUNTIF(C42:H42,20)+COUNTIF(C42:H42,21)+COUNTIF(C42:H42,22)+COUNTIF(C42:H42,23)+COUNTIF(C42:H42,24)+COUNTIF(C42:H42,25)+COUNTIF(C42:H42,26)+COUNTIF(C42:H42,27)+COUNTIF(C42:H42,28)+COUNTIF(C42:H42,29)+COUNTIF(C42:H42,30)+COUNTIF(C42:H42,31)+COUNTIF(C42:H42,32)+COUNTIF(C42:H42,33)+COUNTIF(C42:H42,34)+COUNTIF(C42:H42,35)+COUNTIF(C42:H42,36)+COUNTIF(C42:H42,37)+COUNTIF(C42:H42,38)+COUNTIF(C42:H42,39)+COUNTIF(C42:H42,40)+COUNTIF(C42:H42,41)+COUNTIF(C42:H42,42)+COUNTIF(C42:H42,43)+COUNTIF(C42:H42,44)+COUNTIF(C42:H42,45)+COUNTIF(C42:H42,46)+COUNTIF(C42:H42,47)+COUNTIF(C42:H42,48)+COUNTIF(C42:H42,49)+COUNTIF(C42:H42,50)+COUNTIF(C42:H42,51)+COUNTIF(C42:H42,52)+COUNTIF(C42:H42,53)+COUNTIF(C42:H42,54)+COUNTIF(C42:H42,55)+COUNTIF(C42:H42,56)+COUNTIF(C42:H42,57)+COUNTIF(C42:H42,58)+COUNTIF(C42:H42,59) -> 0 | U42: Martin Shaw | Y42: Tracy Crank
A43: 40 | B43: Nigel Wilson | I43: =COUNTIF(C43:H43,1)+COUNTIF(C43:H43,2)+COUNTIF(C43:H43,3)+COUNTIF(C43:H43,4)+COUNTIF(C43:H43,5)+COUNTIF(C43:H43,6)+COUNTIF(C43:H43,7)+COUNTIF(C43:H43,8)+COUNTIF(C43:H43,9)+COUNTIF(C43:H43,10)+COUNTIF(C43:H43,11)+COUNTIF(C43:H43,12)+COUNTIF(C43:H43,13)+COUNTIF(C43:H43,14)+COUNTIF(C43:H43,15)+COUNTIF(C43:H43,16)+COUNTIF(C43:H43,17)+COUNTIF(C43:H43,18)+COUNTIF(C43:H43,19)+COUNTIF(C43:H43,20)+COUNTIF(C43:H43,21)+COUNTIF(C43:H43,22)+COUNTIF(C43:H43,23)+COUNTIF(C43:H43,24)+COUNTIF(C43:H43,25)+COUNTIF(C43:H43,26)+COUNTIF(C43:H43,27)+COUNTIF(C43:H43,28)+COUNTIF(C43:H43,29)+COUNTIF(C43:H43,30)+COUNTIF(C43:H43,31)+COUNTIF(C43:H43,32)+COUNTIF(C43:H43,33)+COUNTIF(C43:H43,34)+COUNTIF(C43:H43,35)+COUNTIF(C43:H43,36)+COUNTIF(C43:H43,37)+COUNTIF(C43:H43,38)+COUNTIF(C43:H43,39)+COUNTIF(C43:H43,40)+COUNTIF(C43:H43,41)+COUNTIF(C43:H43,42)+COUNTIF(C43:H43,43)+COUNTIF(C43:H43,44)+COUNTIF(C43:H43,45)+COUNTIF(C43:H43,46)+COUNTIF(C43:H43,47)+COUNTIF(C43:H43,48)+COUNTIF(C43:H43,49)+COUNTIF(C43:H43,50)+COUNTIF(C43:H43,51)+COUNTIF(C43:H43,52)+COUNTIF(C43:H43,53)+COUNTIF(C43:H43,54)+COUNTIF(C43:H43,55)+COUNTIF(C43:H43,56)+COUNTIF(C43:H43,57)+COUNTIF(C43:H43,58)+COUNTIF(C43:H43,59) -> 0 | U43: Marty McKinlay
A44: 41 | B44: Ollie Craig | I44: =COUNTIF(C44:H44,1)+COUNTIF(C44:H44,2)+COUNTIF(C44:H44,3)+COUNTIF(C44:H44,4)+COUNTIF(C44:H44,5)+COUNTIF(C44:H44,6)+COUNTIF(C44:H44,7)+COUNTIF(C44:H44,8)+COUNTIF(C44:H44,9)+COUNTIF(C44:H44,10)+COUNTIF(C44:H44,11)+COUNTIF(C44:H44,12)+COUNTIF(C44:H44,13)+COUNTIF(C44:H44,14)+COUNTIF(C44:H44,15)+COUNTIF(C44:H44,16)+COUNTIF(C44:H44,17)+COUNTIF(C44:H44,18)+COUNTIF(C44:H44,19)+COUNTIF(C44:H44,20)+COUNTIF(C44:H44,21)+COUNTIF(C44:H44,22)+COUNTIF(C44:H44,23)+COUNTIF(C44:H44,24)+COUNTIF(C44:H44,25)+COUNTIF(C44:H44,26)+COUNTIF(C44:H44,27)+COUNTIF(C44:H44,28)+COUNTIF(C44:H44,29)+COUNTIF(C44:H44,30)+COUNTIF(C44:H44,31)+COUNTIF(C44:H44,32)+COUNTIF(C44:H44,33)+COUNTIF(C44:H44,34)+COUNTIF(C44:H44,35)+COUNTIF(C44:H44,36)+COUNTIF(C44:H44,37)+COUNTIF(C44:H44,38)+COUNTIF(C44:H44,39)+COUNTIF(C44:H44,40)+COUNTIF(C44:H44,41)+COUNTIF(C44:H44,42)+COUNTIF(C44:H44,43)+COUNTIF(C44:H44,44)+COUNTIF(C44:H44,45)+COUNTIF(C44:H44,46)+COUNTIF(C44:H44,47)+COUNTIF(C44:H44,48)+COUNTIF(C44:H44,49)+COUNTIF(C44:H44,50)+COUNTIF(C44:H44,51)+COUNTIF(C44:H44,52)+COUNTIF(C44:H44,53)+COUNTIF(C44:H44,54)+COUNTIF(C44:H44,55)+COUNTIF(C44:H44,56)+COUNTIF(C44:H44,57)+COUNTIF(C44:H44,58)+COUNTIF(C44:H44,59) -> 0 | U44: Matt Russell
A45: 42 | B45: Owen Cole | I45: =COUNTIF(C45:H45,1)+COUNTIF(C45:H45,2)+COUNTIF(C45:H45,3)+COUNTIF(C45:H45,4)+COUNTIF(C45:H45,5)+COUNTIF(C45:H45,6)+COUNTIF(C45:H45,7)+COUNTIF(C45:H45,8)+COUNTIF(C45:H45,9)+COUNTIF(C45:H45,10)+COUNTIF(C45:H45,11)+COUNTIF(C45:H45,12)+COUNTIF(C45:H45,13)+COUNTIF(C45:H45,14)+COUNTIF(C45:H45,15)+COUNTIF(C45:H45,16)+COUNTIF(C45:H45,17)+COUNTIF(C45:H45,18)+COUNTIF(C45:H45,19)+COUNTIF(C45:H45,20)+COUNTIF(C45:H45,21)+COUNTIF(C45:H45,22)+COUNTIF(C45:H45,23)+COUNTIF(C45:H45,24)+COUNTIF(C45:H45,25)+COUNTIF(C45:H45,26)+COUNTIF(C45:H45,27)+COUNTIF(C45:H45,28)+COUNTIF(C45:H45,29)+COUNTIF(C45:H45,30)+COUNTIF(C45:H45,31)+COUNTIF(C45:H45,32)+COUNTIF(C45:H45,33)+COUNTIF(C45:H45,34)+COUNTIF(C45:H45,35)+COUNTIF(C45:H45,36)+COUNTIF(C45:H45,37)+COUNTIF(C45:H45,38)+COUNTIF(C45:H45,39)+COUNTIF(C45:H45,40)+COUNTIF(C45:H45,41)+COUNTIF(C45:H45,42)+COUNTIF(C45:H45,43)+COUNTIF(C45:H45,44)+COUNTIF(C45:H45,45)+COUNTIF(C45:H45,46)+COUNTIF(C45:H45,47)+COUNTIF(C45:H45,48)+COUNTIF(C45:H45,49)+COUNTIF(C45:H45,50)+COUNTIF(C45:H45,51)+COUNTIF(C45:H45,52)+COUNTIF(C45:H45,53)+COUNTIF(C45:H45,54)+COUNTIF(C45:H45,55)+COUNTIF(C45:H45,56)+COUNTIF(C45:H45,57)+COUNTIF(C45:H45,58)+COUNTIF(C45:H45,59) -> 0 | U45: Matt Sargent
A46: 43 | B46: Paul Harsent | I46: =COUNTIF(C46:H46,1)+COUNTIF(C46:H46,2)+COUNTIF(C46:H46,3)+COUNTIF(C46:H46,4)+COUNTIF(C46:H46,5)+COUNTIF(C46:H46,6)+COUNTIF(C46:H46,7)+COUNTIF(C46:H46,8)+COUNTIF(C46:H46,9)+COUNTIF(C46:H46,10)+COUNTIF(C46:H46,11)+COUNTIF(C46:H46,12)+COUNTIF(C46:H46,13)+COUNTIF(C46:H46,14)+COUNTIF(C46:H46,15)+COUNTIF(C46:H46,16)+COUNTIF(C46:H46,17)+COUNTIF(C46:H46,18)+COUNTIF(C46:H46,19)+COUNTIF(C46:H46,20)+COUNTIF(C46:H46,21)+COUNTIF(C46:H46,22)+COUNTIF(C46:H46,23)+COUNTIF(C46:H46,24)+COUNTIF(C46:H46,25)+COUNTIF(C46:H46,26)+COUNTIF(C46:H46,27)+COUNTIF(C46:H46,28)+COUNTIF(C46:H46,29)+COUNTIF(C46:H46,30)+COUNTIF(C46:H46,31)+COUNTIF(C46:H46,32)+COUNTIF(C46:H46,33)+COUNTIF(C46:H46,34)+COUNTIF(C46:H46,35)+COUNTIF(C46:H46,36)+COUNTIF(C46:H46,37)+COUNTIF(C46:H46,38)+COUNTIF(C46:H46,39)+COUNTIF(C46:H46,40)+COUNTIF(C46:H46,41)+COUNTIF(C46:H46,42)+COUNTIF(C46:H46,43)+COUNTIF(C46:H46,44)+COUNTIF(C46:H46,45)+COUNTIF(C46:H46,46)+COUNTIF(C46:H46,47)+COUNTIF(C46:H46,48)+COUNTIF(C46:H46,49)+COUNTIF(C46:H46,50)+COUNTIF(C46:H46,51)+COUNTIF(C46:H46,52)+COUNTIF(C46:H46,53)+COUNTIF(C46:H46,54)+COUNTIF(C46:H46,55)+COUNTIF(C46:H46,56)+COUNTIF(C46:H46,57)+COUNTIF(C46:H46,58)+COUNTIF(C46:H46,59) -> 0 | U46: Mat Sibley | Y46: Men continued
A47: 44 | B47: Paul Morris | C47: 9 | I47: =COUNTIF(C47:H47,1)+COUNTIF(C47:H47,2)+COUNTIF(C47:H47,3)+COUNTIF(C47:H47,4)+COUNTIF(C47:H47,5)+COUNTIF(C47:H47,6)+COUNTIF(C47:H47,7)+COUNTIF(C47:H47,8)+COUNTIF(C47:H47,9)+COUNTIF(C47:H47,10)+COUNTIF(C47:H47,11)+COUNTIF(C47:H47,12)+COUNTIF(C47:H47,13)+COUNTIF(C47:H47,14)+COUNTIF(C47:H47,15)+COUNTIF(C47:H47,16)+COUNTIF(C47:H47,17)+COUNTIF(C47:H47,18)+COUNTIF(C47:H47,19)+COUNTIF(C47:H47,20)+COUNTIF(C47:H47,21)+COUNTIF(C47:H47,22)+COUNTIF(C47:H47,23)+COUNTIF(C47:H47,24)+COUNTIF(C47:H47,25)+COUNTIF(C47:H47,26)+COUNTIF(C47:H47,27)+COUNTIF(C47:H47,28)+COUNTIF(C47:H47,29)+COUNTIF(C47:H47,30)+COUNTIF(C47:H47,31)+COUNTIF(C47:H47,32)+COUNTIF(C47:H47,33)+COUNTIF(C47:H47,34)+COUNTIF(C47:H47,35)+COUNTIF(C47:H47,36)+COUNTIF(C47:H47,37)+COUNTIF(C47:H47,38)+COUNTIF(C47:H47,39)+COUNTIF(C47:H47,40)+COUNTIF(C47:H47,41)+COUNTIF(C47:H47,42)+COUNTIF(C47:H47,43)+COUNTIF(C47:H47,44)+COUNTIF(C47:H47,45)+COUNTIF(C47:H47,46)+COUNTIF(C47:H47,47)+COUNTIF(C47:H47,48)+COUNTIF(C47:H47,49)+COUNTIF(C47:H47,50)+COUNTIF(C47:H47,51)+COUNTIF(C47:H47,52)+COUNTIF(C47:H47,53)+COUNTIF(C47:H47,54)+COUNTIF(C47:H47,55)+COUNTIF(C47:H47,56)+COUNTIF(C47:H47,57)+COUNTIF(C47:H47,58)+COUNTIF(C47:H47,59) -> 1 | U47: Mike Deller
A48: 45 | B48: Paul Welch | C48: 15 | I48: =COUNTIF(C48:H48,1)+COUNTIF(C48:H48,2)+COUNTIF(C48:H48,3)+COUNTIF(C48:H48,4)+COUNTIF(C48:H48,5)+COUNTIF(C48:H48,6)+COUNTIF(C48:H48,7)+COUNTIF(C48:H48,8)+COUNTIF(C48:H48,9)+COUNTIF(C48:H48,10)+COUNTIF(C48:H48,11)+COUNTIF(C48:H48,12)+COUNTIF(C48:H48,13)+COUNTIF(C48:H48,14)+COUNTIF(C48:H48,15)+COUNTIF(C48:H48,16)+COUNTIF(C48:H48,17)+COUNTIF(C48:H48,18)+COUNTIF(C48:H48,19)+COUNTIF(C48:H48,20)+COUNTIF(C48:H48,21)+COUNTIF(C48:H48,22)+COUNTIF(C48:H48,23)+COUNTIF(C48:H48,24)+COUNTIF(C48:H48,25)+COUNTIF(C48:H48,26)+COUNTIF(C48:H48,27)+COUNTIF(C48:H48,28)+COUNTIF(C48:H48,29)+COUNTIF(C48:H48,30)+COUNTIF(C48:H48,31)+COUNTIF(C48:H48,32)+COUNTIF(C48:H48,33)+COUNTIF(C48:H48,34)+COUNTIF(C48:H48,35)+COUNTIF(C48:H48,36)+COUNTIF(C48:H48,37)+COUNTIF(C48:H48,38)+COUNTIF(C48:H48,39)+COUNTIF(C48:H48,40)+COUNTIF(C48:H48,41)+COUNTIF(C48:H48,42)+COUNTIF(C48:H48,43)+COUNTIF(C48:H48,44)+COUNTIF(C48:H48,45)+COUNTIF(C48:H48,46)+COUNTIF(C48:H48,47)+COUNTIF(C48:H48,48)+COUNTIF(C48:H48,49)+COUNTIF(C48:H48,50)+COUNTIF(C48:H48,51)+COUNTIF(C48:H48,52)+COUNTIF(C48:H48,53)+COUNTIF(C48:H48,54)+COUNTIF(C48:H48,55)+COUNTIF(C48:H48,56)+COUNTIF(C48:H48,57)+COUNTIF(C48:H48,58)+COUNTIF(C48:H48,59) -> 1 | U48: Michael Harrison | Y48: Rob Wilson
A49: 46 | B49: Peter Murphy | I49: =COUNTIF(C49:H49,1)+COUNTIF(C49:H49,2)+COUNTIF(C49:H49,3)+COUNTIF(C49:H49,4)+COUNTIF(C49:H49,5)+COUNTIF(C49:H49,6)+COUNTIF(C49:H49,7)+COUNTIF(C49:H49,8)+COUNTIF(C49:H49,9)+COUNTIF(C49:H49,10)+COUNTIF(C49:H49,11)+COUNTIF(C49:H49,12)+COUNTIF(C49:H49,13)+COUNTIF(C49:H49,14)+COUNTIF(C49:H49,15)+COUNTIF(C49:H49,16)+COUNTIF(C49:H49,17)+COUNTIF(C49:H49,18)+COUNTIF(C49:H49,19)+COUNTIF(C49:H49,20)+COUNTIF(C49:H49,21)+COUNTIF(C49:H49,22)+COUNTIF(C49:H49,23)+COUNTIF(C49:H49,24)+COUNTIF(C49:H49,25)+COUNTIF(C49:H49,26)+COUNTIF(C49:H49,27)+COUNTIF(C49:H49,28)+COUNTIF(C49:H49,29)+COUNTIF(C49:H49,30)+COUNTIF(C49:H49,31)+COUNTIF(C49:H49,32)+COUNTIF(C49:H49,33)+COUNTIF(C49:H49,34)+COUNTIF(C49:H49,35)+COUNTIF(C49:H49,36)+COUNTIF(C49:H49,37)+COUNTIF(C49:H49,38)+COUNTIF(C49:H49,39)+COUNTIF(C49:H49,40)+COUNTIF(C49:H49,41)+COUNTIF(C49:H49,42)+COUNTIF(C49:H49,43)+COUNTIF(C49:H49,44)+COUNTIF(C49:H49,45)+COUNTIF(C49:H49,46)+COUNTIF(C49:H49,47)+COUNTIF(C49:H49,48)+COUNTIF(C49:H49,49)+COUNTIF(C49:H49,50)+COUNTIF(C49:H49,51)+COUNTIF(C49:H49,52)+COUNTIF(C49:H49,53)+COUNTIF(C49:H49,54)+COUNTIF(C49:H49,55)+COUNTIF(C49:H49,56)+COUNTIF(C49:H49,57)+COUNTIF(C49:H49,58)+COUNTIF(C49:H49,59) -> 0 | U49: Neil Hawkey | Y49: Robin Yates
A50: 47 | B50: Rich Hammond | C50: 14 | I50: =COUNTIF(C50:H50,1)+COUNTIF(C50:H50,2)+COUNTIF(C50:H50,3)+COUNTIF(C50:H50,4)+COUNTIF(C50:H50,5)+COUNTIF(C50:H50,6)+COUNTIF(C50:H50,7)+COUNTIF(C50:H50,8)+COUNTIF(C50:H50,9)+COUNTIF(C50:H50,10)+COUNTIF(C50:H50,11)+COUNTIF(C50:H50,12)+COUNTIF(C50:H50,13)+COUNTIF(C50:H50,14)+COUNTIF(C50:H50,15)+COUNTIF(C50:H50,16)+COUNTIF(C50:H50,17)+COUNTIF(C50:H50,18)+COUNTIF(C50:H50,19)+COUNTIF(C50:H50,20)+COUNTIF(C50:H50,21)+COUNTIF(C50:H50,22)+COUNTIF(C50:H50,23)+COUNTIF(C50:H50,24)+COUNTIF(C50:H50,25)+COUNTIF(C50:H50,26)+COUNTIF(C50:H50,27)+COUNTIF(C50:H50,28)+COUNTIF(C50:H50,29)+COUNTIF(C50:H50,30)+COUNTIF(C50:H50,31)+COUNTIF(C50:H50,32)+COUNTIF(C50:H50,33)+COUNTIF(C50:H50,34)+COUNTIF(C50:H50,35)+COUNTIF(C50:H50,36)+COUNTIF(C50:H50,37)+COUNTIF(C50:H50,38)+COUNTIF(C50:H50,39)+COUNTIF(C50:H50,40)+COUNTIF(C50:H50,41)+COUNTIF(C50:H50,42)+COUNTIF(C50:H50,43)+COUNTIF(C50:H50,44)+COUNTIF(C50:H50,45)+COUNTIF(C50:H50,46)+COUNTIF(C50:H50,47)+COUNTIF(C50:H50,48)+COUNTIF(C50:H50,49)+COUNTIF(C50:H50,50)+COUNTIF(C50:H50,51)+COUNTIF(C50:H50,52)+COUNTIF(C50:H50,53)+COUNTIF(C50:H50,54)+COUNTIF(C50:H50,55)+COUNTIF(C50:H50,56)+COUNTIF(C50:H50,57)+COUNTIF(C50:H50,58)+COUNTIF(C50:H50,59) -> 1 | U50: Neptune Bell | Y50: Roger Jones
A51: 48 | B51: Rob Moore | I51: =COUNTIF(C51:H51,1)+COUNTIF(C51:H51,2)+COUNTIF(C51:H51,3)+COUNTIF(C51:H51,4)+COUNTIF(C51:H51,5)+COUNTIF(C51:H51,6)+COUNTIF(C51:H51,7)+COUNTIF(C51:H51,8)+COUNTIF(C51:H51,9)+COUNTIF(C51:H51,10)+COUNTIF(C51:H51,11)+COUNTIF(C51:H51,12)+COUNTIF(C51:H51,13)+COUNTIF(C51:H51,14)+COUNTIF(C51:H51,15)+COUNTIF(C51:H51,16)+COUNTIF(C51:H51,17)+COUNTIF(C51:H51,18)+COUNTIF(C51:H51,19)+COUNTIF(C51:H51,20)+COUNTIF(C51:H51,21)+COUNTIF(C51:H51,22)+COUNTIF(C51:H51,23)+COUNTIF(C51:H51,24)+COUNTIF(C51:H51,25)+COUNTIF(C51:H51,26)+COUNTIF(C51:H51,27)+COUNTIF(C51:H51,28)+COUNTIF(C51:H51,29)+COUNTIF(C51:H51,30)+COUNTIF(C51:H51,31)+COUNTIF(C51:H51,32)+COUNTIF(C51:H51,33)+COUNTIF(C51:H51,34)+COUNTIF(C51:H51,35)+COUNTIF(C51:H51,36)+COUNTIF(C51:H51,37)+COUNTIF(C51:H51,38)+COUNTIF(C51:H51,39)+COUNTIF(C51:H51,40)+COUNTIF(C51:H51,41)+COUNTIF(C51:H51,42)+COUNTIF(C51:H51,43)+COUNTIF(C51:H51,44)+COUNTIF(C51:H51,45)+COUNTIF(C51:H51,46)+COUNTIF(C51:H51,47)+COUNTIF(C51:H51,48)+COUNTIF(C51:H51,49)+COUNTIF(C51:H51,50)+COUNTIF(C51:H51,51)+COUNTIF(C51:H51,52)+COUNTIF(C51:H51,53)+COUNTIF(C51:H51,54)+COUNTIF(C51:H51,55)+COUNTIF(C51:H51,56)+COUNTIF(C51:H51,57)+COUNTIF(C51:H51,58)+COUNTIF(C51:H51,59) -> 0 | U51: Nick Bailey | Y51: Rory Heard
A52: 49 | B52: Rob Wilson | C52: 8 | I52: =COUNTIF(C52:H52,1)+COUNTIF(C52:H52,2)+COUNTIF(C52:H52,3)+COUNTIF(C52:H52,4)+COUNTIF(C52:H52,5)+COUNTIF(C52:H52,6)+COUNTIF(C52:H52,7)+COUNTIF(C52:H52,8)+COUNTIF(C52:H52,9)+COUNTIF(C52:H52,10)+COUNTIF(C52:H52,11)+COUNTIF(C52:H52,12)+COUNTIF(C52:H52,13)+COUNTIF(C52:H52,14)+COUNTIF(C52:H52,15)+COUNTIF(C52:H52,16)+COUNTIF(C52:H52,17)+COUNTIF(C52:H52,18)+COUNTIF(C52:H52,19)+COUNTIF(C52:H52,20)+COUNTIF(C52:H52,21)+COUNTIF(C52:H52,22)+COUNTIF(C52:H52,23)+COUNTIF(C52:H52,24)+COUNTIF(C52:H52,25)+COUNTIF(C52:H52,26)+COUNTIF(C52:H52,27)+COUNTIF(C52:H52,28)+COUNTIF(C52:H52,29)+COUNTIF(C52:H52,30)+COUNTIF(C52:H52,31)+COUNTIF(C52:H52,32)+COUNTIF(C52:H52,33)+COUNTIF(C52:H52,34)+COUNTIF(C52:H52,35)+COUNTIF(C52:H52,36)+COUNTIF(C52:H52,37)+COUNTIF(C52:H52,38)+COUNTIF(C52:H52,39)+COUNTIF(C52:H52,40)+COUNTIF(C52:H52,41)+COUNTIF(C52:H52,42)+COUNTIF(C52:H52,43)+COUNTIF(C52:H52,44)+COUNTIF(C52:H52,45)+COUNTIF(C52:H52,46)+COUNTIF(C52:H52,47)+COUNTIF(C52:H52,48)+COUNTIF(C52:H52,49)+COUNTIF(C52:H52,50)+COUNTIF(C52:H52,51)+COUNTIF(C52:H52,52)+COUNTIF(C52:H52,53)+COUNTIF(C52:H52,54)+COUNTIF(C52:H52,55)+COUNTIF(C52:H52,56)+COUNTIF(C52:H52,57)+COUNTIF(C52:H52,58)+COUNTIF(C52:H52,59) -> 1 | U52: Nigel Wilson | Y52: Sean James
A53: 50 | B53: Robin Yates | I53: =COUNTIF(C53:H53,1)+COUNTIF(C53:H53,2)+COUNTIF(C53:H53,3)+COUNTIF(C53:H53,4)+COUNTIF(C53:H53,5)+COUNTIF(C53:H53,6)+COUNTIF(C53:H53,7)+COUNTIF(C53:H53,8)+COUNTIF(C53:H53,9)+COUNTIF(C53:H53,10)+COUNTIF(C53:H53,11)+COUNTIF(C53:H53,12)+COUNTIF(C53:H53,13)+COUNTIF(C53:H53,14)+COUNTIF(C53:H53,15)+COUNTIF(C53:H53,16)+COUNTIF(C53:H53,17)+COUNTIF(C53:H53,18)+COUNTIF(C53:H53,19)+COUNTIF(C53:H53,20)+COUNTIF(C53:H53,21)+COUNTIF(C53:H53,22)+COUNTIF(C53:H53,23)+COUNTIF(C53:H53,24)+COUNTIF(C53:H53,25)+COUNTIF(C53:H53,26)+COUNTIF(C53:H53,27)+COUNTIF(C53:H53,28)+COUNTIF(C53:H53,29)+COUNTIF(C53:H53,30)+COUNTIF(C53:H53,31)+COUNTIF(C53:H53,32)+COUNTIF(C53:H53,33)+COUNTIF(C53:H53,34)+COUNTIF(C53:H53,35)+COUNTIF(C53:H53,36)+COUNTIF(C53:H53,37)+COUNTIF(C53:H53,38)+COUNTIF(C53:H53,39)+COUNTIF(C53:H53,40)+COUNTIF(C53:H53,41)+COUNTIF(C53:H53,42)+COUNTIF(C53:H53,43)+COUNTIF(C53:H53,44)+COUNTIF(C53:H53,45)+COUNTIF(C53:H53,46)+COUNTIF(C53:H53,47)+COUNTIF(C53:H53,48)+COUNTIF(C53:H53,49)+COUNTIF(C53:H53,50)+COUNTIF(C53:H53,51)+COUNTIF(C53:H53,52)+COUNTIF(C53:H53,53)+COUNTIF(C53:H53,54)+COUNTIF(C53:H53,55)+COUNTIF(C53:H53,56)+COUNTIF(C53:H53,57)+COUNTIF(C53:H53,58)+COUNTIF(C53:H53,59) -> 0 | U53: Ollie Craig | Y53: Simon Toms
A54: 51 | B54: Roger Jones | I54: =COUNTIF(C54:H54,1)+COUNTIF(C54:H54,2)+COUNTIF(C54:H54,3)+COUNTIF(C54:H54,4)+COUNTIF(C54:H54,5)+COUNTIF(C54:H54,6)+COUNTIF(C54:H54,7)+COUNTIF(C54:H54,8)+COUNTIF(C54:H54,9)+COUNTIF(C54:H54,10)+COUNTIF(C54:H54,11)+COUNTIF(C54:H54,12)+COUNTIF(C54:H54,13)+COUNTIF(C54:H54,14)+COUNTIF(C54:H54,15)+COUNTIF(C54:H54,16)+COUNTIF(C54:H54,17)+COUNTIF(C54:H54,18)+COUNTIF(C54:H54,19)+COUNTIF(C54:H54,20)+COUNTIF(C54:H54,21)+COUNTIF(C54:H54,22)+COUNTIF(C54:H54,23)+COUNTIF(C54:H54,24)+COUNTIF(C54:H54,25)+COUNTIF(C54:H54,26)+COUNTIF(C54:H54,27)+COUNTIF(C54:H54,28)+COUNTIF(C54:H54,29)+COUNTIF(C54:H54,30)+COUNTIF(C54:H54,31)+COUNTIF(C54:H54,32)+COUNTIF(C54:H54,33)+COUNTIF(C54:H54,34)+COUNTIF(C54:H54,35)+COUNTIF(C54:H54,36)+COUNTIF(C54:H54,37)+COUNTIF(C54:H54,38)+COUNTIF(C54:H54,39)+COUNTIF(C54:H54,40)+COUNTIF(C54:H54,41)+COUNTIF(C54:H54,42)+COUNTIF(C54:H54,43)+COUNTIF(C54:H54,44)+COUNTIF(C54:H54,45)+COUNTIF(C54:H54,46)+COUNTIF(C54:H54,47)+COUNTIF(C54:H54,48)+COUNTIF(C54:H54,49)+COUNTIF(C54:H54,50)+COUNTIF(C54:H54,51)+COUNTIF(C54:H54,52)+COUNTIF(C54:H54,53)+COUNTIF(C54:H54,54)+COUNTIF(C54:H54,55)+COUNTIF(C54:H54,56)+COUNTIF(C54:H54,57)+COUNTIF(C54:H54,58)+COUNTIF(C54:H54,59) -> 0 | U54: Owen Cole | Y54: Steve Wootton
A55: 52 | B55: Rory Heard | C55: 19 | I55: =COUNTIF(C55:H55,1)+COUNTIF(C55:H55,2)+COUNTIF(C55:H55,3)+COUNTIF(C55:H55,4)+COUNTIF(C55:H55,5)+COUNTIF(C55:H55,6)+COUNTIF(C55:H55,7)+COUNTIF(C55:H55,8)+COUNTIF(C55:H55,9)+COUNTIF(C55:H55,10)+COUNTIF(C55:H55,11)+COUNTIF(C55:H55,12)+COUNTIF(C55:H55,13)+COUNTIF(C55:H55,14)+COUNTIF(C55:H55,15)+COUNTIF(C55:H55,16)+COUNTIF(C55:H55,17)+COUNTIF(C55:H55,18)+COUNTIF(C55:H55,19)+COUNTIF(C55:H55,20)+COUNTIF(C55:H55,21)+COUNTIF(C55:H55,22)+COUNTIF(C55:H55,23)+COUNTIF(C55:H55,24)+COUNTIF(C55:H55,25)+COUNTIF(C55:H55,26)+COUNTIF(C55:H55,27)+COUNTIF(C55:H55,28)+COUNTIF(C55:H55,29)+COUNTIF(C55:H55,30)+COUNTIF(C55:H55,31)+COUNTIF(C55:H55,32)+COUNTIF(C55:H55,33)+COUNTIF(C55:H55,34)+COUNTIF(C55:H55,35)+COUNTIF(C55:H55,36)+COUNTIF(C55:H55,37)+COUNTIF(C55:H55,38)+COUNTIF(C55:H55,39)+COUNTIF(C55:H55,40)+COUNTIF(C55:H55,41)+COUNTIF(C55:H55,42)+COUNTIF(C55:H55,43)+COUNTIF(C55:H55,44)+COUNTIF(C55:H55,45)+COUNTIF(C55:H55,46)+COUNTIF(C55:H55,47)+COUNTIF(C55:H55,48)+COUNTIF(C55:H55,49)+COUNTIF(C55:H55,50)+COUNTIF(C55:H55,51)+COUNTIF(C55:H55,52)+COUNTIF(C55:H55,53)+COUNTIF(C55:H55,54)+COUNTIF(C55:H55,55)+COUNTIF(C55:H55,56)+COUNTIF(C55:H55,57)+COUNTIF(C55:H55,58)+COUNTIF(C55:H55,59) -> 1 | U55: Paul Harsent | Y55: Stuart Hoare
A56: 53 | B56: Sean James | I56: =COUNTIF(C56:H56,1)+COUNTIF(C56:H56,2)+COUNTIF(C56:H56,3)+COUNTIF(C56:H56,4)+COUNTIF(C56:H56,5)+COUNTIF(C56:H56,6)+COUNTIF(C56:H56,7)+COUNTIF(C56:H56,8)+COUNTIF(C56:H56,9)+COUNTIF(C56:H56,10)+COUNTIF(C56:H56,11)+COUNTIF(C56:H56,12)+COUNTIF(C56:H56,13)+COUNTIF(C56:H56,14)+COUNTIF(C56:H56,15)+COUNTIF(C56:H56,16)+COUNTIF(C56:H56,17)+COUNTIF(C56:H56,18)+COUNTIF(C56:H56,19)+COUNTIF(C56:H56,20)+COUNTIF(C56:H56,21)+COUNTIF(C56:H56,22)+COUNTIF(C56:H56,23)+COUNTIF(C56:H56,24)+COUNTIF(C56:H56,25)+COUNTIF(C56:H56,26)+COUNTIF(C56:H56,27)+COUNTIF(C56:H56,28)+COUNTIF(C56:H56,29)+COUNTIF(C56:H56,30)+COUNTIF(C56:H56,31)+COUNTIF(C56:H56,32)+COUNTIF(C56:H56,33)+COUNTIF(C56:H56,34)+COUNTIF(C56:H56,35)+COUNTIF(C56:H56,36)+COUNTIF(C56:H56,37)+COUNTIF(C56:H56,38)+COUNTIF(C56:H56,39)+COUNTIF(C56:H56,40)+COUNTIF(C56:H56,41)+COUNTIF(C56:H56,42)+COUNTIF(C56:H56,43)+COUNTIF(C56:H56,44)+COUNTIF(C56:H56,45)+COUNTIF(C56:H56,46)+COUNTIF(C56:H56,47)+COUNTIF(C56:H56,48)+COUNTIF(C56:H56,49)+COUNTIF(C56:H56,50)+COUNTIF(C56:H56,51)+COUNTIF(C56:H56,52)+COUNTIF(C56:H56,53)+COUNTIF(C56:H56,54)+COUNTIF(C56:H56,55)+COUNTIF(C56:H56,56)+COUNTIF(C56:H56,57)+COUNTIF(C56:H56,58)+COUNTIF(C56:H56,59) -> 0 | U56: Paul Saunders | Y56: Tim Collins
A57: 54 | B57: Simon Toms | I57: =COUNTIF(C57:H57,1)+COUNTIF(C57:H57,2)+COUNTIF(C57:H57,3)+COUNTIF(C57:H57,4)+COUNTIF(C57:H57,5)+COUNTIF(C57:H57,6)+COUNTIF(C57:H57,7)+COUNTIF(C57:H57,8)+COUNTIF(C57:H57,9)+COUNTIF(C57:H57,10)+COUNTIF(C57:H57,11)+COUNTIF(C57:H57,12)+COUNTIF(C57:H57,13)+COUNTIF(C57:H57,14)+COUNTIF(C57:H57,15)+COUNTIF(C57:H57,16)+COUNTIF(C57:H57,17)+COUNTIF(C57:H57,18)+COUNTIF(C57:H57,19)+COUNTIF(C57:H57,20)+COUNTIF(C57:H57,21)+COUNTIF(C57:H57,22)+COUNTIF(C57:H57,23)+COUNTIF(C57:H57,24)+COUNTIF(C57:H57,25)+COUNTIF(C57:H57,26)+COUNTIF(C57:H57,27)+COUNTIF(C57:H57,28)+COUNTIF(C57:H57,29)+COUNTIF(C57:H57,30)+COUNTIF(C57:H57,31)+COUNTIF(C57:H57,32)+COUNTIF(C57:H57,33)+COUNTIF(C57:H57,34)+COUNTIF(C57:H57,35)+COUNTIF(C57:H57,36)+COUNTIF(C57:H57,37)+COUNTIF(C57:H57,38)+COUNTIF(C57:H57,39)+COUNTIF(C57:H57,40)+COUNTIF(C57:H57,41)+COUNTIF(C57:H57,42)+COUNTIF(C57:H57,43)+COUNTIF(C57:H57,44)+COUNTIF(C57:H57,45)+COUNTIF(C57:H57,46)+COUNTIF(C57:H57,47)+COUNTIF(C57:H57,48)+COUNTIF(C57:H57,49)+COUNTIF(C57:H57,50)+COUNTIF(C57:H57,51)+COUNTIF(C57:H57,52)+COUNTIF(C57:H57,53)+COUNTIF(C57:H57,54)+COUNTIF(C57:H57,55)+COUNTIF(C57:H57,56)+COUNTIF(C57:H57,57)+COUNTIF(C57:H57,58)+COUNTIF(C57:H57,59) -> 0 | U57: Paul Morris | Y57: Terry Aked
A58: 55 | B58: Steve Wootton | I58: =COUNTIF(C58:H58,1)+COUNTIF(C58:H58,2)+COUNTIF(C58:H58,3)+COUNTIF(C58:H58,4)+COUNTIF(C58:H58,5)+COUNTIF(C58:H58,6)+COUNTIF(C58:H58,7)+COUNTIF(C58:H58,8)+COUNTIF(C58:H58,9)+COUNTIF(C58:H58,10)+COUNTIF(C58:H58,11)+COUNTIF(C58:H58,12)+COUNTIF(C58:H58,13)+COUNTIF(C58:H58,14)+COUNTIF(C58:H58,15)+COUNTIF(C58:H58,16)+COUNTIF(C58:H58,17)+COUNTIF(C58:H58,18)+COUNTIF(C58:H58,19)+COUNTIF(C58:H58,20)+COUNTIF(C58:H58,21)+COUNTIF(C58:H58,22)+COUNTIF(C58:H58,23)+COUNTIF(C58:H58,24)+COUNTIF(C58:H58,25)+COUNTIF(C58:H58,26)+COUNTIF(C58:H58,27)+COUNTIF(C58:H58,28)+COUNTIF(C58:H58,29)+COUNTIF(C58:H58,30)+COUNTIF(C58:H58,31)+COUNTIF(C58:H58,32)+COUNTIF(C58:H58,33)+COUNTIF(C58:H58,34)+COUNTIF(C58:H58,35)+COUNTIF(C58:H58,36)+COUNTIF(C58:H58,37)+COUNTIF(C58:H58,38)+COUNTIF(C58:H58,39)+COUNTIF(C58:H58,40)+COUNTIF(C58:H58,41)+COUNTIF(C58:H58,42)+COUNTIF(C58:H58,43)+COUNTIF(C58:H58,44)+COUNTIF(C58:H58,45)+COUNTIF(C58:H58,46)+COUNTIF(C58:H58,47)+COUNTIF(C58:H58,48)+COUNTIF(C58:H58,49)+COUNTIF(C58:H58,50)+COUNTIF(C58:H58,51)+COUNTIF(C58:H58,52)+COUNTIF(C58:H58,53)+COUNTIF(C58:H58,54)+COUNTIF(C58:H58,55)+COUNTIF(C58:H58,56)+COUNTIF(C58:H58,57)+COUNTIF(C58:H58,58)+COUNTIF(C58:H58,59) -> 0 | U58: Paul Welch | Y58: Tony Laurenson
A59: 56 | B59: Stuart Hoare | C59: 20 | I59: =COUNTIF(C59:H59,1)+COUNTIF(C59:H59,2)+COUNTIF(C59:H59,3)+COUNTIF(C59:H59,4)+COUNTIF(C59:H59,5)+COUNTIF(C59:H59,6)+COUNTIF(C59:H59,7)+COUNTIF(C59:H59,8)+COUNTIF(C59:H59,9)+COUNTIF(C59:H59,10)+COUNTIF(C59:H59,11)+COUNTIF(C59:H59,12)+COUNTIF(C59:H59,13)+COUNTIF(C59:H59,14)+COUNTIF(C59:H59,15)+COUNTIF(C59:H59,16)+COUNTIF(C59:H59,17)+COUNTIF(C59:H59,18)+COUNTIF(C59:H59,19)+COUNTIF(C59:H59,20)+COUNTIF(C59:H59,21)+COUNTIF(C59:H59,22)+COUNTIF(C59:H59,23)+COUNTIF(C59:H59,24)+COUNTIF(C59:H59,25)+COUNTIF(C59:H59,26)+COUNTIF(C59:H59,27)+COUNTIF(C59:H59,28)+COUNTIF(C59:H59,29)+COUNTIF(C59:H59,30)+COUNTIF(C59:H59,31)+COUNTIF(C59:H59,32)+COUNTIF(C59:H59,33)+COUNTIF(C59:H59,34)+COUNTIF(C59:H59,35)+COUNTIF(C59:H59,36)+COUNTIF(C59:H59,37)+COUNTIF(C59:H59,38)+COUNTIF(C59:H59,39)+COUNTIF(C59:H59,40)+COUNTIF(C59:H59,41)+COUNTIF(C59:H59,42)+COUNTIF(C59:H59,43)+COUNTIF(C59:H59,44)+COUNTIF(C59:H59,45)+COUNTIF(C59:H59,46)+COUNTIF(C59:H59,47)+COUNTIF(C59:H59,48)+COUNTIF(C59:H59,49)+COUNTIF(C59:H59,50)+COUNTIF(C59:H59,51)+COUNTIF(C59:H59,52)+COUNTIF(C59:H59,53)+COUNTIF(C59:H59,54)+COUNTIF(C59:H59,55)+COUNTIF(C59:H59,56)+COUNTIF(C59:H59,57)+COUNTIF(C59:H59,58)+COUNTIF(C59:H59,59) -> 1 | U59: Peter Murphy | Y59: Tony Liddell
A60: 57 | B60: Tim Collins | I60: =COUNTIF(C60:H60,1)+COUNTIF(C60:H60,2)+COUNTIF(C60:H60,3)+COUNTIF(C60:H60,4)+COUNTIF(C60:H60,5)+COUNTIF(C60:H60,6)+COUNTIF(C60:H60,7)+COUNTIF(C60:H60,8)+COUNTIF(C60:H60,9)+COUNTIF(C60:H60,10)+COUNTIF(C60:H60,11)+COUNTIF(C60:H60,12)+COUNTIF(C60:H60,13)+COUNTIF(C60:H60,14)+COUNTIF(C60:H60,15)+COUNTIF(C60:H60,16)+COUNTIF(C60:H60,17)+COUNTIF(C60:H60,18)+COUNTIF(C60:H60,19)+COUNTIF(C60:H60,20)+COUNTIF(C60:H60,21)+COUNTIF(C60:H60,22)+COUNTIF(C60:H60,23)+COUNTIF(C60:H60,24)+COUNTIF(C60:H60,25)+COUNTIF(C60:H60,26)+COUNTIF(C60:H60,27)+COUNTIF(C60:H60,28)+COUNTIF(C60:H60,29)+COUNTIF(C60:H60,30)+COUNTIF(C60:H60,31)+COUNTIF(C60:H60,32)+COUNTIF(C60:H60,33)+COUNTIF(C60:H60,34)+COUNTIF(C60:H60,35)+COUNTIF(C60:H60,36)+COUNTIF(C60:H60,37)+COUNTIF(C60:H60,38)+COUNTIF(C60:H60,39)+COUNTIF(C60:H60,40)+COUNTIF(C60:H60,41)+COUNTIF(C60:H60,42)+COUNTIF(C60:H60,43)+COUNTIF(C60:H60,44)+COUNTIF(C60:H60,45)+COUNTIF(C60:H60,46)+COUNTIF(C60:H60,47)+COUNTIF(C60:H60,48)+COUNTIF(C60:H60,49)+COUNTIF(C60:H60,50)+COUNTIF(C60:H60,51)+COUNTIF(C60:H60,52)+COUNTIF(C60:H60,53)+COUNTIF(C60:H60,54)+COUNTIF(C60:H60,55)+COUNTIF(C60:H60,56)+COUNTIF(C60:H60,57)+COUNTIF(C60:H60,58)+COUNTIF(C60:H60,59) -> 0 | U60: Rich Wilson
A61: 58 | B61: Tony Liddell | C61: 22 | I61: =COUNTIF(C61:H61,1)+COUNTIF(C61:H61,2)+COUNTIF(C61:H61,3)+COUNTIF(C61:H61,4)+COUNTIF(C61:H61,5)+COUNTIF(C61:H61,6)+COUNTIF(C61:H61,7)+COUNTIF(C61:H61,8)+COUNTIF(C61:H61,9)+COUNTIF(C61:H61,10)+COUNTIF(C61:H61,11)+COUNTIF(C61:H61,12)+COUNTIF(C61:H61,13)+COUNTIF(C61:H61,14)+COUNTIF(C61:H61,15)+COUNTIF(C61:H61,16)+COUNTIF(C61:H61,17)+COUNTIF(C61:H61,18)+COUNTIF(C61:H61,19)+COUNTIF(C61:H61,20)+COUNTIF(C61:H61,21)+COUNTIF(C61:H61,22)+COUNTIF(C61:H61,23)+COUNTIF(C61:H61,24)+COUNTIF(C61:H61,25)+COUNTIF(C61:H61,26)+COUNTIF(C61:H61,27)+COUNTIF(C61:H61,28)+COUNTIF(C61:H61,29)+COUNTIF(C61:H61,30)+COUNTIF(C61:H61,31)+COUNTIF(C61:H61,32)+COUNTIF(C61:H61,33)+COUNTIF(C61:H61,34)+COUNTIF(C61:H61,35)+COUNTIF(C61:H61,36)+COUNTIF(C61:H61,37)+COUNTIF(C61:H61,38)+COUNTIF(C61:H61,39)+COUNTIF(C61:H61,40)+COUNTIF(C61:H61,41)+COUNTIF(C61:H61,42)+COUNTIF(C61:H61,43)+COUNTIF(C61:H61,44)+COUNTIF(C61:H61,45)+COUNTIF(C61:H61,46)+COUNTIF(C61:H61,47)+COUNTIF(C61:H61,48)+COUNTIF(C61:H61,49)+COUNTIF(C61:H61,50)+COUNTIF(C61:H61,51)+COUNTIF(C61:H61,52)+COUNTIF(C61:H61,53)+COUNTIF(C61:H61,54)+COUNTIF(C61:H61,55)+COUNTIF(C61:H61,56)+COUNTIF(C61:H61,57)+COUNTIF(C61:H61,58)+COUNTIF(C61:H61,59) -> 1 | U61: Rich Hammond
U62: Rob Moore
B63: Total runners per race | C63: =COUNTIF(C4:C61,1)+COUNTIF(C4:C61,2)+COUNTIF(C4:C61,3)+COUNTIF(C4:C61,4)+COUNTIF(C4:C61,5)+COUNTIF(C4:C61,6)+COUNTIF(C4:C61,7)+COUNTIF(C4:C61,8)+COUNTIF(C4:C61,9)+COUNTIF(C4:C61,10)+COUNTIF(C4:C61,11)+COUNTIF(C4:C61,12)+COUNTIF(C4:C61,13)+COUNTIF(C4:C61,14)+COUNTIF(C4:C61,15)+COUNTIF(C4:C61,16)+COUNTIF(C4:C61,17)+COUNTIF(C4:C61,18)+COUNTIF(C4:C61,19)+COUNTIF(C4:C61,20)+COUNTIF(C4:C61,21)+COUNTIF(C4:C61,22)+COUNTIF(C4:C61,23)+COUNTIF(C4:C61,24)+COUNTIF(C4:C61,25)+COUNTIF(C4:C61,26)+COUNTIF(C4:C61,27)+COUNTIF(C4:C61,28)+COUNTIF(C4:C61,29)+COUNTIF(C4:C61,30) -> 25 | D63: =COUNTIF(D4:D61,1)+COUNTIF(D4:D61,2)+COUNTIF(D4:D61,3)+COUNTIF(D4:D61,4)+COUNTIF(D4:D61,5)+COUNTIF(D4:D61,6)+COUNTIF(D4:D61,7)+COUNTIF(D4:D61,8)+COUNTIF(D4:D61,9)+COUNTIF(D4:D61,10)+COUNTIF(D4:D61,11)+COUNTIF(D4:D61,12)+COUNTIF(D4:D61,13)+COUNTIF(D4:D61,14)+COUNTIF(D4:D61,15)+COUNTIF(D4:D61,16)+COUNTIF(D4:D61,17)+COUNTIF(D4:D61,18)+COUNTIF(D4:D61,19)+COUNTIF(D4:D61,20)+COUNTIF(D4:D61,21)+COUNTIF(D4:D61,22)+COUNTIF(D4:D61,23)+COUNTIF(D4:D61,24)+COUNTIF(D4:D61,25)+COUNTIF(D4:D61,26)+COUNTIF(D4:D61,27)+COUNTIF(D4:D61,28)+COUNTIF(D4:D61,29)+COUNTIF(D4:D61,30) -> 0 | E63: =COUNTIF(E4:E61,1)+COUNTIF(E4:E61,2)+COUNTIF(E4:E61,3)+COUNTIF(E4:E61,4)+COUNTIF(E4:E61,5)+COUNTIF(E4:E61,6)+COUNTIF(E4:E61,7)+COUNTIF(E4:E61,8)+COUNTIF(E4:E61,9)+COUNTIF(E4:E61,10)+COUNTIF(E4:E61,11)+COUNTIF(E4:E61,12)+COUNTIF(E4:E61,13)+COUNTIF(E4:E61,14)+COUNTIF(E4:E61,15)+COUNTIF(E4:E61,16)+COUNTIF(E4:E61,17)+COUNTIF(E4:E61,18)+COUNTIF(E4:E61,19)+COUNTIF(E4:E61,20)+COUNTIF(E4:E61,21)+COUNTIF(E4:E61,22)+COUNTIF(E4:E61,23)+COUNTIF(E4:E61,24)+COUNTIF(E4:E61,25)+COUNTIF(E4:E61,26)+COUNTIF(E4:E61,27)+COUNTIF(E4:E61,28)+COUNTIF(E4:E61,29)+COUNTIF(E4:E61,30) -> 0 | F63: =COUNTIF(F4:F61,1)+COUNTIF(F4:F61,2)+COUNTIF(F4:F61,3)+COUNTIF(F4:F61,4)+COUNTIF(F4:F61,5)+COUNTIF(F4:F61,6)+COUNTIF(F4:F61,7)+COUNTIF(F4:F61,8)+COUNTIF(F4:F61,9)+COUNTIF(F4:F61,10)+COUNTIF(F4:F61,11)+COUNTIF(F4:F61,12)+COUNTIF(F4:F61,13)+COUNTIF(F4:F61,14)+COUNTIF(F4:F61,15)+COUNTIF(F4:F61,16)+COUNTIF(F4:F61,17)+COUNTIF(F4:F61,18)+COUNTIF(F4:F61,19)+COUNTIF(F4:F61,20)+COUNTIF(F4:F61,21)+COUNTIF(F4:F61,22)+COUNTIF(F4:F61,23)+COUNTIF(F4:F61,24)+COUNTIF(F4:F61,25)+COUNTIF(F4:F61,26)+COUNTIF(F4:F61,27)+COUNTIF(F4:F61,28)+COUNTIF(F4:F61,29)+COUNTIF(F4:F61,30) -> 0 | G63: =COUNTIF(G4:G61,1)+COUNTIF(G4:G61,2)+COUNTIF(G4:G61,3)+COUNTIF(G4:G61,4)+COUNTIF(G4:G61,5)+COUNTIF(G4:G61,6)+COUNTIF(G4:G61,7)+COUNTIF(G4:G61,8)+COUNTIF(G4:G61,9)+COUNTIF(G4:G61,10)+COUNTIF(G4:G61,11)+COUNTIF(G4:G61,12)+COUNTIF(G4:G61,13)+COUNTIF(G4:G61,14)+COUNTIF(G4:G61,15)+COUNTIF(G4:G61,16)+COUNTIF(G4:G61,17)+COUNTIF(G4:G61,18)+COUNTIF(G4:G61,19)+COUNTIF(G4:G61,20)+COUNTIF(G4:G61,21)+COUNTIF(G4:G61,22)+COUNTIF(G4:G61,23)+COUNTIF(G4:G61,24)+COUNTIF(G4:G61,25)+COUNTIF(G4:G61,26)+COUNTIF(G4:G61,27)+COUNTIF(G4:G61,28)+COUNTIF(G4:G61,29)+COUNTIF(G4:G61,30) -> 0 | H63: =COUNTIF(H4:H61,1)+COUNTIF(H4:H61,2)+COUNTIF(H4:H61,3)+COUNTIF(H4:H61,4)+COUNTIF(H4:H61,5)+COUNTIF(H4:H61,6)+COUNTIF(H4:H61,7)+COUNTIF(H4:H61,8)+COUNTIF(H4:H61,9)+COUNTIF(H4:H61,10)+COUNTIF(H4:H61,11)+COUNTIF(H4:H61,12)+COUNTIF(H4:H61,13)+COUNTIF(H4:H61,14)+COUNTIF(H4:H61,15)+COUNTIF(H4:H61,16)+COUNTIF(H4:H61,17)+COUNTIF(H4:H61,18)+COUNTIF(H4:H61,19)+COUNTIF(H4:H61,20)+COUNTIF(H4:H61,21)+COUNTIF(H4:H61,22)+COUNTIF(H4:H61,23)+COUNTIF(H4:H61,24)+COUNTIF(H4:H61,25)+COUNTIF(H4:H61,26)+COUNTIF(H4:H61,27)+COUNTIF(H4:H61,28)+COUNTIF(H4:H61,29)+COUNTIF(H4:H61,30)+COUNTIF(H4:H61,30) -> 0 | I63: =COUNTIF(I4:I61,1)+COUNTIF(I4:I61,2)+COUNTIF(I4:I61,3)+COUNTIF(I4:I61,4)+COUNTIF(I4:I61,5)++COUNTIF(I4:I61,6) -> 25 | J63: Unique runners
B64: Mens race position | C64: 1
B66: Team Position | C66: 5
B67: League position | C67: 5

Sheet Benyon's
A1: Benyon's Enclosure XC Results
B2: Men | C2: =Runners!C63 -> 25 | G2: Ladies | H2: =Runners!L35 -> 8
A4: Club pos'n | B4: Runner | C4: Race Pos'n | F4: Club pos'n | G4: Runner | H4: Race Pos'n
A5: 1 | B5: Mark Bicknell | C5: 5 | D5: x | F5: 1 | G5: Sam Morris | H5: 45
A6: 2 | B6: David Pearson | C6: 6 | D6: x | F6: 2 | G6: Lisa Peckover | H6: 52
A7: 3 | B7: Michael Harrison | C7: 7 | D7: x | F7: 3 | G7: Bridie Rowlands | H7: 53
A8: 4 | B8: Matthew Russell | C8: 18 | D8: Sub-total | E8: =SUM(C5:C8) -> 36 | F8: 4 | G8: Caroline Whiting | H8: 82 | I8: Sub-total | J8: =SUM(H5:H8) -> 232
A9: 5 | B9: Alex Blake | C9: 37 | D9: x | F9: 5 | G9: Jenny Parks | H9: 110
A10: 6 | B10: Julian Manning | C10: 43 | D10: x | F10: 6 | G10: Clare Taylor | H10: 118
A11: 7 | B11: Andrew Taphouse | C11: 56 | D11: x | F11: 7 | G11: Clare Welch | H11: 178
A12: 8 | B12: Rob Wilson | C12: 41 | D12: X | F12: 8 | G12: Julia Revill | H12: 211
A13: 9 | B13: Paul Morris | C13: 57 | D13: x | F13: 9
A14: 10 | B14: Mat Sibley | C14: 73 | D14: x
A15: 11 | B15: Gary Armstrong | C15: 90 | D15: x
A16: 12 | B16: Neil Hawkey | C16: 93 | D16: x
A17: 13 | B17: Charlie Mitchell | C17: 106 | D17: x
A18: 14 | B18: Richard Hammond | C18: 108 | D18: x
A19: 15 | B19: Paul Welch | C19: 109 | D19: x
A20: 16 | B20: Chris Penfold | C20: 112 | D20: x
A21: 17 | B21: Andy Newcombe | C21: 147 | D21: x
A22: 18 | B22: Brent Latham | C22: 165 | D22: x
A23: 19 | B23: Rory Heard | C23: 170 | D23: x
A24: 20 | B24: Stuart Hoare | C24: 199 | D24: x
A25: 21 | B25: John Mottershead | C25: 181 | D25: x
... A29: 25 | B29: Brian Harris | C29: 251 | D29: x
A31: Mens Team finished 1st out of 22 | F31: Ladies Team finished 11th out of 22
A33: Overall team result Joint 5th out of 22

Sheet Alice Holt
A1: Alice Holt XC Results
B2: Men | C2: =Runners!E63 -> 0 | G2: Ladies | H2: =Runners!N35 -> 0 | AC2: Total
AC3: =M3+U3 -> 0
A4: Club pos'n | B4: Runner | C4: Race Pos'n | F4: Club pos'n | G4: Runner | H4: Race Pos'n | AC4: =M4+U4 -> 0
A5: 1 | F5: 1 | M5: Julian Manning | O5: Kirtsy Aked | AC5: =#REF!+U5 -> #REF!
A6: 2 | F6: 2 | M6: Henry Piper | O6: Athene Ryan | AC6: =#REF!+U6 -> #REF!
A7: 3 | F7: 3 | M7: Mark Bicknell | O7: Nikki Thomas | AC7: =#REF!+U7 -> #REF!
A8: 4 | D8: Sub-total | E8: =SUM(C5:C8) -> 0 | F8: 4 | I8: Sub-total | J8: =SUM(H5:H8) -> 0 | M8: Michael Harrison | O8: Sam Morris | AC8: =#REF!+U8 -> #REF!
A9: 5 | F9: 5 | M9: Andy Taphouse | O9: Lisa Peckover | AC9: =#REF!+U9 -> #REF!
A10: 6 | F10: 6 | M10: Billy Chapman | O10: Bridie Rowlands | AC10: =#REF!+U10 -> #REF!
A11: 7 | F11: 7 | M11: Lee Weeks | O11: Caroline Whiting | AC11: =#REF!+U11 -> #REF!
A12: 8 | F12: 8 | M12: Gary Armstrong | O12: Jenny Parks | AC12: =#REF!+U12 -> #REF!
A13: 9 | F13: 9 | M13: Mat Sibley | O13: Jane Woodroof | AC13: =#REF!+U13 -> #REF!
A14: 10 | F14: 10 | M14: Andy Newcome | AC14: =#REF!+U14 -> #REF!
A15: 11 | F15: 11 | M15: Neil Hawkey | AC15: =#REF!+U15 -> #REF!
A16: 12 | M16: Paul Welch | AC16: =#REF!+U16 -> #REF!
A17: 13 | M17: Charlie Mitchell | AC17: =#REF!+U17 -> #REF!
A18: 14 | M18: Simon Toms | AC18: =#REF!+U18 -> #REF!
A19: 15 | M19: Rory Heard | AC19: =#REF!+U19 -> #REF!
A20: 16 | M20: Dave Arnold | AC20: =#REF!+U20 -> #REF!
A21: 17 | M21: Gary McCawley | AC21: =#REF!+U21 -> #REF!
A22: 18 | M22: Stuart Hoare | AC22: =#REF!+U22 -> #REF!
A23: 19 | M23: Matt Sargent | AC23: =#REF!+U23 -> #REF!
A24: 20 | M24: Brent Latham | AC24: =#REF!+U24 -> #REF!
A25: 21 | M25: Peter Murphy | AC25: =#REF!+U25 -> #REF!
A26: 22
A28: Mens Team finished ??nd out of 22 | F28: Ladies Team finished ??th out of 22
A30: Overall team result joint 2nd out of 23 (3 way tie)
A31: Current League position ??

Sheet Wandsworth
A1: Lord Wandsworth XC Results
B2: Men | C2: =Runners!D63 -> 0 | G2: Ladies | H2: =Runners!M35 -> 0
A4: Club pos'n | B4: Runner | C4: Race Pos'n | F4: Club pos'n | G4: Runner | H4: Race Pos'n | M4: Matt Russell | O4: Kirsty Aked
A5: 1 | F5: 1 | M5: Julian Manning | O5: Sam Morris
A6: 2 | F6: 2 | M6: Mark Bicknell | O6: Lisa Peckover
A7: 3 | F7: 3 | M7: David Pearson | O7: Bridie Rowlands
A8: 4 | D8: Sub-total | E8: =SUM(C5:C8) -> 0 | F8: 4 | I8: Sub-total | J8: =SUM(H5:H8) -> 0 | M8: Rob Wilson | O8: Caroline Whiting
A9: 5 | F9: 5 | M9: Henry Piper | O9: Katie Edmonds
A10: 6 | F10: 6 | M10: Andy Taphouse | O10: Jenny Parks
A11: 7 | F11: 7 | M11: Gary Armstrong | O11: Kimberley Churchill
A12: 8 | F12: 8 | M12: Paul Morris | O12: Jane Woodroof
A13: 9 | F13: 9 | M13: Mat Sibley | O13: Clare Welch
A14: 10 | F14: 10 | M14: Dyfan Rowlands | O14: Julia Revill
A15: 11 | F15: 11 | M15: Alex Blake
A16: 12 | M16: Paul Welch
A17: 13 | M17: Neil Hawkey
A18: 14 | M18: Charlie Mitchell
A19: 15 | M19: John Malthouse
A20: 16 | M20: Mike Deller
A21: 17 | M21: Tony Liddell
A22: 18 | M22: Stuart Hoare
A23: 19 | M23: Gary McCawley
A24: 20 | M24: Gary Edmonds
A25: 21 | M25: Matt Sargent
A26: 22 | M26: Roger Jones
A27: 23 | M27: Pete Murphy
... A29: 25 | M29: Brian Harris
A30: 26
A32: Mens Team finished ??th out of 22 | F32: Ladies Team finished ??th out of 22
A34: Overall team result ??th out of 22
A36: Currently sit ??th out of 22 in the league
A46: Club pos'n | B46: Runner | E46: Club pos'n | F46: Runner
A47: 1 | B47: Matt Russell | E47: 1 | F47: Kirsty Aked
A48: 2 | B48: Julian Manning | E48: 2 | F48: Sam Morris
A49: 3 | B49: Mark Bicknell | E49: 3 | F49: Lisa Peckover
A50: 4 | B50: David Pearson | E50: 4 | F50: Bridie Rowlands
A51: 5 | B51: Rob Wilson | E51: 5 | F51: Caroline Whiting
A52: 6 | B52: Henry Piper | E52: 6 | F52: Katie Edmonds
A53: 7 | B53: Andy Taphouse | E53: 7 | F53: Jenny Parks
A54: 8 | B54: Gary Armstrong | E54: 8 | F54: Kimberley Churchill
A55: 9 | B55: Paul Morris | E55: 9 | F55: Jane Woodroof
A56: 10 | B56: Mat Sibley | E56: 10 | F56: Clare Welch
A57: 11 | B57: Dyfan Rowlands | E57: 11 | F57: Julia Revill
A58: 12 | B58: Alex Blake
A59: 13 | B59: Paul Welch
A60: 14 | B60: Neil Hawkey
A61: 15 | B61: Charlie Mitchell
A62: 16 | B62: John Malthouse
A63: 17 | B63: Mike Deller
A64: 18 | B64: Tony Liddell
A65: 19 | B65: Stuart Hoare
A66: 20 | B66: Gary McCawley
A67: 21 | B67: Gary Edmonds
A68: 22 | B68: Matt Sargent
A69: 23 | B69: Roger Jones
... A72: 26 | B72: Brian Harris

Sheet Chawton
A1: Chawton House XC Results
B2: Men | C2: =Runners!F63 -> 0 | G2: Ladies | H2: =Runners!O35 -> 0
A4: Club pos'n | B4: Runner | C4: Race Pos'n | F4: Club pos'n | G4: Runner | H4: Race Pos'n
A5: 1 | F5: 1 | M5: Henry Piper | O5: Kirsty Aked
A6: 2 | F6: 2 | M6: Matt Russell | O6: Sam Morris
A7: 3 | F7: 3 | M7: Julian Manning | O7: Clare Ryan
A8: 4 | D8: Sub-total | E8: =SUM(C5:C8) -> 0 | F8: 4 | I8: Sub-total | J8: =SUM(H5:H8) -> 0 | M8: Rob Wilson | O8: Lisa Peckover
A9: 5 | F9: 5 | M9: Michael Harrison | O9: Caroline Whiting
A10: 6 | F10: 6 | M10: Andy Taphouse | O10: Bridie Rowlands
A11: 7 | F11: 7 | M11: Billy Chapman | O11: Kimberly Churchill
A12: 8 | F12: 8 | M12: Alex Blake | O12: Jenny Parks
A13: 9 | F13: 9 | M13: Adam White | O13: Clare Welch
A14: 10 | M14: Gary Armstrong
A15: 11 | M15: Dyfan Rowlands
A16: 12 | M16: Mat Sibley
A17: 13 | M17: Paul Welch
A18: 14 | M18: Andy Newcome
A19: 15 | M19: Neil Hawkey
A20: 16 | M20: Charlie Mitchell
A21: 17 | M21: Rob Moore
A22: 18 | M22: Paul Morris
A23: 19 | M23: Simon Toms
A24: 20 | M24: Gary McCawley
A25: 21 | M25: John Motershead
... A31: 27 | M31: Brian Harris
A33: Mens Team finished ??nd out of 22 | F33: Ladies Team finished ??th out of 22
A35: Overall team result ??rd out of 22
A36: Current league position ??th

Sheet Bourne
A1: Bourne Woods XC Results
B2: Men | C2: =Runners!G63 -> 0 | G2: Ladies | H2: =Runners!P35 -> 0
A4: Club pos'n | B4: Runner | C4: Race Pos'n | F4: Club pos'n | G4: Runner | H4: Race Pos'n
A5: 1 | F5: 1 | M5: Henry Piper | O5: Sam Morris
A6: 2 | F6: 2 | M6: Julian Manning | O6: Lisa Peckover
A7: 3 | F7: 3 | M7: Matt Russell | O7: Sue Colenutt
A8: 4 | D8: Sub-total | E8: =SUM(C5:C8) -> 0 | F8: 4 | I8: Sub-total | J8: =SUM(H5:H8) -> 0 | M8: Mark Bicknell | O8: Caroline Whiting
A9: 5 | F9: 5 | M9: Rob Wilson | O9: Christina Ball
A10: 6 | F10: 6 | M10: Alex Blake | O10: Jenny Parks
A11: 7 | F11: 7 | M11: Andy Taphouse | O11: Jane Woodroof
A12: 8 | F12: 8 | M12: Mike Harrison | O12: Julia Revill
A13: 9 | F13: 9 | M13: Mat Sibley
A14: 10 | F14: 10 | M14: Gary Armstrong
A15: 11 | F15: 11 | M15: Paul Morris
A16: 12 | F16: 12 | M16: Paul Welch
A17: 13 | F17: 13 | M17: Neil Hawkey
A18: 14 | M18: Andy Newcombe
A19: 15 | M19: Chris Penfold
A20: 16 | M20: Gary McCawley
A21: 17 | M21: Gary Edmonds
A22: 18 | M22: Matt Sargent
A23: 19 | M23: Tony Liddell
A24: 20 | M24: Brian Harris
A25: Mens Team finished ??rd out of 22. | F25: Ladies Team finished ??th out of 22.
A27: Overall team result ??th out of 22.
A28: Final league position ??

Sheet Fareham RC
A1: Fareham RC XC Results
B2: Men | C2: =Runners!H63 -> 0 | G2: Ladies | H2: =Runners!Q35 -> 0
A4: Club pos'n | B4: Runner | C4: Race Pos'n | F4: Club pos'n | G4: Runner | H4: Race Pos'n
A5: 1 | F5: 1
A6: 2 | F6: 2
A7: 3 | F7: 3
A8: 4 | D8: Sub-total | E8: =SUM(C5:C8) -> 0 | F8: 4 | I8: Sub-total | J8: =SUM(H5:H8) -> 0
A9: 5 | F9: 5
A10: 6 | F10: 6
A11: 7 | F11: 7
A12: 8 | F12: 8
A13: 9 | F13: 9
A14: 10 | F14: 10
A15: 11 | F15: 11
A16: 12 | F16: 12
A17: 13
A18: 14
A19: 15
A20: 16
A21: 17
A22: 18
A23: 19
A24: 20
A25: 21
A26: 22
A27: 23
A28: 24
... A35: 31
A37: Mens Team finished 1st out of 23 | F37: Ladies Team finished 2nd out of 23
A39: Overall team result 1st out of 23

Sheet League total
B2: Pos | C2: CLUB | D2: Benyon's | E2: Bourne woods | F2: Lord Wandsworth | G2: Chawton | H2: Alice Holt | I2: Holywell | J2: Total | K2: Best 4
B3: 1 | C3: LISS RUNNERS | D3: 1 | J3: =SUM(D3:I3) -> 1 | K3: =SUM(D3:I3)-LARGE(D3:I3,1) -> 0
B4: 2 | C4: BASINGSTOKE & MIDHANTS | D4: 1 | J4: =SUM(D4:I4) -> 1 | K4: =SUM(D4:I4)-LARGE(D4:I4,1) -> 0
B5: 3 | C5: FLEET & CROOKHAM A.C. | D5: 1 | J5: =SUM(D5:I5) -> 1 | K5: =SUM(D5:I5)-LARGE(D5:I5,1) -> 0
B6: 4 | C6: HASLEMERE BORDERS A.C. | D6: 4 | J6: =SUM(D6:I6) -> 4 | K6: =SUM(D6:I6)-LARGE(D6:I6,1) -> 0
B7: 5 | C7: DENMEAD STRIDERS | D7: 5 | J7: =SUM(D7:I7) -> 5 | K7: =SUM(D7:I7)-LARGE(D7:I7,1) -> 0
B8: 6 | C8: HART ROAD RUNNERS | D8: 5 | J8: =SUM(D8:I8) -> 5 | K8: =SUM(D8:I8)-LARGE(D8:I8,1) -> 0
B9: 7 | C9: FARNHAM RUNNERS | D9: 7 | J9: =SUM(D9:I9) -> 7 | K9: =SUM(D9:I9)-LARGE(D9:I9,1) -> 0
B10: 8 | C10: HATCH WARREN RUNNERS | D10: 8 | J10: =SUM(D10:I10) -> 8 | K10: =SUM(D10:I10)-LARGE(D10:I10,1) -> 0
B11: 9 | C11: ALTON RUNNERS | D11: 9 | J11: =SUM(D11:I11) -> 9 | K11: =SUM(D11:I11)-LARGE(D11:I11,1) -> 0
B12: 10 | C12: PORTSMOUTH TRI | D12: 10 | J12: =SUM(D12:I12) -> 10 | K12: =SUM(D12:I12)-LARGE(D12:I12,1) -> 0
B13: 11 | C13: HOOK RUNNERS | D13: 11 | J13: =SUM(D13:I13) -> 11 | K13: =SUM(D13:I13)-LARGE(D13:I13,1) -> 0
B14: 12 | C14: CHINEHAM PARK R.C. | D14: 12 | J14: =SUM(D14:I14) -> 12 | K14: =SUM(D14:I14)-LARGE(D14:I14,1) -> 0
... B24: 22 | C24: HAVANT A.C. | D24: 22 | J24: =SUM(D24:I24) -> 22 | K24: =SUM(D24:I24)-LARGE(D24:I24,1) -> 0
