Workbook

Sheet Runners
U1: Men | Y1: Ladies
A2: Men | J2: Ladies | R2: Total
B3: Runner | C3: Benyon's | D3: Wandsworth | E3: Alice Holt | F3: Chawton | G3: Bourne | H3: Fareham RC | I3: Total | K3: Runner | L3: Benyon's | M3: Wandsworth | N3: Alice Holt | O3: Chawton | P3: Bourne | Q3: Fareham RC | V3: Club Position | W3: Race Position | Z3: Club Position | AA3: Race Position
A4: 1 | B4: Adam White | I4: =COUNTIF(C4:H4,1)+COUNTIF(C4:H4,2)+COUNTIF(C4:H4,3)+COUNTIF(C4:H4,4)+COUNTIF(C4:H4,5)+COUNTIF(C4:H4,6)+COUNTIF(C4:H4,7)+COUNTIF(C4:H4,8)+COUNTIF(C4:H4,9)+COUNTIF(C4:H4,10)+COUNTIF(C4:H4,11)+COUNTIF(C4:H4,12)+COUNTIF(C4:H4,13)+COUNTIF(C4:H4,14)+COUNTIF(C4:H4,15)+COUNTIF(C4:H4,16)+COUNTIF(C4:H4,17)+COUNTIF(C4:H4,18)+COUNTIF(C4:H4,19)+COUNTIF(C4:H4,20)+COUNTIF(C4:H4,21)+COUNTIF(C4:H4,22)+COUNTIF(C4:H4,23)+COUNTIF(C4:H4,24)+COUNTIF(C4:H4,25)+COUNTIF(C4:H4,26)+COUNTIF(C4:H4,27)+COUNTIF(C4:H4,28)+COUNTIF(C4:H4,29)+COUNTIF(C4:H4,30)+COUNTIF(C4:H4,31)+COUNTIF(C4:H4,32)+COUNTIF(C4:H4,33)+COUNTIF(C4:H4,34)+COUNTIF(C4:H4,35)+COUNTIF(C4:H4,36)+COUNTIF(C4:H4,37)+COUNTIF(C4:H4,38)+COUNTIF(C4:H4,39)+COUNTIF(C4:H4,40)+COUNTIF(C4:H4,41)+COUNTIF(C4:H4,42)+COUNTIF(C4:H4,43)+COUNTIF(C4:H4,44)+COUNTIF(C4:H4,45)+COUNTIF(C4:H4,46)+COUNTIF(C4:H4,47)+COUNTIF(C4:H4,48)+COUNTIF(C4:H4,49)+COUNTIF(C4:H4,50)+COUNTIF(C4:H4,51)+COUNTIF(C4:H4,52)+COUNTIF(C4:H4,53)+COUNTIF(C4:H4,54)+COUNTIF(C4:H4,55)+COUNTIF(C4:H4,56)+COUNTIF(C4:H4,57)+COUNTIF(C4:H4,58)+COUNTIF(C4:H4,59) -> 0 | J4: 1 | K4: Angie Agate | R4: =COUNTIF(L4:Q4,1)+COUNTIF(L4:Q4,2)+COUNTIF(L4:Q4,3)+COUNTIF(L4:Q4,4)+COUNTIF(L4:Q4,5)+COUNTIF(L4:Q4,6)+COUNTIF(L4:Q4,7)+COUNTIF(L4:Q4,8)+COUNTIF(L4:Q4,9)+COUNTIF(L4:Q4,10)+COUNTIF(L4:Q4,11)+COUNTIF(L4:Q4,12)+COUNTIF(L4:Q4,13)+COUNTIF(L4:Q4,14)+COUNTIF(L4:Q4,15)+COUNTIF(L4:Q4,16)+COUNTIF(L4:Q4,17)+COUNTIF(L4:Q4,18)+COUNTIF(L4:Q4,19)+COUNTIF(L4:Q4,20)+COUNTIF(L4:Q4,21)+COUNTIF(L4:Q4,22)+COUNTIF(L4:Q4,23)+COUNTIF(L4:Q4,24)+COUNTIF(L4:Q4,25)+COUNTIF(L4:Q4,26)+COUNTIF(L4:Q4,27)+COUNTIF(L4:Q4,28)+COUNTIF(L4:Q4,29)+COUNTIF(L4:Q4,30)+COUNTIF(L4:Q4,31)+COUNTIF(L4:Q4,32)+COUNTIF(L4:Q4,33)+COUNTIF(L4:Q4,34)+COUNTIF(L4:Q4,35)+COUNTIF(L4:Q4,36)+COUNTIF(L4:Q4,37)+COUNTIF(L4:Q4,38)+COUNTIF(L4:Q4,39)+COUNTIF(L4:Q4,40)+COUNTIF(L4:Q4,41)+COUNTIF(L4:Q4,42)+COUNTIF(L4:Q4,43)+COUNTIF(L4:Q4,44)+COUNTIF(L4:Q4,45)+COUNTIF(L4:Q4,46)+COUNTIF(L4:Q4,47)+COUNTIF(L4:Q4,48)+COUNTIF(L4:Q4,49)+COUNTIF(L4:Q4,50)+COUNTIF(L4:Q4,51)+COUNTIF(L4:Q4,52)+COUNTIF(L4:Q4,53)+COUNTIF(L4:Q4,54)+COUNTIF(L4:Q4,55)+COUNTIF(L4:Q4,56)+COUNTIF(L4:Q4,57)+COUNTIF(L4:Q4,58)+COUNTIF(L4:Q4,59) -> 0 | U4: Adam White | Y4: Angie Agate
A5: 2 | B5: Alex Blake | C5: 5 | I5: =COUNTIF(C5:H5,1)+COUNTIF(C5:H5,2)+COUNTIF(C5:H5,3)+COUNTIF(C5:H5,4)+COUNTIF(C5:H5,5)+COUNTIF(C5:H5,6)+COUNTIF(C5:H5,7)+COUNTIF(C5:H5,8)+COUNTIF(C5:H5,9)+COUNTIF(C5:H5,10)+COUNTIF(C5:H5,11)+COUNTIF(C5:H5,12)+COUNTIF(C5:H5,13)+COUNTIF(C5:H5,14)+COUNTIF(C5:H5,15)+COUNTIF(C5:H5,16)+COUNTIF(C5:H5,17)+COUNTIF(C5:H5,18)+COUNTIF(C5:H5,19)+COUNTIF(C5:H5,20)+COUNTIF(C5:H5,21)+COUNTIF(C5:H5,22)+COUNTIF(C5:H5,23)+COUNTIF(C5:H5,24)+COUNTIF(C5:H5,25)+COUNTIF(C5:H5,26)+COUNTIF(C5:H5,27)+COUNTIF(C5:H5,28)+COUNTIF(C5:H5,29)+COUNTIF(C5:H5,30)+COUNTIF(C5:H5,31)+COUNTIF(C5:H5,32)+COUNTIF(C5:H5,33)+COUNTIF(C5:H5,34)+COUNTIF(C5:H5,35)+COUNTIF(C5:H5,36)+COUNTIF(C5:H5,37)+COUNTIF(C5:H5,38)+COUNTIF(C5:H5,39)+COUNTIF(C5:H5,40)+COUNTIF(C5:H5,41)+COUNTIF(C5:H5,42)+COUNTIF(C5:H5,43)+COUNTIF(C5:H5,44)+COUNTIF(C5:H5,45)+COUNTIF(C5:H5,46)+COUNTIF(C5:H5,47)+COUNTIF(C5:H5,48)+COUNTIF(C5:H5,49)+COUNTIF(C5:H5,50)+COUNTIF(C5:H5,51)+COUNTIF(C5:H5,52)+COUNTIF(C5:H5,53)+COUNTIF(C5:H5,54)+COUNTIF(C5:H5,55)+COUNTIF(C5:H5,56)+COUNTIF(C5:H5,57)+COUNTIF(C5:H5,58)+COUNTIF(C5:H5,59) -> 1 | J5: 2 | K5: Athene Ryan | R5: =COUNTIF(L5:Q5,1)+COUNTIF(L5:Q5,2)+COUNTIF(L5:Q5,3)+COUNTIF(L5:Q5,4)+COUNTIF(L5:Q5,5)+COUNTIF(L5:Q5,6)+COUNTIF(L5:Q5,7)+COUNTIF(L5:Q5,8)+COUNTIF(L5:Q5,9)+COUNTIF(L5:Q5,10)+COUNTIF(L5:Q5,11)+COUNTIF(L5:Q5,12)+COUNTIF(L5:Q5,13)+COUNTIF(L5:Q5,14)+COUNTIF(L5:Q5,15)+COUNTIF(L5:Q5,16)+COUNTIF(L5:Q5,17)+COUNTIF(L5:Q5,18)+COUNTIF(L5:Q5,19)+COUNTIF(L5:Q5,20)+COUNTIF(L5:Q5,21)+COUNTIF(L5:Q5,22)+COUNTIF(L5:Q5,23)+COUNTIF(L5:Q5,24)+COUNTIF(L5:Q5,25)+COUNTIF(L5:Q5,26)+COUNTIF(L5:Q5,27)+COUNTIF(L5:Q5,28)+COUNTIF(L5:Q5,29)+COUNTIF(L5:Q5,30)+COUNTIF(L5:Q5,31)+COUNTIF(L5:Q5,32)+COUNTIF(L5:Q5,33)+COUNTIF(L5:Q5,34)+COUNTIF(L5:Q5,35)+COUNTIF(L5:Q5,36)+COUNTIF(L5:Q5,37)+COUNTIF(L5:Q5,38)+COUNTIF(L5:Q5,39)+COUNTIF(L5:Q5,40)+COUNTIF(L5:Q5,41)+COUNTIF(L5:Q5,42)+COUNTIF(L5:Q5,43)+COUNTIF(L5:Q5,44)+COUNTIF(L5:Q5,45)+COUNTIF(L5:Q5,46)+COUNTIF(L5:Q5,47)+COUNTIF(L5:Q5,48)+COUNTIF(L5:Q5,49)+COUNTIF(L5:Q5,50)+COUNTIF(L5:Q5,51)+COUNTIF(L5:Q5,52)+COUNTIF(L5:Q5,53)+COUNTIF(L5:Q5,54)+COUNTIF(L5:Q5,55)+COUNTIF(L5:Q5,56)+COUNTIF(L5:Q5,57)+COUNTIF(L5:Q5,58)+COUNTIF(L5:Q5,59) -> 0 | U5: Alan McVitie | Y5: Anita Crawley
A6: 3 | B6: Andrew Meredith | I6: =COUNTIF(C6:H6,1)+COUNTIF(C6:H6,2)+COUNTIF(C6:H6,3)+COUNTIF(C6:H6,4)+COUNTIF(C6:H6,5)+COUNTIF(C6:H6,6)+COUNTIF(C6:H6,7)+COUNTIF(C6:H6,8)+COUNTIF(C6:H6,9)+COUNTIF(C6:H6,10)+COUNTIF(C6:H6,11)+COUNTIF(C6:H6,12)+COUNTIF(C6:H6,13)+COUNTIF(C6:H6,14)+COUNTIF(C6:H6,15)+COUNTIF(C6:H6,16)+COUNTIF(C6:H6,17)+COUNTIF(C6:H6,18)+COUNTIF(C6:H6,19)+COUNTIF(C6:H6,20)+COUNTIF(C6:H6,21)+COUNTIF(C6:H6,22)+COUNTIF(C6:H6,23)+COUNTIF(C6:H6,24)+COUNTIF(C6:H6,25)+COUNTIF(C6:H6,26)+COUNTIF(C6:H6,27)+COUNTIF(C6:H6,28)+COUNTIF(C6:H6,29)+COUNTIF(C6:H6,30)+COUNTIF(C6:H6,31)+COUNTIF(C6:H6,32)+COUNTIF(C6:H6,33)+COUNTIF(C6:H6,34)+COUNTIF(C6:H6,35)+COUNTIF(C6:H6,36)+COUNTIF(C6:H6,37)+COUNTIF(C6:H6,38)+COUNTIF(C6:H6,39)+COUNTIF(C6:H6,40)+COUNTIF(C6:H6,41)+COUNTIF(C6:H6,42)+COUNTIF(C6:H6,43)+COUNTIF(C6:H6,44)+COUNTIF(C6:H6,45)+COUNTIF(C6:H6,46)+COUNTIF(C6:H6,47)+COUNTIF(C6:H6,48)+COUNTIF(C6:H6,49)+COUNTIF(C6:H6,50)+COUNTIF(C6:H6,51)+COUNTIF(C6:H6,52)+COUNTIF(C6:H6,53)+COUNTIF(C6:H6,54)+COUNTIF(C6:H6,55)+COUNTIF(C6:H6,56)+COUNTIF(C6:H6,57)+COUNTIF(C6:H6,58)+COUNTIF(C6:H6,59) -> 0 | J6: 3 | K6: Bekki Leaves | R6: =COUNTIF(L6:Q6,1)+COUNTIF(L6:Q6,2)+COUNTIF(L6:Q6,3)+COUNTIF(L6:Q6,4)+COUNTIF(L6:Q6,5)+COUNTIF(L6:Q6,6)+COUNTIF(L6:Q6,7)+COUNTIF(L6:Q6,8)+COUNTIF(L6:Q6,9)+COUNTIF(L6:Q6,10)+COUNTIF(L6:Q6,11)+COUNTIF(L6:Q6,12)+COUNTIF(L6:Q6,13)+COUNTIF(L6:Q6,14)+COUNTIF(L6:Q6,15)+COUNTIF(L6:Q6,16)+COUNTIF(L6:Q6,17)+COUNTIF(L6:Q6,18)+COUNTIF(L6:Q6,19)+COUNTIF(L6:Q6,20)+COUNTIF(L6:Q6,21)+COUNTIF(L6:Q6,22)+COUNTIF(L6:Q6,23)+COUNTIF(L6:Q6,24)+COUNTIF(L6:Q6,25)+COUNTIF(L6:Q6,26)+COUNTIF(L6:Q6,27)+COUNTIF(L6:Q6,28)+COUNTIF(L6:Q6,29)+COUNTIF(L6:Q6,30)+COUNTIF(L6:Q6,31)+COUNTIF(L6:Q6,32)+COUNTIF(L6:Q6,33)+COUNTIF(L6:Q6,34)+COUNTIF(L6:Q6,35)+COUNTIF(L6:Q6,36)+COUNTIF(L6:Q6,37)+COUNTIF(L6:Q6,38)+COUNTIF(L6:Q6,39)+COUNTIF(L6:Q6,40)+COUNTIF(L6:Q6,41)+COUNTIF(L6:Q6,42)+COUNTIF(L6:Q6,43)+COUNTIF(L6:Q6,44)+COUNTIF(L6:Q6,45)+COUNTIF(L6:Q6,46)+COUNTIF(L6:Q6,47)+COUNTIF(L6:Q6,48)+COUNTIF(L6:Q6,49)+COUNTIF(L6:Q6,50)+COUNTIF(L6:Q6,51)+COUNTIF(L6:Q6,52)+COUNTIF(L6:Q6,53)+COUNTIF(L6:Q6,54)+COUNTIF(L6:Q6,55)+COUNTIF(L6:Q6,56)+COUNTIF(L6:Q6,57)+COUNTIF(L6:Q6,58)+COUNTIF(L6:Q6,59) -> 0 | U6: Alex Blake | Y6: Athene Ryan
A7: 4 | B7: Andy Newcome | C7: 17 | I7: =COUNTIF(C7:H7,1)+COUNTIF(C7:H7,2)+COUNTIF(C7:H7,3)+COUNTIF(C7:H7,4)+COUNTIF(C7:H7,5)+COUNTIF(C7:H7,6)+COUNTIF(C7:H7,7)+COUNTIF(C7:H7,8)+COUNTIF(C7:H7,9)+COUNTIF(C7:H7,10)+COUNTIF(C7:H7,11)+COUNTIF(C7:H7,12)+COUNTIF(C7:H7,13)+COUNTIF(C7:H7,14)+COUNTIF(C7:H7,15)+COUNTIF(C7:H7,16)+COUNTIF(C7:H7,17)+COUNTIF(C7:H7,18)+COUNTIF(C7:H7,19)+COUNTIF(C7:H7,20)+COUNTIF(C7:H7,21)+COUNTIF(C7:H7,22)+COUNTIF(C7:H7,23)+COUNTIF(C7:H7,24)+COUNTIF(C7:H7,25)+COUNTIF(C7:H7,26)+COUNTIF(C7:H7,27)+COUNTIF(C7:H7,28)+COUNTIF(C7:H7,29)+COUNTIF(C7:H7,30)+COUNTIF(C7:H7,31)+COUNTIF(C7:H7,32)+COUNTIF(C7:H7,33)+COUNTIF(C7:H7,34)+COUNTIF(C7:H7,35)+COUNTIF(C7:H7,36)+COUNTIF(C7:H7,37)+COUNTIF(C7:H7,38)+COUNTIF(C7:H7,39)+COUNTIF(C7:H7,40)+COUNTIF(C7:H7,41)+COUNTIF(C7:H7,42)+COUNTIF(C7:H7,43)+COUNTIF(C7:H7,44)+COUNTIF(C7:H7,45)+COUNTIF(C7:H7,46)+COUNTIF(C7:H7,47)+COUNTIF(C7:H7,48)+COUNTIF(C7:H7,49)+COUNTIF(C7:H7,50)+COUNTIF(C7:H7,51)+COUNTIF(C7:H7,52)+COUNTIF(C7:H7,53)+COUNTIF(C7:H7,54)+COUNTIF(C7:H7,55)+COUNTIF(C7:H7,56)+COUNTIF(C7:H7,57)+COUNTIF(C7:H7,58)+COUNTIF(C7:H7,59) -> 1 | J7: 4 | K7: Belinda Lewis-Jones | R7: =COUNTIF(L7:Q7,1)+COUNTIF(L7:Q7,2)+COUNTIF(L7:Q7,3)+COUNTIF(L7:Q7,4)+COUNTIF(L7:Q7,5)+COUNTIF(L7:Q7,6)+COUNTIF(L7:Q7,7)+COUNTIF(L7:Q7,8)+COUNTIF(L7:Q7,9)+COUNTIF(L7:Q7,10)+COUNTIF(L7:Q7,11)+COUNTIF(L7:Q7,12)+COUNTIF(L7:Q7,13)+COUNTIF(L7:Q7,14)+COUNTIF(L7:Q7,15)+COUNTIF(L7:Q7,16)+COUNTIF(L7:Q7,17)+COUNTIF(L7:Q7,18)+COUNTIF(L7:Q7,19)+COUNTIF(L7:Q7,20)+COUNTIF(L7:Q7,21)+COUNTIF(L7:Q7,22)+COUNTIF(L7:Q7,23)+COUNTIF(L7:Q7,24)+COUNTIF(L7:Q7,25)+COUNTIF(L7:Q7,26)+COUNTIF(L7:Q7,27)+COUNTIF(L7:Q7,28)+COUNTIF(L7:Q7,29)+COUNTIF(L7:Q7,30)+COUNTIF(L7:Q7,31)+COUNTIF(L7:Q7,32)+COUNTIF(L7:Q7,33)+COUNTIF(L7:Q7,34)+COUNTIF(L7:Q7,35)+COUNTIF(L7:Q7,36)+COUNTIF(L7:Q7,37)+COUNTIF(L7:Q7,38)+COUNTIF(L7:Q7,39)+COUNTIF(L7:Q7,40)+COUNTIF(L7:Q7,41)+COUNTIF(L7:Q7,42)+COUNTIF(L7:Q7,43)+COUNTIF(L7:Q7,44)+COUNTIF(L7:Q7,45)+COUNTIF(L7:Q7,46)+COUNTIF(L7:Q7,47)+COUNTIF(L7:Q7,48)+COUNTIF(L7:Q7,49)+COUNTIF(L7:Q7,50)+COUNTIF(L7:Q7,51)+COUNTIF(L7:Q7,52)+COUNTIF(L7:Q7,53)+COUNTIF(L7:Q7,54)+COUNTIF(L7:Q7,55)+COUNTIF(L7:Q7,56)+COUNTIF(L7:Q7,57)+COUNTIF(L7:Q7,58)+COUNTIF(L7:Q7,59) -> 0 | U7: Andrew Meredith | Y7: Bekki Leaves
A8: 5 | B8: Andy Taphouse | C8: 7 | I8: =COUNTIF(C8:H8,1)+COUNTIF(C8:H8,2)+COUNTIF(C8:H8,3)+COUNTIF(C8:H8,4)+COUNTIF(C8:H8,5)+COUNTIF(C8:H8,6)+COUNTIF(C8:H8,7)+COUNTIF(C8:H8,8)+COUNTIF(C8:H8,9)+COUNTIF(C8:H8,10)+COUNTIF(C8:H8,11)+COUNTIF(C8:H8,12)+COUNTIF(C8:H8,13)+COUNTIF(C8:H8,14)+COUNTIF(C8:H8,15)+COUNTIF(C8:H8,16)+COUNTIF(C8:H8,17)+COUNTIF(C8:H8,18)+COUNTIF(C8:H8,19)+COUNTIF(C8:H8,20)+COUNTIF(C8:H8,21)+COUNTIF(C8:H8,22)+COUNTIF(C8:H8,23)+COUNTIF(C8:H8,24)+COUNTIF(C8:H8,25)+COUNTIF(C8:H8,26)+COUNTIF(C8:H8,27)+COUNTIF(C8:H8,28)+COUNTIF(C8:H8,29)+COUNTIF(C8:H8,30)+COUNTIF(C8:H8,31)+COUNTIF(C8:H8,32)+COUNTIF(C8:H8,33)+COUNTIF(C8:H8,34)+COUNTIF(C8:H8,35)+COUNTIF(C8:H8,36)+COUNTIF(C8:H8,37)+COUNTIF(C8:H8,38)+COUNTIF(C8:H8,39)+COUNTIF(C8:H8,40)+COUNTIF(C8:H8,41)+COUNTIF(C8:H8,42)+COUNTIF(C8:H8,43)+COUNTIF(C8:H8,44)+COUNTIF(C8:H8,45)+COUNTIF(C8:H8,46)+COUNTIF(C8:H8,47)+COUNTIF(C8:H8,48)+COUNTIF(C8:H8,49)+COUNTIF(C8:H8,50)+COUNTIF(C8:H8,51)+COUNTIF(C8:H8,52)+COUNTIF(C8:H8,53)+COUNTIF(C8:H8,54)+COUNTIF(C8:H8,55)+COUNTIF(C8:H8,56)+COUNTIF(C8:H8,57)+COUNTIF(C8:H8,58)+COUNTIF(C8:H8,59) -> 1 | J8: 5 | K8: Bridie Rowlands | L8: 3 | R8: =COUNTIF(L8:Q8,1)+COUNTIF(L8:Q8,2)+COUNTIF(L8:Q8,3)+COUNTIF(L8:Q8,4)+COUNTIF(L8:Q8,5)+COUNTIF(L8:Q8,6)+COUNTIF(L8:Q8,7)+COUNTIF(L8:Q8,8)+COUNTIF(L8:Q8,9)+COUNTIF(L8:Q8,10)+COUNTIF(L8:Q8,11)+COUNTIF(L8:Q8,12)+COUNTIF(L8:Q8,13)+COUNTIF(L8:Q8,14)+COUNTIF(L8:Q8,15)+COUNTIF(L8:Q8,16)+COUNTIF(L8:Q8,17)+COUNTIF(L8:Q8,18)+COUNTIF(L8:Q8,19)+COUNTIF(L8:Q8,20)+COUNTIF(L8:Q8,21)+COUNTIF(L8:Q8,22)+COUNTIF(L8:Q8,23)+COUNTIF(L8:Q8,24)+COUNTIF(L8:Q8,25)+COUNTIF(L8:Q8,26)+COUNTIF(L8:Q8,27)+COUNTIF(L8:Q8,28)+COUNTIF(L8:Q8,29)+COUNTIF(L8:Q8,30)+COUNTIF(L8:Q8,31)+COUNTIF(L8:Q8,32)+COUNTIF(L8:Q8,33)+COUNTIF(L8:Q8,34)+COUNTIF(L8:Q8,35)+COUNTIF(L8:Q8,36)+COUNTIF(L8:Q8,37)+COUNTIF(L8:Q8,38)+COUNTIF(L8:Q8,39)+COUNTIF(L8:Q8,40)+COUNTIF(L8:Q8,41)+COUNTIF(L8:Q8,42)+COUNTIF(L8:Q8,43)+COUNTIF(L8:Q8,44)+COUNTIF(L8:Q8,45)+COUNTIF(L8:Q8,46)+COUNTIF(L8:Q8,47)+COUNTIF(L8:Q8,48)+COUNTIF(L8:Q8,49)+COUNTIF(L8:Q8,50)+COUNTIF(L8:Q8,51)+COUNTIF(L8:Q8,52)+COUNTIF(L8:Q8,53)+COUNTIF(L8:Q8,54)+COUNTIF(L8:Q8,55)+COUNTIF(L8:Q8,56)+COUNTIF(L8:Q8,57)+COUNTIF(L8:Q8,58)+COUNTIF(L8:Q8,59) -> 1 | U8: Andy Newcome | Y8: Belinda Lewis-Jones
A9: 6 | B9: Billy Chapman | I9: =COUNTIF(C9:H9,1)+COUNTIF(C9:H9,2)+COUNTIF(C9:H9,3)+COUNTIF(C9:H9,4)+COUNTIF(C9:H9,5)+COUNTIF(C9:H9,6)+COUNTIF(C9:H9,7)+COUNTIF(C9:H9,8)+COUNTIF(C9:H9,9)+COUNTIF(C9:H9,10)+COUNTIF(C9:H9,11)+COUNTIF(C9:H9,12)+COUNTIF(C9:H9,13)+COUNTIF(C9:H9,14)+COUNTIF(C9:H9,15)+COUNTIF(C9:H9,16)+COUNTIF(C9:H9,17)+COUNTIF(C9:H9,18)+COUNTIF(C9:H9,19)+COUNTIF(C9:H9,20)+COUNTIF(C9:H9,21)+COUNTIF(C9:H9,22)+COUNTIF(C9:H9,23)+COUNTIF(C9:H9,24)+COUNTIF(C9:H9,25)+COUNTIF(C9:H9,26)+COUNTIF(C9:H9,27)+COUNTIF(C9:H9,28)+COUNTIF(C9:H9,29)+COUNTIF(C9:H9,30)+COUNTIF(C9:H9,31)+COUNTIF(C9:H9,32)+COUNTIF(C9:H9,33)+COUNTIF(C9:H9,34)+COUNTIF(C9:H9,35)+COUNTIF(C9:H9,36)+COUNTIF(C9:H9,37)+COUNTIF(C9:H9,38)+COUNTIF(C9:H9,39)+COUNTIF(C9:H9,40)+COUNTIF(C9:H9,41)+COUNTIF(C9:H9,42)+COUNTIF(C9:H9,43)+COUNTIF(C9:H9,44)+COUNTIF(C9:H9,45)+COUNTIF(C9:H9,46)+COUNTIF(C9:H9,47)+COUNTIF(C9:H9,48)+COUNTIF(C9:H9,49)+COUNTIF(C9:H9,50)+COUNTIF(C9:H9,51)+COUNTIF(C9:H9,52)+COUNTIF(C9:H9,53)+COUNTIF(C9:H9,54)+COUNTIF(C9:H9,55)+COUNTIF(C9:H9,56)+COUNTIF(C9:H9,57)+COUNTIF(C9:H9,58)+COUNTIF(C9:H9,59) -> 0 | J9: 6 | K9: Caroline Whiting | L9: 4 | R9: =COUNTIF(L9:Q9,1)+COUNTIF(L9:Q9,2)+COUNTIF(L9:Q9,3)+COUNTIF(L9:Q9,4)+COUNTIF(L9:Q9,5)+COUNTIF(L9:Q9,6)+COUNTIF(L9:Q9,7)+COUNTIF(L9:Q9,8)+COUNTIF(L9:Q9,9)+COUNTIF(L9:Q9,10)+COUNTIF(L9:Q9,11)+COUNTIF(L9:Q9,12)+COUNTIF(L9:Q9,13)+COUNTIF(L9:Q9,14)+COUNTIF(L9:Q9,15)+COUNTIF(L9:Q9,16)+COUNTIF(L9:Q9,17)+COUNTIF(L9:Q9,18)+COUNTIF(L9:Q9,19)+COUNTIF(L9:Q9,20)+COUNTIF(L9:Q9,21)+COUNTIF(L9:Q9,22)+COUNTIF(L9:Q9,23)+COUNTIF(L9:Q9,24)+COUNTIF(L9:Q9,25)+COUNTIF(L9:Q9,26)+COUNTIF(L9:Q9,27)+COUNTIF(L9:Q9,28)+COUNTIF(L9:Q9,29)+COUNTIF(L9:Q9,30)+COUNTIF(L9:Q9,31)+COUNTIF(L9:Q9,32)+COUNTIF(L9:Q9,33)+COUNTIF(L9:Q9,34)+COUNTIF(L9:Q9,35)+COUNTIF(L9:Q9,36)+COUNTIF(L9:Q9,37)+COUNTIF(L9:Q9,38)+COUNTIF(L9:Q9,39)+COUNTIF(L9:Q9,40)+COUNTIF(L9:Q9,41)+COUNTIF(L9:Q9,42)+COUNTIF(L9:Q9,43)+COUNTIF(L9:Q9,44)+COUNTIF(L9:Q9,45)+COUNTIF(L9:Q9,46)+COUNTIF(L9:Q9,47)+COUNTIF(L9:Q9,48)+COUNTIF(L9:Q9,49)+COUNTIF(L9:Q9,50)+COUNTIF(L9:Q9,51)+COUNTIF(L9:Q9,52)+COUNTIF(L9:Q9,53)+COUNTIF(L9:Q9,54)+COUNTIF(L9:Q9,55)+COUNTIF(L9:Q9,56)+COUNTIF(L9:Q9,57)+COUNTIF(L9:Q9,58)+COUNTIF(L9:Q9,59) -> 1 | U9: Andy Taphouse | Y9: Bridie Rowlands
A10: 7 | B10: Brent Latham | C10: 18 | I10: =COUNTIF(C10:H10,1)+COUNTIF(C10:H10,2)+COUNTIF(C10:H10,3)+COUNTIF(C10:H10,4)+COUNTIF(C10:H10,5)+COUNTIF(C10:H10,6)+COUNTIF(C10:H10,7)+COUNTIF(C10:H10,8)+COUNTIF(C10:H10,9)+COUNTIF(C10:H10,10)+COUNTIF(C10:H10,11)+COUNTIF(C10:H10,12)+COUNTIF(C10:H10,13)+COUNTIF(C10:H10,14)+COUNTIF(C10:H10,15)+COUNTIF(C10:H10,16)+COUNTIF(C10:H10,17)+COUNTIF(C10:H10,18)+COUNTIF(C10:H10,19)+COUNTIF(C10:H10,20)+COUNTIF(C10:H10,21)+COUNTIF(C10:H10,22)+COUNTIF(C10:H10,23)+COUNTIF(C10:H10,24)+COUNTIF(C10:H10,25)+COUNTIF(C10:H10,26)+COUNTIF(C10:H10,27)+COUNTIF(C10:H10,28)+COUNTIF(C10:H10,29)+COUNTIF(C10:H10,30)+COUNTIF(C10:H10,31)+COUNTIF(C10:H10,32)+COUNTIF(C10:H10,33)+COUNTIF(C10:H10,34)+COUNTIF(C10:H10,35)+COUNTIF(C10:H10,36)+COUNTIF(C10:H10,37)+COUNTIF(C10:H10,38)+COUNTIF(C10:H10,39)+COUNTIF(C10:H10,40)+COUNTIF(C10:H10,41)+COUNTIF(C10:H10,42)+COUNTIF(C10:H10,43)+COUNTIF(C10:H10,44)+COUNTIF(C10:H10,45)+COUNTIF(C10:H10,46)+COUNTIF(C10:H10,47)+COUNTIF(C10:H10,48)+COUNTIF(C10:H10,49)+COUNTIF(C10:H10,50)+COUNTIF(C10:H10,51)+COUNTIF(C10:H10,52)+COUNTIF(C10:H10,53)+COUNTIF(C10:H10,54)+COUNTIF(C10:H10,55)+COUNTIF(C10:H10,56)+COUNTIF(C10:H10,57)+COUNTIF(C10:H10,58)+COUNTIF(C10:H10,59) -> 1 | J10: 7 | K10: Christina Ball | R10: =COUNTIF(L10:Q10,1)+COUNTIF(L10:Q10,2)+COUNTIF(L10:Q10,3)+COUNTIF(L10:Q10,4)+COUNTIF(L10:Q10,5)+COUNTIF(L10:Q10,6)+COUNTIF(L10:Q10,7)+COUNTIF(L10:Q10,8)+COUNTIF(L10:Q10,9)+COUNTIF(L10:Q10,10)+COUNTIF(L10:Q10,11)+COUNTIF(L10:Q10,12)+COUNTIF(L10:Q10,13)+COUNTIF(L10:Q10,14)+COUNTIF(L10:Q10,15)+COUNTIF(L10:Q10,16)+COUNTIF(L10:Q10,17)+COUNTIF(L10:Q10,18)+COUNTIF(L10:Q10,19)+COUNTIF(L10:Q10,20)+COUNTIF(L10:Q10,21)+COUNTIF(L10:Q10,22)+COUNTIF(L10:Q10,23)+COUNTIF(L10:Q10,24)+COUNTIF(L10:Q10,25)+COUNTIF(L10:Q10,26)+COUNTIF(L10:Q10,27)+COUNTIF(L10:Q10,28)+COUNTIF(L10:Q10,29)+COUNTIF(L10:Q10,30)+COUNTIF(L10:Q10,31)+COUNTIF(L10:Q10,32)+COUNTIF(L10:Q10,33)+COUNTIF(L10:Q10,34)+COUNTIF(L10:Q10,35)+COUNTIF(L10:Q10,36)+COUNTIF(L10:Q10,37)+COUNTIF(L10:Q10,38)+COUNTIF(L10:Q10,39)+COUNTIF(L10:Q10,40)+COUNTIF(L10:Q10,41)+COUNTIF(L10:Q10,42)+COUNTIF(L10:Q10,43)+COUNTIF(L10:Q10,44)+COUNTIF(L10:Q10,45)+COUNTIF(L10:Q10,46)+COUNTIF(L10:Q10,47)+COUNTIF(L10:Q10,48)+COUNTIF(L10:Q10,49)+COUNTIF(L10:Q10,50)+COUNTIF(L10:Q10,51)+COUNTIF(L10:Q10,52)+COUNTIF(L10:Q10,53)+COUNTIF(L10:Q10,54)+COUNTIF(L10:Q10,55)+COUNTIF(L10:Q10,56)+COUNTIF(L10:Q10,57)+COUNTIF(L10:Q10,58)+COUNTIF(L10:Q10,59) -> 0 | U10: Billy Chapman | Y10: Caroline Whiting
A11: 8 | B11: Brian Harris | C11: 25 | I11: =COUNTIF(C11:H11,1)+COUNTIF(C11:H11,2)+COUNTIF(C11:H11,3)+COUNTIF(C11:H11,4)+COUNTIF(C11:H11,5)+COUNTIF(C11:H11,6)+COUNTIF(C11:H11,7)+COUNTIF(C11:H11,8)+COUNTIF(C11:H11,9)+COUNTIF(C11:H11,10)+COUNTIF(C11:H11,11)+COUNTIF(C11:H11,12)+COUNTIF(C11:H11,13)+COUNTIF(C11:H11,14)+COUNTIF(C11:H11,15)+COUNTIF(C11:H11,16)+COUNTIF(C11:H11,17)+COUNTIF(C11:H11,18)+COUNTIF(C11:H11,19)+COUNTIF(C11:H11,20)+COUNTIF(C11:H11,21)+COUNTIF(C11:H11,22)+COUNTIF(C11:H11,23)+COUNTIF(C11:H11,24)+COUNTIF(C11:H11,25)+COUNTIF(C11:H11,26)+COUNTIF(C11:H11,27)+COUNTIF(C11:H11,28)+COUNTIF(C11:H11,29)+COUNTIF(C11:H11,30)+COUNTIF(C11:H11,31)+COUNTIF(C11:H11,32)+COUNTIF(C11:H11,33)+COUNTIF(C11:H11,34)+COUNTIF(C11:H11,35)+COUNTIF(C11:H11,36)+COUNTIF(C11:H11,37)+COUNTIF(C11:H11,38)+COUNTIF(C11:H11,39)+COUNTIF(C11:H11,40)+COUNTIF(C11:H11,41)+COUNTIF(C11:H11,42)+COUNTIF(C11:H11,43)+COUNTIF(C11:H11,44)+COUNTIF(C11:H11,45)+COUNTIF(C11:H11,46)+COUNTIF(C11:H11,47)+COUNTIF(C11:H11,48)+COUNTIF(C11:H11,49)+COUNTIF(C11:H11,50)+COUNTIF(C11:H11,51)+COUNTIF(C11:H11,52)+COUNTIF(C11:H11,53)+COUNTIF(C11:H11,54)+COUNTIF(C11:H11,55)+COUNTIF(C11:H11,56)+COUNTIF(C11:H11,57)+COUNTIF(C11:H11,58)+COUNTIF(C11:H11,59) -> 1 | J11: 8 | K11: Clare Ryan | R11: =COUNTIF(L11:Q11,1)+COUNTIF(L11:Q11,2)+COUNTIF(L11:Q11,3)+COUNTIF(L11:Q11,4)+COUNTIF(L11:Q11,5)+COUNTIF(L11:Q11,6)+COUNTIF(L11:Q11,7)+COUNTIF(L11:Q11,8)+COUNTIF(L11:Q11,9)+COUNTIF(L11:Q11,10)+COUNTIF(L11:Q11,11)+COUNTIF(L11:Q11,12)+COUNTIF(L11:Q11,13)+COUNTIF(L11:Q11,14)+COUNTIF(L11:Q11,15)+COUNTIF(L11:Q11,16)+COUNTIF(L11:Q11,17)+COUNTIF(L11:Q11,18)+COUNTIF(L11:Q11,19)+COUNTIF(L11:Q11,20)+COUNTIF(L11:Q11,21)+COUNTIF(L11:Q11,22)+COUNTIF(L11:Q11,23)+COUNTIF(L11:Q11,24)+COUNTIF(L11:Q11,25)+COUNTIF(L11:Q11,26)+COUNTIF(L11:Q11,27)+COUNTIF(L11:Q11,28)+COUNTIF(L11:Q11,29)+COUNTIF(L11:Q11,30)+COUNTIF(L11:Q11,31)+COUNTIF(L11:Q11,32)+COUNTIF(L11:Q11,33)+COUNTIF(L11:Q11,34)+COUNTIF(L11:Q11,35)+COUNTIF(L11:Q11,36)+COUNTIF(L11:Q11,37)+COUNTIF(L11:Q11,38)+COUNTIF(L11:Q11,39)+COUNTIF(L11:Q11,40)+COUNTIF(L11:Q11,41)+COUNTIF(L11:Q11,42)+COUNTIF(L11:Q11,43)+COUNTIF(L11:Q11,44)+COUNTIF(L11:Q11,45)+COUNTIF(L11:Q11,46)+COUNTIF(L11:Q11,47)+COUNTIF(L11:Q11,48)+COUNTIF(L11:Q11,49)+COUNTIF(L11:Q11,50)+COUNTIF(L11:Q11,51)+COUNTIF(L11:Q11,52)+COUNTIF(L11:Q11,53)+COUNTIF(L11:Q11,54)+COUNTIF(L11:Q11,55)+COUNTIF(L11:Q11,56)+COUNTIF(L11:Q11,57)+COUNTIF(L11:Q11,58)+COUNTIF(L11:Q11,59) -> 0 | U11: Brent Latham | Y11: Cathy Price
A12: 9 | B12: Chris Penfold | I12: =COUNTIF(C12:H12,1)+COUNTIF(C12:H12,2)+COUNTIF(C12:H12,3)+COUNTIF(C12:H12,4)+COUNTIF(C12:H12,5)+COUNTIF(C12:H12,6)+COUNTIF(C12:H12,7)+COUNTIF(C12:H12,8)+COUNTIF(C12:H12,9)+COUNTIF(C12:H12,10)+COUNTIF(C12:H12,11)+COUNTIF(C12:H12,12)+COUNTIF(C12:H12,13)+COUNTIF(C12:H12,14)+COUNTIF(C12:H12,15)+COUNTIF(C12:H12,16)+COUNTIF(C12:H12,17)+COUNTIF(C12:H12,18)+COUNTIF(C12:H12,19)+COUNTIF(C12:H12,20)+COUNTIF(C12:H12,21)+COUNTIF(C12:H12,22)+COUNTIF(C12:H12,23)+COUNTIF(C12:H12,24)+COUNTIF(C12:H12,25)+COUNTIF(C12:H12,26)+COUNTIF(C12:H12,27)+COUNTIF(C12:H12,28)+COUNTIF(C12:H12,29)+COUNTIF(C12:H12,30)+COUNTIF(C12:H12,31)+COUNTIF(C12:H12,32)+COUNTIF(C12:H12,33)+COUNTIF(C12:H12,34)+COUNTIF(C12:H12,35)+COUNTIF(C12:H12,36)+COUNTIF(C12:H12,37)+COUNTIF(C12:H12,38)+COUNTIF(C12:H12,39)+COUNTIF(C12:H12,40)+COUNTIF(C12:H12,41)+COUNTIF(C12:H12,42)+COUNTIF(C12:H12,43)+COUNTIF(C12:H12,44)+COUNTIF(C12:H12,45)+COUNTIF(C12:H12,46)+COUNTIF(C12:H12,47)+COUNTIF(C12:H12,48)+COUNTIF(C12:H12,49)+COUNTIF(C12:H12,50)+COUNTIF(C12:H12,51)+COUNTIF(C12:H12,52)+COUNTIF(C12:H12,53)+COUNTIF(C12:H12,54)+COUNTIF(C12:H12,55)+COUNTIF(C12:H12,56)+COUNTIF(C12:H12,57)+COUNTIF(C12:H12,58)+COUNTIF(C12:H12,59) -> 0 | J12: 9 | K12: Clare Taylor | L12: 6 | R12: =COUNTIF(L12:Q12,1)+COUNTIF(L12:Q12,2)+COUNTIF(L12:Q12,3)+COUNTIF(L12:Q12,4)+COUNTIF(L12:Q12,5)+COUNTIF(L12:Q12,6)+COUNTIF(L12:Q12,7)+COUNTIF(L12:Q12,8)+COUNTIF(L12:Q12,9)+COUNTIF(L12:Q12,10)+COUNTIF(L12:Q12,11)+COUNTIF(L12:Q12,12)+COUNTIF(L12:Q12,13)+COUNTIF(L12:Q12,14)+COUNTIF(L12:Q12,15)+COUNTIF(L12:Q12,16)+COUNTIF(L12:Q12,17)+COUNTIF(L12:Q12,18)+COUNTIF(L12:Q12,19)+COUNTIF(L12:Q12,20)+COUNTIF(L12:Q12,21)+COUNTIF(L12:Q12,22)+COUNTIF(L12:Q12,23)+COUNTIF(L12:Q12,24)+COUNTIF(L12:Q12,25)+COUNTIF(L12:Q12,26)+COUNTIF(L12:Q12,27)+COUNTIF(L12:Q12,28)+COUNTIF(L12:Q12,29)+COUNTIF(L12:Q12,30)+COUNTIF(L12:Q12,31)+COUNTIF(L12:Q12,32)+COUNTIF(L12:Q12,33)+COUNTIF(L12:Q12,34)+COUNTIF(L12:Q12,35)+COUNTIF(L12:Q12,36)+COUNTIF(L12:Q12,37)+COUNTIF(L12:Q12,38)+COUNTIF(L12:Q12,39)+COUNTIF(L12:Q12,40)+COUNTIF(L12:Q12,41)+COUNTIF(L12:Q12,42)+COUNTIF(L12:Q12,43)+COUNTIF(L12:Q12,44)+COUNTIF(L12:Q12,45)+COUNTIF(L12:Q12,46)+COUNTIF(L12:Q12,47)+COUNTIF(L12:Q12,48)+COUNTIF(L12:Q12,49)+COUNTIF(L12:Q12,50)+COUNTIF(L12:Q12,51)+COUNTIF(L12:Q12,52)+COUNTIF(L12:Q12,53)+COUNTIF(L12:Q12,54)+COUNTIF(L12:Q12,55)+COUNTIF(L12:Q12,56)+COUNTIF(L12:Q12,57)+COUNTIF(L12:Q12,58)+COUNTIF(L12:Q12,59) -> 1 | U12: Brian Harris | Y12: Christina Ball
A13: 10 | B13: Charlie Mitchell | C13: 13 | I13: =COUNTIF(C13:H13,1)+COUNTIF(C13:H13,2)+COUNTIF(C13:H13,3)+COUNTIF(C13:H13,4)+COUNTIF(C13:H13,5)+COUNTIF(C13:H13,6)+COUNTIF(C13:H13,7)+COUNTIF(C13:H13,8)+COUNTIF(C13:H13,9)+COUNTIF(C13:H13,10)+COUNTIF(C13:H13,11)+COUNTIF(C13:H13,12)+COUNTIF(C13:H13,13)+COUNTIF(C13:H13,14)+COUNTIF(C13:H13,15)+COUNTIF(C13:H13,16)+COUNTIF(C13:H13,17)+COUNTIF(C13:H13,18)+COUNTIF(C13:H13,19)+COUNTIF(C13:H13,20)+COUNTIF(C13:H13,21)+COUNTIF(C13:H13,22)+COUNTIF(C13:H13,23)+COUNTIF(C13:H13,24)+COUNTIF(C13:H13,25)+COUNTIF(C13:H13,26)+COUNTIF(C13:H13,27)+COUNTIF(C13:H13,28)+COUNTIF(C13:H13,29)+COUNTIF(C13:H13,30)+COUNTIF(C13:H13,31)+COUNTIF(C13:H13,32)+COUNTIF(C13:H13,33)+COUNTIF(C13:H13,34)+COUNTIF(C13:H13,35)+COUNTIF(C13:H13,36)+COUNTIF(C13:H13,37)+COUNTIF(C13:H13,38)+COUNTIF(C13:H13,39)+COUNTIF(C13:H13,40)+COUNTIF(C13:H13,41)+COUNTIF(C13:H13,42)+COUNTIF(C13:H13,43)+COUNTIF(C13:H13,44)+COUNTIF(C13:H13,45)+COUNTIF(C13:H13,46)+COUNTIF(C13:H13,47)+COUNTIF(C13:H13,48)+COUNTIF(C13:H13,49)+COUNTIF(C13:H13,50)+COUNTIF(C13:H13,51)+COUNTIF(C13:H13,52)+COUNTIF(C13:H13,53)+COUNTIF(C13:H13,54)+COUNTIF(C13:H13,55)+COUNTIF(C13:H13,56)+COUNTIF(C13:H13,57)+COUNTIF(C13:H13,58)+COUNTIF(C13:H13,59) -> 1 | J13: 10 | K13: Clare Welch | L13: 7 | R13: =COUNTIF(L13:Q13,1)+COUNTIF(L13:Q13,2)+COUNTIF(L13:Q13,3)+COUNTIF(L13:Q13,4)+COUNTIF(L13:Q13,5)+COUNTIF(L13:Q13,6)+COUNTIF(L13:Q13,7)+COUNTIF(L13:Q13,8)+COUNTIF(L13:Q13,9)+COUNTIF(L13:Q13,10)+COUNTIF(L13:Q13,11)+COUNTIF(L13:Q13,12)+COUNTIF(L13:Q13,13)+COUNTIF(L13:Q13,14)+COUNTIF(L13:Q13,15)+COUNTIF(L13:Q13,16)+COUNTIF(L13:Q13,17)+COUNTIF(L13:Q13,18)+COUNTIF(L13:Q13,19)+COUNTIF(L13:Q13,20)+COUNTIF(L13:Q13,21)+COUNTIF(L13:Q13,22)+COUNTIF(L13:Q13,23)+COUNTIF(L13:Q13,24)+COUNTIF(L13:Q13,25)+COUNTIF(L13:Q13,26)+COUNTIF(L13:Q13,27)+COUNTIF(L13:Q13,28)+COUNTIF(L13:Q13,29)+COUNTIF(L13:Q13,30)+COUNTIF(L13:Q13,31)+COUNTIF(L13:Q13,32)+COUNTIF(L13:Q13,33)+COUNTIF(L13:Q13,34)+COUNTIF(L13:Q13,35)+COUNTIF(L13:Q13,36)+COUNTIF(L13:Q13,37)+COUNTIF(L13:Q13,38)+COUNTIF(L13:Q13,39)+COUNTIF(L13:Q13,40)+COUNTIF(L13:Q13,41)+COUNTIF(L13:Q13,42)+COUNTIF(L13:Q13,43)+COUNTIF(L13:Q13,44)+COUNTIF(L13:Q13,45)+COUNTIF(L13:Q13,46)+COUNTIF(L13:Q13,47)+COUNTIF(L13:Q13,48)+COUNTIF(L13:Q13,49)+COUNTIF(L13:Q13,50)+COUNTIF(L13:Q13,51)+COUNTIF(L13:Q13,52)+COUNTIF(L13:Q13,53)+COUNTIF(L13:Q13,54)+COUNTIF(L13:Q13,55)+COUNTIF(L13:Q13,56)+COUNTIF(L13:Q13,57)+COUNTIF(L13:Q13,58)+COUNTIF(L13:Q13,59) -> 1 | U13: Chris Cornwell | Y13: Christine Perrier
A14: 11 | B14: Chris Penfold | C14: 16 | I14: =COUNTIF(C14:H14,1)+COUNTIF(C14:H14,2)+COUNTIF(C14:H14,3)+COUNTIF(C14:H14,4)+COUNTIF(C14:H14,5)+COUNTIF(C14:H14,6)+COUNTIF(C14:H14,7)+COUNTIF(C14:H14,8)+COUNTIF(C14:H14,9)+COUNTIF(C14:H14,10)+COUNTIF(C14:H14,11)+COUNTIF(C14:H14,12)+COUNTIF(C14:H14,13)+COUNTIF(C14:H14,14)+COUNTIF(C14:H14,15)+COUNTIF(C14:H14,16)+COUNTIF(C14:H14,17)+COUNTIF(C14:H14,18)+COUNTIF(C14:H14,19)+COUNTIF(C14:H14,20)+COUNTIF(C14:H14,21)+COUNTIF(C14:H14,22)+COUNTIF(C14:H14,23)+COUNTIF(C14:H14,24)+COUNTIF(C14:H14,25)+COUNTIF(C14:H14,26)+COUNTIF(C14:H14,27)+COUNTIF(C14:H14,28)+COUNTIF(C14:H14,29)+COUNTIF(C14:H14,30)+COUNTIF(C14:H14,31)+COUNTIF(C14:H14,32)+COUNTIF(C14:H14,33)+COUNTIF(C14:H14,34)+COUNTIF(C14:H14,35)+COUNTIF(C14:H14,36)+COUNTIF(C14:H14,37)+COUNTIF(C14:H14,38)+COUNTIF(C14:H14,39)+COUNTIF(C14:H14,40)+COUNTIF(C14:H14,41)+COUNTIF(C14:H14,42)+COUNTIF(C14:H14,43)+COUNTIF(C14:H14,44)+COUNTIF(C14:H14,45)+COUNTIF(C14:H14,46)+COUNTIF(C14:H14,47)+COUNTIF(C14:H14,48)+COUNTIF(C14:H14,49)+COUNTIF(C14:H14,50)+COUNTIF(C14:H14,51)+COUNTIF(C14:H14,52)+COUNTIF(C14:H14,53)+COUNTIF(C14:H14,54)+COUNTIF(C14:H14,55)+COUNTIF(C14:H14,56)+COUNTIF(C14:H14,57)+COUNTIF(C14:H14,58)+COUNTIF(C14:H14,59) -> 1 | J14: 11 | K14: Denise Williams | R14: =COUNTIF(L14:Q14,1)+COUNTIF(L14:Q14,2)+COUNTIF(L14:Q14,3)+COUNTIF(L14:Q14,4)+COUNTIF(L14:Q14,5)+COUNTIF(L14:Q14,6)+COUNTIF(L14:Q14,7)+COUNTIF(L14:Q14,8)+COUNTIF(L14:Q14,9)+COUNTIF(L14:Q14,10)+COUNTIF(L14:Q14,11)+COUNTIF(L14:Q14,12)+COUNTIF(L14:Q14,13)+COUNTIF(L14:Q14,14)+COUNTIF(L14:Q14,15)+COUNTIF(L14:Q14,16)+COUNTIF(L14:Q14,17)+COUNTIF(L14:Q14,18)+COUNTIF(L14:Q14,19)+COUNTIF(L14:Q14,20)+COUNTIF(L14:Q14,21)+COUNTIF(L14:Q14,22)+COUNTIF(L14:Q14,23)+COUNTIF(L14:Q14,24)+COUNTIF(L14:Q14,25)+COUNTIF(L14:Q14,26)+COUNTIF(L14:Q14,27)+COUNTIF(L14:Q14,28)+COUNTIF(L14:Q14,29)+COUNTIF(L14:Q14,30)+COUNTIF(L14:Q14,31)+COUNTIF(L14:Q14,32)+COUNTIF(L14:Q14,33)+COUNTIF(L14:Q14,34)+COUNTIF(L14:Q14,35)+COUNTIF(L14:Q14,36)+COUNTIF(L14:Q14,37)+COUNTIF(L14:Q14,38)+COUNTIF(L14:Q14,39)+COUNTIF(L14:Q14,40)+COUNTIF(L14:Q14,41)+COUNTIF(L14:Q14,42)+COUNTIF(L14:Q14,43)+COUNTIF(L14:Q14,44)+COUNTIF(L14:Q14,45)+COUNTIF(L14:Q14,46)+COUNTIF(L14:Q14,47)+COUNTIF(L14:Q14,48)+COUNTIF(L14:Q14,49)+COUNTIF(L14:Q14,50)+COUNTIF(L14:Q14,51)+COUNTIF(L14:Q14,52)+COUNTIF(L14:Q14,53)+COUNTIF(L14:Q14,54)+COUNTIF(L14:Q14,55)+COUNTIF(L14:Q14,56)+COUNTIF(L14:Q14,57)+COUNTIF(L14:Q14,58)+COUNTIF(L14:Q14,59) -> 0 | U14: Charlie Mitchell | Y14: Clare Ryan
A15: 12 | B15: David Pearson | C15: 2 | I15: =COUNTIF(C15:H15,1)+COUNTIF(C15:H15,2)+COUNTIF(C15:H15,3)+COUNTIF(C15:H15,4)+COUNTIF(C15:H15,5)+COUNTIF(C15:H15,6)+COUNTIF(C15:H15,7)+COUNTIF(C15:H15,8)+COUNTIF(C15:H15,9)+COUNTIF(C15:H15,10)+COUNTIF(C15:H15,11)+COUNTIF(C15:H15,12)+COUNTIF(C15:H15,13)+COUNTIF(C15:H15,14)+COUNTIF(C15:H15,15)+COUNTIF(C15:H15,16)+COUNTIF(C15:H15,17)+COUNTIF(C15:H15,18)+COUNTIF(C15:H15,19)+COUNTIF(C15:H15,20)+COUNTIF(C15:H15,21)+COUNTIF(C15:H15,22)+COUNTIF(C15:H15,23)+COUNTIF(C15:H15,24)+COUNTIF(C15:H15,25)+COUNTIF(C15:H15,26)+COUNTIF(C15:H15,27)+COUNTIF(C15:H15,28)+COUNTIF(C15:H15,29)+COUNTIF(C15:H15,30)+COUNTIF(C15:H15,31)+COUNTIF(C15:H15,32)+COUNTIF(C15:H15,33)+COUNTIF(C15:H15,34)+COUNTIF(C15:H15,35)+COUNTIF(C15:H15,36)+COUNTIF(C15:H15,37)+COUNTIF(C15:H15,38)+COUNTIF(C15:H15,39)+COUNTIF(C15:H15,40)+COUNTIF(C15:H15,41)+COUNTIF(C15:H15,42)+COUNTIF(C15:H15,43)+COUNTIF(C15:H15,44)+COUNTIF(C15:H15,45)+COUNTIF(C15:H15,46)+COUNTIF(C15:H15,47)+COUNTIF(C15:H15,48)+COUNTIF(C15:H15,49)+COUNTIF(C15:H15,50)+COUNTIF(C15:H15,51)+COUNTIF(C15:H15,52)+COUNTIF(C15:H15,53)+COUNTIF(C15:H15,54)+COUNTIF(C15:H15,55)+COUNTIF(C15:H15,56)+COUNTIF(C15:H15,57)+COUNTIF(C15:H15,58)+COUNTIF(C15:H15,59) -> 1 | J15: 12 | K15: Hannah Curtis | R15: =COUNTIF(L15:Q15,1)+COUNTIF(L15:Q15,2)+COUNTIF(L15:Q15,3)+COUNTIF(L15:Q15,4)+COUNTIF(L15:Q15,5)+COUNTIF(L15:Q15,6)+COUNTIF(L15:Q15,7)+COUNTIF(L15:Q15,8)+COUNTIF(L15:Q15,9)+COUNTIF(L15:Q15,10)+COUNTIF(L15:Q15,11)+COUNTIF(L15:Q15,12)+COUNTIF(L15:Q15,13)+COUNTIF(L15:Q15,14)+COUNTIF(L15:Q15,15)+COUNTIF(L15:Q15,16)+COUNTIF(L15:Q15,17)+COUNTIF(L15:Q15,18)+COUNTIF(L15:Q15,19)+COUNTIF(L15:Q15,20)+COUNTIF(L15:Q15,21)+COUNTIF(L15:Q15,22)+COUNTIF(L15:Q15,23)+COUNTIF(L15:Q15,24)+COUNTIF(L15:Q15,25)+COUNTIF(L15:Q15,26)+COUNTIF(L15:Q15,27)+COUNTIF(L15:Q15,28)+COUNTIF(L15:Q15,29)+COUNTIF(L15:Q15,30)+COUNTIF(L15:Q15,31)+COUNTIF(L15:Q15,32)+COUNTIF(L15:Q15,33)+COUNTIF(L15:Q15,34)+COUNTIF(L15:Q15,35)+COUNTIF(L15:Q15,36)+COUNTIF(L15:Q15,37)+COUNTIF(L15:Q15,38)+COUNTIF(L15:Q15,39)+COUNTIF(L15:Q15,40)+COUNTIF(L15:Q15,41)+COUNTIF(L15:Q15,42)+COUNTIF(L15:Q15,43)+COUNTIF(L15:Q15,44)+COUNTIF(L15:Q15,45)+COUNTIF(L15:Q15,46)+COUNTIF(L15:Q15,47)+COUNTIF(L15:Q15,48)+COUNTIF(L15:Q15,49)+COUNTIF(L15:Q15,50)+COUNTIF(L15:Q15,51)+COUNTIF(L15:Q15,52)+COUNTIF(L15:Q15,53)+COUNTIF(L15:Q15,54)+COUNTIF(L15:Q15,55)+COUNTIF(L15:Q15,56)+COUNTIF(L15:Q15,57)+COUNTIF(L15:Q15,58)+COUNTIF(L15:Q15,59) -> 0 | U15: Dan Shawyer | Y15: Clare Taylor
A16: 13 | B16: Dyfan Rowlands | I16: =COUNTIF(C16:H16,1)+COUNTIF(C16:H16,2)+COUNTIF(C16:H16,3)+COUNTIF(C16:H16,4)+COUNTIF(C16:H16,5)+COUNTIF(C16:H16,6)+COUNTIF(C16:H16,7)+COUNTIF(C16:H16,8)+COUNTIF(C16:H16,9)+COUNTIF(C16:H16,10)+COUNTIF(C16:H16,11)+COUNTIF(C16:H16,12)+COUNTIF(C16:H16,13)+COUNTIF(C16:H16,14)+COUNTIF(C16:H16,15)+COUNTIF(C16:H16,16)+COUNTIF(C16:H16,17)+COUNTIF(C16:H16,18)+COUNTIF(C16:H16,19)+COUNTIF(C16:H16,20)+COUNTIF(C16:H16,21)+COUNTIF(C16:H16,22)+COUNTIF(C16:H16,23)+COUNTIF(C16:H16,24)+COUNTIF(C16:H16,25)+COUNTIF(C16:H16,26)+COUNTIF(C16:H16,27)+COUNTIF(C16:H16,28)+COUNTIF(C16:H16,29)+COUNTIF(C16:H16,30)+COUNTIF(C16:H16,31)+COUNTIF(C16:H16,32)+COUNTIF(C16:H16,33)+COUNTIF(C16:H16,34)+COUNTIF(C16:H16,35)+COUNTIF(C16:H16,36)+COUNTIF(C16:H16,37)+COUNTIF(C16:H16,38)+COUNTIF(C16:H16,39)+COUNTIF(C16:H16,40)+COUNTIF(C16:H16,41)+COUNTIF(C16:H16,42)+COUNTIF(C16:H16,43)+COUNTIF(C16:H16,44)+COUNTIF(C16:H16,45)+COUNTIF(C16:H16,46)+COUNTIF(C16:H16,47)+COUNTIF(C16:H16,48)+COUNTIF(C16:H16,49)+COUNTIF(C16:H16,50)+COUNTIF(C16:H16,51)+COUNTIF(C16:H16,52)+COUNTIF(C16:H16,53)+COUNTIF(C16:H16,54)+COUNTIF(C16:H16,55)+COUNTIF(C16:H16,56)+COUNTIF(C16:H16,57)+COUNTIF(C16:H16,58)+COUNTIF(C16:H16,59) -> 0 | J16: 13 | K16: Jane Woodroof | R16: =COUNTIF(L16:Q16,1)+COUNTIF(L16:Q16,2)+COUNTIF(L16:Q16,3)+COUNTIF(L16:Q16,4)+COUNTIF(L16:Q16,5)+COUNTIF(L16:Q16,6)+COUNTIF(L16:Q16,7)+COUNTIF(L16:Q16,8)+COUNTIF(L16:Q16,9)+COUNTIF(L16:Q16,10)+COUNTIF(L16:Q16,11)+COUNTIF(L16:Q16,12)+COUNTIF(L16:Q16,13)+COUNTIF(L16:Q16,14)+COUNTIF(L16:Q16,15)+COUNTIF(L16:Q16,16)+COUNTIF(L16:Q16,17)+COUNTIF(L16:Q16,18)+COUNTIF(L16:Q16,19)+COUNTIF(L16:Q16,20)+COUNTIF(L16:Q16,21)+COUNTIF(L16:Q16,22)+COUNTIF(L16:Q16,23)+COUNTIF(L16:Q16,24)+COUNTIF(L16:Q16,25)+COUNTIF(L16:Q16,26)+COUNTIF(L16:Q16,27)+COUNTIF(L16:Q16,28)+COUNTIF(L16:Q16,29)+COUNTIF(L16:Q16,30)+COUNTIF(L16:Q16,31)+COUNTIF(L16:Q16,32)+COUNTIF(L16:Q16,33)+COUNTIF(L16:Q16,34)+COUNTIF(L16:Q16,35)+COUNTIF(L16:Q16,36)+COUNTIF(L16:Q16,37)+COUNTIF(L16:Q16,38)+COUNTIF(L16:Q16,39)+COUNTIF(L16:Q16,40)+COUNTIF(L16:Q16,41)+COUNTIF(L16:Q16,42)+COUNTIF(L16:Q16,43)+COUNTIF(L16:Q16,44)+COUNTIF(L16:Q16,45)+COUNTIF(L16:Q16,46)+COUNTIF(L16:Q16,47)+COUNTIF(L16:Q16,48)+COUNTIF(L16:Q16,49)+COUNTIF(L16:Q16,50)+COUNTIF(L16:Q16,51)+COUNTIF(L16:Q16,52)+COUNTIF(L16:Q16,53)+COUNTIF(L16:Q16,54)+COUNTIF(L16:Q16,55)+COUNTIF(L16:Q16,56)+COUNTIF(L16:Q16,57)+COUNTIF(L16:Q16,58)+COUNTIF(L16:Q16,59) -> 0 | U16: Dan Starkey | Y16: Clare Welch
A17: 14 | B17: Gavin Roberts | I17: =COUNTIF(C17:H17,1)+COUNTIF(C17:H17,2)+COUNTIF(C17:H17,3)+COUNTIF(C17:H17,4)+COUNTIF(C17:H17,5)+COUNTIF(C17:H17,6)+COUNTIF(C17:H17,7)+COUNTIF(C17:H17,8)+COUNTIF(C17:H17,9)+COUNTIF(C17:H17,10)+COUNTIF(C17:H17,11)+COUNTIF(C17:H17,12)+COUNTIF(C17:H17,13)+COUNTIF(C17:H17,14)+COUNTIF(C17:H17,15)+COUNTIF(C17:H17,16)+COUNTIF(C17:H17,17)+COUNTIF(C17:H17,18)+COUNTIF(C17:H17,19)+COUNTIF(C17:H17,20)+COUNTIF(C17:H17,21)+COUNTIF(C17:H17,22)+COUNTIF(C17:H17,23)+COUNTIF(C17:H17,24)+COUNTIF(C17:H17,25)+COUNTIF(C17:H17,26)+COUNTIF(C17:H17,27)+COUNTIF(C17:H17,28)+COUNTIF(C17:H17,29)+COUNTIF(C17:H17,30)+COUNTIF(C17:H17,31)+COUNTIF(C17:H17,32)+COUNTIF(C17:H17,33)+COUNTIF(C17:H17,34)+COUNTIF(C17:H17,35)+COUNTIF(C17:H17,36)+COUNTIF(C17:H17,37)+COUNTIF(C17:H17,38)+COUNTIF(C17:H17,39)+COUNTIF(C17:H17,40)+COUNTIF(C17:H17,41)+COUNTIF(C17:H17,42)+COUNTIF(C17:H17,43)+COUNTIF(C17:H17,44)+COUNTIF(C17:H17,45)+COUNTIF(C17:H17,46)+COUNTIF(C17:H17,47)+COUNTIF(C17:H17,48)+COUNTIF(C17:H17,49)+COUNTIF(C17:H17,50)+COUNTIF(C17:H17,51)+COUNTIF(C17:H17,52)+COUNTIF(C17:H17,53)+COUNTIF(C17:H17,54)+COUNTIF(C17:H17,55)+COUNTIF(C17:H17,56)+COUNTIF(C17:H17,57)+COUNTIF(C17:H17,58)+COUNTIF(C17:H17,59) -> 0 | J17: 14 | K17: Jenny Parks | L17: 5 | R17: =COUNTIF(L17:Q17,1)+COUNTIF(L17:Q17,2)+COUNTIF(L17:Q17,3)+COUNTIF(L17:Q17,4)+COUNTIF(L17:Q17,5)+COUNTIF(L17:Q17,6)+COUNTIF(L17:Q17,7)+COUNTIF(L17:Q17,8)+COUNTIF(L17:Q17,9)+COUNTIF(L17:Q17,10)+COUNTIF(L17:Q17,11)+COUNTIF(L17:Q17,12)+COUNTIF(L17:Q17,13)+COUNTIF(L17:Q17,14)+COUNTIF(L17:Q17,15)+COUNTIF(L17:Q17,16)+COUNTIF(L17:Q17,17)+COUNTIF(L17:Q17,18)+COUNTIF(L17:Q17,19)+COUNTIF(L17:Q17,20)+COUNTIF(L17:Q17,21)+COUNTIF(L17:Q17,22)+COUNTIF(L17:Q17,23)+COUNTIF(L17:Q17,24)+COUNTIF(L17:Q17,25)+COUNTIF(L17:Q17,26)+COUNTIF(L17:Q17,27)+COUNTIF(L17:Q17,28)+COUNTIF(L17:Q17,29)+COUNTIF(L17:Q17,30)+COUNTIF(L17:Q17,31)+COUNTIF(L17:Q17,32)+COUNTIF(L17:Q17,33)+COUNTIF(L17:Q17,34)+COUNTIF(L17:Q17,35)+COUNTIF(L17:Q17,36)+COUNTIF(L17:Q17,37)+COUNTIF(L17:Q17,38)+COUNTIF(L17:Q17,39)+COUNTIF(L17:Q17,40)+COUNTIF(L17:Q17,41)+COUNTIF(L17:Q17,42)+COUNTIF(L17:Q17,43)+COUNTIF(L17:Q17,44)+COUNTIF(L17:Q17,45)+COUNTIF(L17:Q17,46)+COUNTIF(L17:Q17,47)+COUNTIF(L17:Q17,48)+COUNTIF(L17:Q17,49)+COUNTIF(L17:Q17,50)+COUNTIF(L17:Q17,51)+COUNTIF(L17:Q17,52)+COUNTIF(L17:Q17,53)+COUNTIF(L17:Q17,54)+COUNTIF(L17:Q17,55)+COUNTIF(L17:Q17,56)+COUNTIF(L17:Q17,57)+COUNTIF(L17:Q17,58)+COUNTIF(L17:Q17,59) -> 1 | U17: David Pearson | Y17: Denise Williams
A18: 15 | B18: Gavino Valdez | I18: =COUNTIF(C18:H18,1)+COUNTIF(C18:H18,2)+COUNTIF(C18:H18,3)+COUNTIF(C18:H18,4)+COUNTIF(C18:H18,5)+COUNTIF(C18:H18,6)+COUNTIF(C18:H18,7)+COUNTIF(C18:H18,8)+COUNTIF(C18:H18,9)+COUNTIF(C18:H18,10)+COUNTIF(C18:H18,11)+COUNTIF(C18:H18,12)+COUNTIF(C18:H18,13)+COUNTIF(C18:H18,14)+COUNTIF(C18:H18,15)+COUNTIF(C18:H18,16)+COUNTIF(C18:H18,17)+COUNTIF(C18:H18,18)+COUNTIF(C18:H18,19)+COUNTIF(C18:H18,20)+COUNTIF(C18:H18,21)+COUNTIF(C18:H18,22)+COUNTIF(C18:H18,23)+COUNTIF(C18:H18,24)+COUNTIF(C18:H18,25)+COUNTIF(C18:H18,26)+COUNTIF(C18:H18,27)+COUNTIF(C18:H18,28)+COUNTIF(C18:H18,29)+COUNTIF(C18:H18,30)+COUNTIF(C18:H18,31)+COUNTIF(C18:H18,32)+COUNTIF(C18:H18,33)+COUNTIF(C18:H18,34)+COUNTIF(C18:H18,35)+COUNTIF(C18:H18,36)+COUNTIF(C18:H18,37)+COUNTIF(C18:H18,38)+COUNTIF(C18:H18,39)+COUNTIF(C18:H18,40)+COUNTIF(C18:H18,41)+COUNTIF(C18:H18,42)+COUNTIF(C18:H18,43)+COUNTIF(C18:H18,44)+COUNTIF(C18:H18,45)+COUNTIF(C18:H18,46)+COUNTIF(C18:H18,47)+COUNTIF(C18:H18,48)+COUNTIF(C18:H18,49)+COUNTIF(C18:H18,50)+COUNTIF(C18:H18,51)+COUNTIF(C18:H18,52)+COUNTIF(C18:H18,53)+COUNTIF(C18:H18,54)+COUNTIF(C18:H18,55)+COUNTIF(C18:H18,56)+COUNTIF(C18:H18,57)+COUNTIF(C18:H18,58)+COUNTIF(C18:H18,59) -> 0 | J18: 15 | K18: Julia Revill | L18: 8 | R18: =COUNTIF(L18:Q18,1)+COUNTIF(L18:Q18,2)+COUNTIF(L18:Q18,3)+COUNTIF(L18:Q18,4)+COUNTIF(L18:Q18,5)+COUNTIF(L18:Q18,6)+COUNTIF(L18:Q18,7)+COUNTIF(L18:Q18,8)+COUNTIF(L18:Q18,9)+COUNTIF(L18:Q18,10)+COUNTIF(L18:Q18,11)+COUNTIF(L18:Q18,12)+COUNTIF(L18:Q18,13)+COUNTIF(L18:Q18,14)+COUNTIF(L18:Q18,15)+COUNTIF(L18:Q18,16)+COUNTIF(L18:Q18,17)+COUNTIF(L18:Q18,18)+COUNTIF(L18:Q18,19)+COUNTIF(L18:Q18,20)+COUNTIF(L18:Q18,21)+COUNTIF(L18:Q18,22)+COUNTIF(L18:Q18,23)+COUNTIF(L18:Q18,24)+COUNTIF(L18:Q18,25)+COUNTIF(L18:Q18,26)+COUNTIF(L18:Q18,27)+COUNTIF(L18:Q18,28)+COUNTIF(L18:Q18,29)+COUNTIF(L18:Q18,30)+COUNTIF(L18:Q18,31)+COUNTIF(L18:Q18,32)+COUNTIF(L18:Q18,33)+COUNTIF(L18:Q18,34)+COUNTIF(L18:Q18,35)+COUNTIF(L18:Q18,36)+COUNTIF(L18:Q18,37)+COUNTIF(L18:Q18,38)+COUNTIF(L18:Q18,39)+COUNTIF(L18:Q18,40)+COUNTIF(L18:Q18,41)+COUNTIF(L18:Q18,42)+COUNTIF(L18:Q18,43)+COUNTIF(L18:Q18,44)+COUNTIF(L18:Q18,45)+COUNTIF(L18:Q18,46)+COUNTIF(L18:Q18,47)+COUNTIF(L18:Q18,48)+COUNTIF(L18:Q18,49)+COUNTIF(L18:Q18,50)+COUNTIF(L18:Q18,51)+COUNTIF(L18:Q18,52)+COUNTIF(L18:Q18,53)+COUNTIF(L18:Q18,54)+COUNTIF(L18:Q18,55)+COUNTIF(L18:Q18,56)+COUNTIF(L18:Q18,57)+COUNTIF(L18:Q18,58)+COUNTIF(L18:Q18,59) -> 1 | U18: Del King | Y18: Gemma Heggs
A19: 16 | B19: Gary Armstrong | C19: 11 | I19: =COUNTIF(C19:H19,1)+COUNTIF(C19:H19,2)+COUNTIF(C19:H19,3)+COUNTIF(C19:H19,4)+COUNTIF(C19:H19,5)+COUNTIF(C19:H19,6)+COUNTIF(C19:H19,7)+COUNTIF(C19:H19,8)+COUNTIF(C19:H19,9)+COUNTIF(C19:H19,10)+COUNTIF(C19:H19,11)+COUNTIF(C19:H19,12)+COUNTIF(C19:H19,13)+COUNTIF(C19:H19,14)+COUNTIF(C19:H19,15)+COUNTIF(C19:H19,16)+COUNTIF(C19:H19,17)+COUNTIF(C19:H19,18)+COUNTIF(C19:H19,19)+COUNTIF(C19:H19,20)+COUNTIF(C19:H19,21)+COUNTIF(C19:H19,22)+COUNTIF(C19:H19,23)+COUNTIF(C19:H19,24)+COUNTIF(C19:H19,25)+COUNTIF(C19:H19,26)+COUNTIF(C19:H19,27)+COUNTIF(C19:H19,28)+COUNTIF(C19:H19,29)+COUNTIF(C19:H19,30)+COUNTIF(C19:H19,31)+COUNTIF(C19:H19,32)+COUNTIF(C19:H19,33)+COUNTIF(C19:H19,34)+COUNTIF(C19:H19,35)+COUNTIF(C19:H19,36)+COUNTIF(C19:H19,37)+COUNTIF(C19:H19,38)+COUNTIF(C19:H19,39)+COUNTIF(C19:H19,40)+COUNTIF(C19:H19,41)+COUNTIF(C19:H19,42)+COUNTIF(C19:H19,43)+COUNTIF(C19:H19,44)+COUNTIF(C19:H19,45)+COUNTIF(C19:H19,46)+COUNTIF(C19:H19,47)+COUNTIF(C19:H19,48)+COUNTIF(C19:H19,49)+COUNTIF(C19:H19,50)+COUNTIF(C19:H19,51)+COUNTIF(C19:H19,52)+COUNTIF(C19:H19,53)+COUNTIF(C19:H19,54)+COUNTIF(C19:H19,55)+COUNTIF(C19:H19,56)+COUNTIF(C19:H19,57)+COUNTIF(C19:H19,58)+COUNTIF(C19:H19,59) -> 1 | J19: 16 | K19: Karis Yates | R19: =COUNTIF(L19:Q19,1)+COUNTIF(L19:Q19,2)+COUNTIF(L19:Q19,3)+COUNTIF(L19:Q19,4)+COUNTIF(L19:Q19,5)+COUNTIF(L19:Q19,6)+COUNTIF(L19:Q19,7)+COUNTIF(L19:Q19,8)+COUNTIF(L19:Q19,9)+COUNTIF(L19:Q19,10)+COUNTIF(L19:Q19,11)+COUNTIF(L19:Q19,12)+COUNTIF(L19:Q19,13)+COUNTIF(L19:Q19,14)+COUNTIF(L19:Q19,15)+COUNTIF(L19:Q19,16)+COUNTIF(L19:Q19,17)+COUNTIF(L19:Q19,18)+COUNTIF(L19:Q19,19)+COUNTIF(L19:Q19,20)+COUNTIF(L19:Q19,21)+COUNTIF(L19:Q19,22)+COUNTIF(L19:Q19,23)+COUNTIF(L19:Q19,24)+COUNTIF(L19:Q19,25)+COUNTIF(L19:Q19,26)+COUNTIF(L19:Q19,27)+COUNTIF(L19:Q19,28)+COUNTIF(L19:Q19,29)+COUNTIF(L19:Q19,30)+COUNTIF(L19:Q19,31)+COUNTIF(L19:Q19,32)+COUNTIF(L19:Q19,33)+COUNTIF(L19:Q19,34)+COUNTIF(L19:Q19,35)+COUNTIF(L19:Q19,36)+COUNTIF(L19:Q19,37)+COUNTIF(L19:Q19,38)+COUNTIF(L19:Q19,39)+COUNTIF(L19:Q19,40)+COUNTIF(L19:Q19,41)+COUNTIF(L19:Q19,42)+COUNTIF(L19:Q19,43)+COUNTIF(L19:Q19,44)+COUNTIF(L19:Q19,45)+COUNTIF(L19:Q19,46)+COUNTIF(L19:Q19,47)+COUNTIF(L19:Q19,48)+COUNTIF(L19:Q19,49)+COUNTIF(L19:Q19,50)+COUNTIF(L19:Q19,51)+COUNTIF(L19:Q19,52)+COUNTIF(L19:Q19,53)+COUNTIF(L19:Q19,54)+COUNTIF(L19:Q19,55)+COUNTIF(L19:Q19,56)+COUNTIF(L19:Q19,57)+COUNTIF(L19:Q19,58)+COUNTIF(L19:Q19,59) -> 0 | U19: Dyfan Rowlands | Y19: Hannah Curtis
A20: 17 | B20: Gary Edmonds | C20: 23 | I20: =COUNTIF(C20:H20,1)+COUNTIF(C20:H20,2)+COUNTIF(C20:H20,3)+COUNTIF(C20:H20,4)+COUNTIF(C20:H20,5)+COUNTIF(C20:H20,6)+COUNTIF(C20:H20,7)+COUNTIF(C20:H20,8)+COUNTIF(C20:H20,9)+COUNTIF(C20:H20,10)+COUNTIF(C20:H20,11)+COUNTIF(C20:H20,12)+COUNTIF(C20:H20,13)+COUNTIF(C20:H20,14)+COUNTIF(C20:H20,15)+COUNTIF(C20:H20,16)+COUNTIF(C20:H20,17)+COUNTIF(C20:H20,18)+COUNTIF(C20:H20,19)+COUNTIF(C20:H20,20)+COUNTIF(C20:H20,21)+COUNTIF(C20:H20,22)+COUNTIF(C20:H20,23)+COUNTIF(C20:H20,24)+COUNTIF(C20:H20,25)+COUNTIF(C20:H20,26)+COUNTIF(C20:H20,27)+COUNTIF(C20:H20,28)+COUNTIF(C20:H20,29)+COUNTIF(C20:H20,30)+COUNTIF(C20:H20,31)+COUNTIF(C20:H20,32)+COUNTIF(C20:H20,33)+COUNTIF(C20:H20,34)+COUNTIF(C20:H20,35)+COUNTIF(C20:H20,36)+COUNTIF(C20:H20,37)+COUNTIF(C20:H20,38)+COUNTIF(C20:H20,39)+COUNTIF(C20:H20,40)+COUNTIF(C20:H20,41)+COUNTIF(C20:H20,42)+COUNTIF(C20:H20,43)+COUNTIF(C20:H20,44)+COUNTIF(C20:H20,45)+COUNTIF(C20:H20,46)+COUNTIF(C20:H20,47)+COUNTIF(C20:H20,48)+COUNTIF(C20:H20,49)+COUNTIF(C20:H20,50)+COUNTIF(C20:H20,51)+COUNTIF(C20:H20,52)+COUNTIF(C20:H20,53)+COUNTIF(C20:H20,54)+COUNTIF(C20:H20,55)+COUNTIF(C20:H20,56)+COUNTIF(C20:H20,57)+COUNTIF(C20:H20,58)+COUNTIF(C20:H20,59) -> 1 | J20: 17 | K20: Katie Edmonds | R20: =COUNTIF(L20:Q20,1)+COUNTIF(L20:Q20,2)+COUNTIF(L20:Q20,3)+COUNTIF(L20:Q20,4)+COUNTIF(L20:Q20,5)+COUNTIF(L20:Q20,6)+COUNTIF(L20:Q20,7)+COUNTIF(L20:Q20,8)+COUNTIF(L20:Q20,9)+COUNTIF(L20:Q20,10)+COUNTIF(L20:Q20,11)+COUNTIF(L20:Q20,12)+COUNTIF(L20:Q20,13)+COUNTIF(L20:Q20,14)+COUNTIF(L20:Q20,15)+COUNTIF(L20:Q20,16)+COUNTIF(L20:Q20,17)+COUNTIF(L20:Q20,18)+COUNTIF(L20:Q20,19)+COUNTIF(L20:Q20,20)+COUNTIF(L20:Q20,21)+COUNTIF(L20:Q20,22)+COUNTIF(L20:Q20,23)+COUNTIF(L20:Q20,24)+COUNTIF(L20:Q20,25)+COUNTIF(L20:Q20,26)+COUNTIF(L20:Q20,27)+COUNTIF(L20:Q20,28)+COUNTIF(L20:Q20,29)+COUNTIF(L20:Q20,30)+COUNTIF(L20:Q20,31)+COUNTIF(L20:Q20,32)+COUNTIF(L20:Q20,33)+COUNTIF(L20:Q20,34)+COUNTIF(L20:Q20,35)+COUNTIF(L20:Q20,36)+COUNTIF(L20:Q20,37)+COUNTIF(L20:Q20,38)+COUNTIF(L20:Q20,39)+COUNTIF(L20:Q20,40)+COUNTIF(L20:Q20,41)+COUNTIF(L20:Q20,42)+COUNTIF(L20:Q20,43)+COUNTIF(L20:Q20,44)+COUNTIF(L20:Q20,45)+COUNTIF(L20:Q20,46)+COUNTIF(L20:Q20,47)+COUNTIF(L20:Q20,48)+COUNTIF(L20:Q20,49)+COUNTIF(L20:Q20,50)+COUNTIF(L20:Q20,51)+COUNTIF(L20:Q20,52)+COUNTIF(L20:Q20,53)+COUNTIF(L20:Q20,54)+COUNTIF(L20:Q20,55)+COUNTIF(L20:Q20,56)+COUNTIF(L20:Q20,57)+COUNTIF(L20:Q20,58)+COUNTIF(L20:Q20,59) -> 0 | U20: Gavin Roberts | Y20: Jane Woodroof
A21: 18 | B21: Gary McCawley | C21: 24 | I21: =COUNTIF(C21:H21,1)+COUNTIF(C21:H21,2)+COUNTIF(C21:H21,3)+COUNTIF(C21:H21,4)+COUNTIF(C21:H21,5)+COUNTIF(C21:H21,6)+COUNTIF(C21:H21,7)+COUNTIF(C21:H21,8)+COUNTIF(C21:H21,9)+COUNTIF(C21:H21,10)+COUNTIF(C21:H21,11)+COUNTIF(C21:H21,12)+COUNTIF(C21:H21,13)+COUNTIF(C21:H21,14)+COUNTIF(C21:H21,15)+COUNTIF(C21:H21,16)+COUNTIF(C21:H21,17)+COUNTIF(C21:H21,18)+COUNTIF(C21:H21,19)+COUNTIF(C21:H21,20)+COUNTIF(C21:H21,21)+COUNTIF(C21:H21,22)+COUNTIF(C21:H21,23)+COUNTIF(C21:H21,24)+COUNTIF(C21:H21,25)+COUNTIF(C21:H21,26)+COUNTIF(C21:H21,27)+COUNTIF(C21:H21,28)+COUNTIF(C21:H21,29)+COUNTIF(C21:H21,30)+COUNTIF(C21:H21,31)+COUNTIF(C21:H21,32)+COUNTIF(C21:H21,33)+COUNTIF(C21:H21,34)+COUNTIF(C21:H21,35)+COUNTIF(C21:H21,36)+COUNTIF(C21:H21,37)+COUNTIF(C21:H21,38)+COUNTIF(C21:H21,39)+COUNTIF(C21:H21,40)+COUNTIF(C21:H21,41)+COUNTIF(C21:H21,42)+COUNTIF(C21:H21,43)+COUNTIF(C21:H21,44)+COUNTIF(C21:H21,45)+COUNTIF(C21:H21,46)+COUNTIF(C21:H21,47)+COUNTIF(C21:H21,48)+COUNTIF(C21:H21,49)+COUNTIF(C21:H21,50)+COUNTIF(C21:H21,51)+COUNTIF(C21:H21,52)+COUNTIF(C21:H21,53)+COUNTIF(C21:H21,54)+COUNTIF(C21:H21,55)+COUNTIF(C21:H21,56)+COUNTIF(C21:H21,57)+COUNTIF(C21:H21,58)+COUNTIF(C21:H21,59) -> 1 | J21: 18 | K21: Kayleigh Gyles | R21: =COUNTIF(L21:Q21,1)+COUNTIF(L21:Q21,2)+COUNTIF(L21:Q21,3)+COUNTIF(L21:Q21,4)+COUNTIF(L21:Q21,5)+COUNTIF(L21:Q21,6)+COUNTIF(L21:Q21,7)+COUNTIF(L21:Q21,8)+COUNTIF(L21:Q21,9)+COUNTIF(L21:Q21,10)+COUNTIF(L21:Q21,11)+COUNTIF(L21:Q21,12)+COUNTIF(L21:Q21,13)+COUNTIF(L21:Q21,14)+COUNTIF(L21:Q21,15)+COUNTIF(L21:Q21,16)+COUNTIF(L21:Q21,17)+COUNTIF(L21:Q21,18)+COUNTIF(L21:Q21,19)+COUNTIF(L21:Q21,20)+COUNTIF(L21:Q21,21)+COUNTIF(L21:Q21,22)+COUNTIF(L21:Q21,23)+COUNTIF(L21:Q21,24)+COUNTIF(L21:Q21,25)+COUNTIF(L21:Q21,26)+COUNTIF(L21:Q21,27)+COUNTIF(L21:Q21,28)+COUNTIF(L21:Q21,29)+COUNTIF(L21:Q21,30)+COUNTIF(L21:Q21,31)+COUNTIF(L21:Q21,32)+COUNTIF(L21:Q21,33)+COUNTIF(L21:Q21,34)+COUNTIF(L21:Q21,35)+COUNTIF(L21:Q21,36)+COUNTIF(L21:Q21,37)+COUNTIF(L21:Q21,38)+COUNTIF(L21:Q21,39)+COUNTIF(L21:Q21,40)+COUNTIF(L21:Q21,41)+COUNTIF(L21:Q21,42)+COUNTIF(L21:Q21,43)+COUNTIF(L21:Q21,44)+COUNTIF(L21:Q21,45)+COUNTIF(L21:Q21,46)+COUNTIF(L21:Q21,47)+COUNTIF(L21:Q21,48)+COUNTIF(L21:Q21,49)+COUNTIF(L21:Q21,50)+COUNTIF(L21:Q21,51)+COUNTIF(L21:Q21,52)+COUNTIF(L21:Q21,53)+COUNTIF(L21:Q21,54)+COUNTIF(L21:Q21,55)+COUNTIF(L21:Q21,56)+COUNTIF(L21:Q21,57)+COUNTIF(L21:Q21,58)+COUNTIF(L21:Q21,59) -> 0 | U21: Gavino Valdez | Y21: Jess Brimecome
A22: 19 | B22: George Sutherland | I22: =COUNTIF(C22:H22,1)+COUNTIF(C22:H22,2)+COUNTIF(C22:H22,3)+COUNTIF(C22:H22,4)+COUNTIF(C22:H22,5)+COUNTIF(C22:H22,6)+COUNTIF(C22:H22,7)+COUNTIF(C22:H22,8)+COUNTIF(C22:H22,9)+COUNTIF(C22:H22,10)+COUNTIF(C22:H22,11)+COUNTIF(C22:H22,12)+COUNTIF(C22:H22,13)+COUNTIF(C22:H22,14)+COUNTIF(C22:H22,15)+COUNTIF(C22:H22,16)+COUNTIF(C22:H22,17)+COUNTIF(C22:H22,18)+COUNTIF(C22:H22,19)+COUNTIF(C22:H22,20)+COUNTIF(C22:H22,21)+COUNTIF(C22:H22,22)+COUNTIF(C22:H22,23)+COUNTIF(C22:H22,24)+COUNTIF(C22:H22,25)+COUNTIF(C22:H22,26)+COUNTIF(C22:H22,27)+COUNTIF(C22:H22,28)+COUNTIF(C22:H22,29)+COUNTIF(C22:H22,30)+COUNTIF(C22:H22,31)+COUNTIF(C22:H22,32)+COUNTIF(C22:H22,33)+COUNTIF(C22:H22,34)+COUNTIF(C22:H22,35)+COUNTIF(C22:H22,36)+COUNTIF(C22:H22,37)+COUNTIF(C22:H22,38)+COUNTIF(C22:H22,39)+COUNTIF(C22:H22,40)+COUNTIF(C22:H22,41)+COUNTIF(C22:H22,42)+COUNTIF(C22:H22,43)+COUNTIF(C22:H22,44)+COUNTIF(C22:H22,45)+COUNTIF(C22:H22,46)+COUNTIF(C22:H22,47)+COUNTIF(C22:H22,48)+COUNTIF(C22:H22,49)+COUNTIF(C22:H22,50)+COUNTIF(C22:H22,51)+COUNTIF(C22:H22,52)+COUNTIF(C22:H22,53)+COUNTIF(C22:H22,54)+COUNTIF(C22:H22,55)+COUNTIF(C22:H22,56)+COUNTIF(C22:H22,57)+COUNTIF(C22:H22,58)+COUNTIF(C22:H22,59) -> 0 | J22: 19 | K22: Kimberley Churchill | R22: =COUNTIF(L22:Q22,1)+COUNTIF(L22:Q22,2)+COUNTIF(L22:Q22,3)+COUNTIF(L22:Q22,4)+COUNTIF(L22:Q22,5)+COUNTIF(L22:Q22,6)+COUNTIF(L22:Q22,7)+COUNTIF(L22:Q22,8)+COUNTIF(L22:Q22,9)+COUNTIF(L22:Q22,10)+COUNTIF(L22:Q22,11)+COUNTIF(L22:Q22,12)+COUNTIF(L22:Q22,13)+COUNTIF(L22:Q22,14)+COUNTIF(L22:Q22,15)+COUNTIF(L22:Q22,16)+COUNTIF(L22:Q22,17)+COUNTIF(L22:Q22,18)+COUNTIF(L22:Q22,19)+COUNTIF(L22:Q22,20)+COUNTIF(L22:Q22,21)+COUNTIF(L22:Q22,22)+COUNTIF(L22:Q22,23)+COUNTIF(L22:Q22,24)+COUNTIF(L22:Q22,25)+COUNTIF(L22:Q22,26)+COUNTIF(L22:Q22,27)+COUNTIF(L22:Q22,28)+COUNTIF(L22:Q22,29)+COUNTIF(L22:Q22,30)+COUNTIF(L22:Q22,31)+COUNTIF(L22:Q22,32)+COUNTIF(L22:Q22,33)+COUNTIF(L22:Q22,34)+COUNTIF(L22:Q22,35)+COUNTIF(L22:Q22,36)+COUNTIF(L22:Q22,37)+COUNTIF(L22:Q22,38)+COUNTIF(L22:Q22,39)+COUNTIF(L22:Q22,40)+COUNTIF(L22:Q22,41)+COUNTIF(L22:Q22,42)+COUNTIF(L22:Q22,43)+COUNTIF(L22:Q22,44)+COUNTIF(L22:Q22,45)+COUNTIF(L22:Q22,46)+COUNTIF(L22:Q22,47)+COUNTIF(L22:Q22,48)+COUNTIF(L22:Q22,49)+COUNTIF(L22:Q22,50)+COUNTIF(L22:Q22,51)+COUNTIF(L22:Q22,52)+COUNTIF(L22:Q22,53)+COUNTIF(L22:Q22,54)+COUNTIF(L22:Q22,55)+COUNTIF(L22:Q22,56)+COUNTIF(L22:Q22,57)+COUNTIF(L22:Q22,58)+COUNTIF(L22:Q22,59) -> 0 | U22: Gary Armstrong | Y22: Jenny Parks
A23: 20 | B23: Graham Clarke | I23: =COUNTIF(C23:H23,1)+COUNTIF(C23:H23,2)+COUNTIF(C23:H23,3)+COUNTIF(C23:H23,4)+COUNTIF(C23:H23,5)+COUNTIF(C23:H23,6)+COUNTIF(C23:H23,7)+COUNTIF(C23:H23,8)+COUNTIF(C23:H23,9)+COUNTIF(C23:H23,10)+COUNTIF(C23:H23,11)+COUNTIF(C23:H23,12)+COUNTIF(C23:H23,13)+COUNTIF(C23:H23,14)+COUNTIF(C23:H23,15)+COUNTIF(C23:H23,16)+COUNTIF(C23:H23,17)+COUNTIF(C23:H23,18)+COUNTIF(C23:H23,19)+COUNTIF(C23:H23,20)+COUNTIF(C23:H23,21)+COUNTIF(C23:H23,22)+COUNTIF(C23:H23,23)+COUNTIF(C23:H23,24)+COUNTIF(C23:H23,25)+COUNTIF(C23:H23,26)+COUNTIF(C23:H23,27)+COUNTIF(C23:H23,28)+COUNTIF(C23:H23,29)+COUNTIF(C23:H23,30)+COUNTIF(C23:H23,31)+COUNTIF(C23:H23,32)+COUNTIF(C23:H23,33)+COUNTIF(C23:H23,34)+COUNTIF(C23:H23,35)+COUNTIF(C23:H23,36)+COUNTIF(C23:H23,37)+COUNTIF(C23:H23,38)+COUNTIF(C23:H23,39)+COUNTIF(C23:H23,40)+COUNTIF(C23:H23,41)+COUNTIF(C23:H23,42)+COUNTIF(C23:H23,43)+COUNTIF(C23:H23,44)+COUNTIF(C23:H23,45)+COUNTIF(C23:H23,46)+COUNTIF(C23:H23,47)+COUNTIF(C23:H23,48)+COUNTIF(C23:H23,49)+COUNTIF(C23:H23,50)+COUNTIF(C23:H23,51)+COUNTIF(C23:H23,52)+COUNTIF(C23:H23,53)+COUNTIF(C23:H23,54)+COUNTIF(C23:H23,55)+COUNTIF(C23:H23,56)+COUNTIF(C23:H23,57)+COUNTIF(C23:H23,58)+COUNTIF(C23:H23,59) -> 0 | J23: 20 | K23: Kirsty Aked | R23: =COUNTIF(L23:Q23,1)+COUNTIF(L23:Q23,2)+COUNTIF(L23:Q23,3)+COUNTIF(L23:Q23,4)+COUNTIF(L23:Q23,5)+COUNTIF(L23:Q23,6)+COUNTIF(L23:Q23,7)+COUNTIF(L23:Q23,8)+COUNTIF(L23:Q23,9)+COUNTIF(L23:Q23,10)+COUNTIF(L23:Q23,11)+COUNTIF(L23:Q23,12)+COUNTIF(L23:Q23,13)+COUNTIF(L23:Q23,14)+COUNTIF(L23:Q23,15)+COUNTIF(L23:Q23,16)+COUNTIF(L23:Q23,17)+COUNTIF(L23:Q23,18)+COUNTIF(L23:Q23,19)+COUNTIF(L23:Q23,20)+COUNTIF(L23:Q23,21)+COUNTIF(L23:Q23,22)+COUNTIF(L23:Q23,23)+COUNTIF(L23:Q23,24)+COUNTIF(L23:Q23,25)+COUNTIF(L23:Q23,26)+COUNTIF(L23:Q23,27)+COUNTIF(L23:Q23,28)+COUNTIF(L23:Q23,29)+COUNTIF(L23:Q23,30)+COUNTIF(L23:Q23,31)+COUNTIF(L23:Q23,32)+COUNTIF(L23:Q23,33)+COUNTIF(L23:Q23,34)+COUNTIF(L23:Q23,35)+COUNTIF(L23:Q23,36)+COUNTIF(L23:Q23,37)+COUNTIF(L23:Q23,38)+COUNTIF(L23:Q23,39)+COUNTIF(L23:Q23,40)+COUNTIF(L23:Q23,41)+COUNTIF(L23:Q23,42)+COUNTIF(L23:Q23,43)+COUNTIF(L23:Q23,44)+COUNTIF(L23:Q23,45)+COUNTIF(L23:Q23,46)+COUNTIF(L23:Q23,47)+COUNTIF(L23:Q23,48)+COUNTIF(L23:Q23,49)+COUNTIF(L23:Q23,50)+COUNTIF(L23:Q23,51)+COUNTIF(L23:Q23,52)+COUNTIF(L23:Q23,53)+COUNTIF(L23:Q23,54)+COUNTIF(L23:Q23,55)+COUNTIF(L23:Q23,56)+COUNTIF(L23:Q23,57)+COUNTIF(L23:Q23,58)+COUNTIF(L23:Q23,59) -> 0 | U23: Gary Edmonds | Y23: Julia Revill
A24: 21 | B24: Henry Piper | I24: =COUNTIF(C24:H24,1)+COUNTIF(C24:H24,2)+COUNTIF(C24:H24,3)+COUNTIF(C24:H24,4)+COUNTIF(C24:H24,5)+COUNTIF(C24:H24,6)+COUNTIF(C24:H24,7)+COUNTIF(C24:H24,8)+COUNTIF(C24:H24,9)+COUNTIF(C24:H24,10)+COUNTIF(C24:H24,11)+COUNTIF(C24:H24,12)+COUNTIF(C24:H24,13)+COUNTIF(C24:H24,14)+COUNTIF(C24:H24,15)+COUNTIF(C24:H24,16)+COUNTIF(C24:H24,17)+COUNTIF(C24:H24,18)+COUNTIF(C24:H24,19)+COUNTIF(C24:H24,20)+COUNTIF(C24:H24,21)+COUNTIF(C24:H24,22)+COUNTIF(C24:H24,23)+COUNTIF(C24:H24,24)+COUNTIF(C24:H24,25)+COUNTIF(C24:H24,26)+COUNTIF(C24:H24,27)+COUNTIF(C24:H24,28)+COUNTIF(C24:H24,29)+COUNTIF(C24:H24,30)+COUNTIF(C24:H24,31)+COUNTIF(C24:H24,32)+COUNTIF(C24:H24,33)+COUNTIF(C24:H24,34)+COUNTIF(C24:H24,35)+COUNTIF(C24:H24,36)+COUNTIF(C24:H24,37)+COUNTIF(C24:H24,38)+COUNTIF(C24:H24,39)+COUNTIF(C24:H24,40)+COUNTIF(C24:H24,41)+COUNTIF(C24:H24,42)+COUNTIF(C24:H24,43)+COUNTIF(C24:H24,44)+COUNTIF(C24:H24,45)+COUNTIF(C24:H24,46)+COUNTIF(C24:H24,47)+COUNTIF(C24:H24,48)+COUNTIF(C24:H24,49)+COUNTIF(C24:H24,50)+COUNTIF(C24:H24,51)+COUNTIF(C24:H24,52)+COUNTIF(C24:H24,53)+COUNTIF(C24:H24,54)+COUNTIF(C24:H24,55)+COUNTIF(C24:H24,56)+COUNTIF(C24:H24,57)+COUNTIF(C24:H24,58)+COUNTIF(C24:H24,59) -> 0 | J24: 21 | K24: Lauren Field | R24: =COUNTIF(L24:Q24,1)+COUNTIF(L24:Q24,2)+COUNTIF(L24:Q24,3)+COUNTIF(L24:Q24,4)+COUNTIF(L24:Q24,5)+COUNTIF(L24:Q24,6)+COUNTIF(L24:Q24,7)+COUNTIF(L24:Q24,8)+COUNTIF(L24:Q24,9)+COUNTIF(L24:Q24,10)+COUNTIF(L24:Q24,11)+COUNTIF(L24:Q24,12)+COUNTIF(L24:Q24,13)+COUNTIF(L24:Q24,14)+COUNTIF(L24:Q24,15)+COUNTIF(L24:Q24,16)+COUNTIF(L24:Q24,17)+COUNTIF(L24:Q24,18)+COUNTIF(L24:Q24,19)+COUNTIF(L24:Q24,20)+COUNTIF(L24:Q24,21)+COUNTIF(L24:Q24,22)+COUNTIF(L24:Q24,23)+COUNTIF(L24:Q24,24)+COUNTIF(L24:Q24,25)+COUNTIF(L24:Q24,26)+COUNTIF(L24:Q24,27)+COUNTIF(L24:Q24,28)+COUNTIF(L24:Q24,29)+COUNTIF(L24:Q24,30)+COUNTIF(L24:Q24,31)+COUNTIF(L24:Q24,32)+COUNTIF(L24:Q24,33)+COUNTIF(L24:Q24,34)+COUNTIF(L24:Q24,35)+COUNTIF(L24:Q24,36)+COUNTIF(L24:Q24,37)+COUNTIF(L24:Q24,38)+COUNTIF(L24:Q24,39)+COUNTIF(L24:Q24,40)+COUNTIF(L24:Q24,41)+COUNTIF(L24:Q24,42)+COUNTIF(L24:Q24,43)+COUNTIF(L24:Q24,44)+COUNTIF(L24:Q24,45)+COUNTIF(L24:Q24,46)+COUNTIF(L24:Q24,47)+COUNTIF(L24:Q24,48)+COUNTIF(L24:Q24,49)+COUNTIF(L24:Q24,50)+COUNTIF(L24:Q24,51)+COUNTIF(L24:Q24,52)+COUNTIF(L24:Q24,53)+COUNTIF(L24:Q24,54)+COUNTIF(L24:Q24,55)+COUNTIF(L24:Q24,56)+COUNTIF(L24:Q24,57)+COUNTIF(L24:Q24,58)+COUNTIF(L24:Q24,59) -> 0 | U24: Gary McCawley | Y24: Karis Yates
A25: 22 | B25: Jeffrey Streeter | I25: =COUNTIF(C25:H25,1)+COUNTIF(C25:H25,2)+COUNTIF(C25:H25,3)+COUNTIF(C25:H25,4)+COUNTIF(C25:H25,5)+COUNTIF(C25:H25,6)+COUNTIF(C25:H25,7)+COUNTIF(C25:H25,8)+COUNTIF(C25:H25,9)+COUNTIF(C25:H25,10)+COUNTIF(C25:H25,11)+COUNTIF(C25:H25,12)+COUNTIF(C25:H25,13)+COUNTIF(C25:H25,14)+COUNTIF(C25:H25,15)+COUNTIF(C25:H25,16)+COUNTIF(C25:H25,17)+COUNTIF(C25:H25,18)+COUNTIF(C25:H25,19)+COUNTIF(C25:H25,20)+COUNTIF(C25:H25,21)+COUNTIF(C25:H25,22)+COUNTIF(C25:H25,23)+COUNTIF(C25:H25,24)+COUNTIF(C25:H25,25)+COUNTIF(C25:H25,26)+COUNTIF(C25:H25,27)+COUNTIF(C25:H25,28)+COUNTIF(C25:H25,29)+COUNTIF(C25:H25,30)+COUNTIF(C25:H25,31)+COUNTIF(C25:H25,32)+COUNTIF(C25:H25,33)+COUNTIF(C25:H25,34)+COUNTIF(C25:H25,35)+COUNTIF(C25:H25,36)+COUNTIF(C25:H25,37)+COUNTIF(C25:H25,38)+COUNTIF(C25:H25,39)+COUNTIF(C25:H25,40)+COUNTIF(C25:H25,41)+COUNTIF(C25:H25,42)+COUNTIF(C25:H25,43)+COUNTIF(C25:H25,44)+COUNTIF(C25:H25,45)+COUNTIF(C25:H25,46)+COUNTIF(C25:H25,47)+COUNTIF(C25:H25,48)+COUNTIF(C25:H25,49)+COUNTIF(C25:H25,50)+COUNTIF(C25:H25,51)+COUNTIF(C25:H25,52)+COUNTIF(C25:H25,53)+COUNTIF(C25:H25,54)+COUNTIF(C25:H25,55)+COUNTIF(C25:H25,56)+COUNTIF(C25:H25,57)+COUNTIF(C25:H25,58)+COUNTIF(C25:H25,59) -> 0 | J25: 22 | K25: Linda Taylor | R25: =COUNTIF(L25:Q25,1)+COUNTIF(L25:Q25,2)+COUNTIF(L25:Q25,3)+COUNTIF(L25:Q25,4)+COUNTIF(L25:Q25,5)+COUNTIF(L25:Q25,6)+COUNTIF(L25:Q25,7)+COUNTIF(L25:Q25,8)+COUNTIF(L25:Q25,9)+COUNTIF(L25:Q25,10)+COUNTIF(L25:Q25,11)+COUNTIF(L25:Q25,12)+COUNTIF(L25:Q25,13)+COUNTIF(L25:Q25,14)+COUNTIF(L25:Q25,15)+COUNTIF(L25:Q25,16)+COUNTIF(L25:Q25,17)+COUNTIF(L25:Q25,18)+COUNTIF(L25:Q25,19)+COUNTIF(L25:Q25,20)+COUNTIF(L25:Q25,21)+COUNTIF(L25:Q25,22)+COUNTIF(L25:Q25,23)+COUNTIF(L25:Q25,24)+COUNTIF(L25:Q25,25)+COUNTIF(L25:Q25,26)+COUNTIF(L25:Q25,27)+COUNTIF(L25:Q25,28)+COUNTIF(L25:Q25,29)+COUNTIF(L25:Q25,30)+COUNTIF(L25:Q25,31)+COUNTIF(L25:Q25,32)+COUNTIF(L25:Q25,33)+COUNTIF(L25:Q25,34)+COUNTIF(L25:Q25,35)+COUNTIF(L25:Q25,36)+COUNTIF(L25:Q25,37)+COUNTIF(L25:Q25,38)+COUNTIF(L25:Q25,39)+COUNTIF(L25:Q25,40)+COUNTIF(L25:Q25,41)+COUNTIF(L25:Q25,42)+COUNTIF(L25:Q25,43)+COUNTIF(L25:Q25,44)+COUNTIF(L25:Q25,45)+COUNTIF(L25:Q25,46)+COUNTIF(L25:Q25,47)+COUNTIF(L25:Q25,48)+COUNTIF(L25:Q25,49)+COUNTIF(L25:Q25,50)+COUNTIF(L25:Q25,51)+COUNTIF(L25:Q25,52)+COUNTIF(L25:Q25,53)+COUNTIF(L25:Q25,54)+COUNTIF(L25:Q25,55)+COUNTIF(L25:Q25,56)+COUNTIF(L25:Q25,57)+COUNTIF(L25:Q25,58)+COUNTIF(L25:Q25,59) -> 0 | U25: George Sutherland | Y25: Katie Edmonds
A26: 23 | B26: John Aldwinkle | I26: =COUNTIF(C26:H26,1)+COUNTIF(C26:H26,2)+COUNTIF(C26:H26,3)+COUNTIF(C26:H26,4)+COUNTIF(C26:H26,5)+COUNTIF(C26:H26,6)+COUNTIF(C26:H26,7)+COUNTIF(C26:H26,8)+COUNTIF(C26:H26,9)+COUNTIF(C26:H26,10)+COUNTIF(C26:H26,11)+COUNTIF(C26:H26,12)+COUNTIF(C26:H26,13)+COUNTIF(C26:H26,14)+COUNTIF(C26:H26,15)+COUNTIF(C26:H26,16)+COUNTIF(C26:H26,17)+COUNTIF(C26:H26,18)+COUNTIF(C26:H26,19)+COUNTIF(C26:H26,20)+COUNTIF(C26:H26,21)+COUNTIF(C26:H26,22)+COUNTIF(C26:H26,23)+COUNTIF(C26:H26,24)+COUNTIF(C26:H26,25)+COUNTIF(C26:H26,26)+COUNTIF(C26:H26,27)+COUNTIF(C26:H26,28)+COUNTIF(C26:H26,29)+COUNTIF(C26:H26,30)+COUNTIF(C26:H26,31)+COUNTIF(C26:H26,32)+COUNTIF(C26:H26,33)+COUNTIF(C26:H26,34)+COUNTIF(C26:H26,35)+COUNTIF(C26:H26,36)+COUNTIF(C26:H26,37)+COUNTIF(C26:H26,38)+COUNTIF(C26:H26,39)+COUNTIF(C26:H26,40)+COUNTIF(C26:H26,41)+COUNTIF(C26:H26,42)+COUNTIF(C26:H26,43)+COUNTIF(C26:H26,44)+COUNTIF(C26:H26,45)+COUNTIF(C26:H26,46)+COUNTIF(C26:H26,47)+COUNTIF(C26:H26,48)+COUNTIF(C26:H26,49)+COUNTIF(C26:H26,50)+COUNTIF(C26:H26,51)+COUNTIF(C26:H26,52)+COUNTIF(C26:H26,53)+COUNTIF(C26:H26,54)+COUNTIF(C26:H26,55)+COUNTIF(C26:H26,56)+COUNTIF(C26:H26,57)+COUNTIF(C26:H26,58)+COUNTIF(C26:H26,59) -> 0 | J26: 23 | K26: Lisa Peckover | L26: 2 | R26: =COUNTIF(L26:Q26,1)+COUNTIF(L26:Q26,2)+COUNTIF(L26:Q26,3)+COUNTIF(L26:Q26,4)+COUNTIF(L26:Q26,5)+COUNTIF(L26:Q26,6)+COUNTIF(L26:Q26,7)+COUNTIF(L26:Q26,8)+COUNTIF(L26:Q26,9)+COUNTIF(L26:Q26,10)+COUNTIF(L26:Q26,11)+COUNTIF(L26:Q26,12)+COUNTIF(L26:Q26,13)+COUNTIF(L26:Q26,14)+COUNTIF(L26:Q26,15)+COUNTIF(L26:Q26,16)+COUNTIF(L26:Q26,17)+COUNTIF(L26:Q26,18)+COUNTIF(L26:Q26,19)+COUNTIF(L26:Q26,20)+COUNTIF(L26:Q26,21)+COUNTIF(L26:Q26,22)+COUNTIF(L26:Q26,23)+COUNTIF(L26:Q26,24)+COUNTIF(L26:Q26,25)+COUNTIF(L26:Q26,26)+COUNTIF(L26:Q26,27)+COUNTIF(L26:Q26,28)+COUNTIF(L26:Q26,29)+COUNTIF(L26:Q26,30)+COUNTIF(L26:Q26,31)+COUNTIF(L26:Q26,32)+COUNTIF(L26:Q26,33)+COUNTIF(L26:Q26,34)+COUNTIF(L26:Q26,35)+COUNTIF(L26:Q26,36)+COUNTIF(L26:Q26,37)+COUNTIF(L26:Q26,38)+COUNTIF(L26:Q26,39)+COUNTIF(L26:Q26,40)+COUNTIF(L26:Q26,41)+COUNTIF(L26:Q26,42)+COUNTIF(L26:Q26,43)+COUNTIF(L26:Q26,44)+COUNTIF(L26:Q26,45)+COUNTIF(L26:Q26,46)+COUNTIF(L26:Q26,47)+COUNTIF(L26:Q26,48)+COUNTIF(L26:Q26,49)+COUNTIF(L26:Q26,50)+COUNTIF(L26:Q26,51)+COUNTIF(L26:Q26,52)+COUNTIF(L26:Q26,53)+COUNTIF(L26:Q26,54)+COUNTIF(L26:Q26,55)+COUNTIF(L26:Q26,56)+COUNTIF(L26:Q26,57)+COUNTIF(L26:Q26,58)+COUNTIF(L26:Q26,59) -> 1 | U26: Graham Clarke | Y26: Kayleigh Gyles
A27: 24 | B27: John Motershead | C27: 21 | I27: =COUNTIF(C27:H27,1)+COUNTIF(C27:H27,2)+COUNTIF(C27:H27,3)+COUNTIF(C27:H27,4)+COUNTIF(C27:H27,5)+COUNTIF(C27:H27,6)+COUNTIF(C27:H27,7)+COUNTIF(C27:H27,8)+COUNTIF(C27:H27,9)+COUNTIF(C27:H27,10)+COUNTIF(C27:H27,11)+COUNTIF(C27:H27,12)+COUNTIF(C27:H27,13)+COUNTIF(C27:H27,14)+COUNTIF(C27:H27,15)+COUNTIF(C27:H27,16)+COUNTIF(C27:H27,17)+COUNTIF(C27:H27,18)+COUNTIF(C27:H27,19)+COUNTIF(C27:H27,20)+COUNTIF(C27:H27,21)+COUNTIF(C27:H27,22)+COUNTIF(C27:H27,23)+COUNTIF(C27:H27,24)+COUNTIF(C27:H27,25)+COUNTIF(C27:H27,26)+COUNTIF(C27:H27,27)+COUNTIF(C27:H27,28)+COUNTIF(C27:H27,29)+COUNTIF(C27:H27,30)+COUNTIF(C27:H27,31)+COUNTIF(C27:H27,32)+COUNTIF(C27:H27,33)+COUNTIF(C27:H27,34)+COUNTIF(C27:H27,35)+COUNTIF(C27:H27,36)+COUNTIF(C27:H27,37)+COUNTIF(C27:H27,38)+COUNTIF(C27:H27,39)+COUNTIF(C27:H27,40)+COUNTIF(C27:H27,41)+COUNTIF(C27:H27,42)+COUNTIF(C27:H27,43)+COUNTIF(C27:H27,44)+COUNTIF(C27:H27,45)+COUNTIF(C27:H27,46)+COUNTIF(C27:H27,47)+COUNTIF(C27:H27,48)+COUNTIF(C27:H27,49)+COUNTIF(C27:H27,50)+COUNTIF(C27:H27,51)+COUNTIF(C27:H27,52)+COUNTIF(C27:H27,53)+COUNTIF(C27:H27,54)+COUNTIF(C27:H27,55)+COUNTIF(C27:H27,56)+COUNTIF(C27:H27,57)+COUNTIF(C27:H27,58)+COUNTIF(C27:H27,59) -> 1 | J27: 24 | K27: Nikki Thomas | R27: =COUNTIF(L27:Q27,1)+COUNTIF(L27:Q27,2)+COUNTIF(L27:Q27,3)+COUNTIF(L27:Q27,4)+COUNTIF(L27:Q27,5)+COUNTIF(L27:Q27,6)+COUNTIF(L27:Q27,7)+COUNTIF(L27:Q27,8)+COUNTIF(L27:Q27,9)+COUNTIF(L27:Q27,10)+COUNTIF(L27:Q27,11)+COUNTIF(L27:Q27,12)+COUNTIF(L27:Q27,13)+COUNTIF(L27:Q27,14)+COUNTIF(L27:Q27,15)+COUNTIF(L27:Q27,16)+COUNTIF(L27:Q27,17)+COUNTIF(L27:Q27,18)+COUNTIF(L27:Q27,19)+COUNTIF(L27:Q27,20)+COUNTIF(L27:Q27,21)+COUNTIF(L27:Q27,22)+COUNTIF(L27:Q27,23)+COUNTIF(L27:Q27,24)+COUNTIF(L27:Q27,25)+COUNTIF(L27:Q27,26)+COUNTIF(L27:Q27,27)+COUNTIF(L27:Q27,28)+COUNTIF(L27:Q27,29)+COUNTIF(L27:Q27,30)+COUNTIF(L27:Q27,31)+COUNTIF(L27:Q27,32)+COUNTIF(L27:Q27,33)+COUNTIF(L27:Q27,34)+COUNTIF(L27:Q27,35)+COUNTIF(L27:Q27,36)+COUNTIF(L27:Q27,37)+COUNTIF(L27:Q27,38)+COUNTIF(L27:Q27,39)+COUNTIF(L27:Q27,40)+COUNTIF(L27:Q27,41)+COUNTIF(L27:Q27,42)+COUNTIF(L27:Q27,43)+COUNTIF(L27:Q27,44)+COUNTIF(L27:Q27,45)+COUNTIF(L27:Q27,46)+COUNTIF(L27:Q27,47)+COUNTIF(L27:Q27,48)+COUNTIF(L27:Q27,49)+COUNTIF(L27:Q27,50)+COUNTIF(L27:Q27,51)+COUNTIF(L27:Q27,52)+COUNTIF(L27:Q27,53)+COUNTIF(L27:Q27,54)+COUNTIF(L27:Q27,55)+COUNTIF(L27:Q27,56)+COUNTIF(L27:Q27,57)+COUNTIF(L27:Q27,58)+COUNTIF(L27:Q27,59) -> 0 | U27: Harry Woodroof | Y27: Kimberley Churchill
